Workbook

Sheet Efinal (GWh)
A1: DISTRIBUCIÓN DO CONSUMO NA CORUÑA (GWh)
B2: 2016 | C2: 2017 | D2: 2018 | E2: 2019 | F2: 2020 | G2: 2021
A3: Consumo final electricidade | B3: ='Efinal (ktep)'!B3/0.086 -> 7898.2385 | C3: ='Efinal (ktep)'!C3/0.086 -> 7913.2284 | D3: ='Efinal (ktep)'!D3/0.086 -> 8203.5325 | E3: ='Efinal (ktep)'!E3/0.086 -> 6675.8772 | F3: ='Efinal (ktep)'!F3/0.086 -> 6065.1549 | G3: ='Efinal (ktep)'!G3/0.086 -> 6420.9285
A4: Consumo calor coxeración | B4: =SUM(B5:B10) -> 777.56076 | C4: =SUM(C5:C10) -> 764.92882 | D4: =SUM(D5:D10) -> 699.35294 | E4: =SUM(E5:E10) -> 639.90118 | F4: =SUM(F5:F10) -> 575.33371 | G4: =SUM(G5:G10) -> 1716.2441
A5: Calor coxeración produtos petrolíferos | B5: ='Efinal (ktep)'!B5/0.086 -> 270.58057 | C5: ='Efinal (ktep)'!C5/0.086 -> 264.70993 | D5: ='Efinal (ktep)'!D5/0.086 -> 260.98949 | E5: ='Efinal (ktep)'!E5/0.086 -> 251.47726 | F5: ='Efinal (ktep)'!F5/0.086 -> 205.26459 | G5: ='Efinal (ktep)'!G5/0.086 -> 483.71588
A6: Calor coxeración gas natural | B6: ='Efinal (ktep)'!B6/0.086 -> 435.05562 | C6: ='Efinal (ktep)'!C6/0.086 -> 433.92818 | D6: ='Efinal (ktep)'!D6/0.086 -> 369.5868 | E6: ='Efinal (ktep)'!E6/0.086 -> 368.3157 | F6: ='Efinal (ktep)'!F6/0.086 -> 336.90168 | G6: ='Efinal (ktep)'!G6/0.086 -> 1227.9754
A7: Calor centrais residuos non renovables | B7: ='Efinal (ktep)'!B7/0.086 -> 71.924571 | C7: ='Efinal (ktep)'!C7/0.086 -> 65.078939 | D7: ='Efinal (ktep)'!D7/0.086 -> 61.715866 | E7: ='Efinal (ktep)'!E7/0.086 -> 19.703608 | F7: ='Efinal (ktep)'!F7/0.086 -> 27.877299 | G7: ='Efinal (ktep)'!G7/0.086 -> 4.5528891
A8: Calor centrais residuos renovables | B8: ='Efinal (ktep)'!B8/0.086 -> 0 | C8: ='Efinal (ktep)'!C8/0.086 -> 1.2117698 | D8: ='Efinal (ktep)'!D8/0.086 -> 7.0607794 | E8: ='Efinal (ktep)'!E8/0.086 -> 0.40461042 | F8: ='Efinal (ktep)'!F8/0.086 -> 5.2901411 | G8: ='Efinal (ktep)'!G8/0.086 -> 0
A9: Calor centrais de biomasa e residuos da biomasa | B9: ='Efinal (ktep)'!B9/0.086 -> 0 | C9: ='Efinal (ktep)'!C9/0.086 -> 0 | D9: ='Efinal (ktep)'!D9/0.086 -> 0 | E9: ='Efinal (ktep)'!E9/0.086 -> 0 | F9: ='Efinal (ktep)'!F9/0.086 -> 0 | G9: ='Efinal (ktep)'!G9/0.086 -> 0
A10: Calor centrais de biogás | B10: ='Efinal (ktep)'!B10/0.086 -> 0 | C10: ='Efinal (ktep)'!C10/0.086 -> 0 | D10: ='Efinal (ktep)'!D10/0.086 -> 0 | E10: ='Efinal (ktep)'!E10/0.086 -> 0 | F10: ='Efinal (ktep)'!F10/0.086 -> 0 | G10: ='Efinal (ktep)'!G10/0.086 -> 0
A11: Combustibles convencionais uso térmico | B11: =SUM(B12:B18) -> 6713.751 | C11: =SUM(C12:C18) -> 6888.8045 | D11: =SUM(D12:D18) -> 7462.2932 | E11: =SUM(E12:E18) -> 7451.5987 | F11: =SUM(F12:F18) -> 6115.8452 | G11: =SUM(G12:G18) -> 7416.1265
A12: Gas natural para combustión y distric heating | B12: ='Efinal (ktep)'!B12/0.086 -> 3603.1363 | C12: ='Efinal (ktep)'!C12/0.086 -> 3864.6778 | D12: ='Efinal (ktep)'!D12/0.086 -> 4234.8289 | E12: ='Efinal (ktep)'!E12/0.086 -> 4179.2654 | F12: ='Efinal (ktep)'!F12/0.086 -> 3417.4318 | G12: ='Efinal (ktep)'!G12/0.086 -> 4942.6481
A13: Residuos non renovables para combustión (incluidas la Eresiduales Repsol) | B13: ='Efinal (ktep)'!B13/0.086 -> 1697.2364 | C13: ='Efinal (ktep)'!C13/0.086 -> 1681.0279 | D13: ='Efinal (ktep)'!D13/0.086 -> 1832.3308 | E13: ='Efinal (ktep)'!E13/0.086 -> 1858.5904 | F13: ='Efinal (ktep)'!F13/0.086 -> 1353.482 | G13: ='Efinal (ktep)'!G13/0.086 -> 1344.371
A14: Fuel para combustión | B14: ='Efinal (ktep)'!B14/0.086 -> 59.149604 | C14: ='Efinal (ktep)'!C14/0.086 -> 70.92453 | D14: ='Efinal (ktep)'!D14/0.086 -> 28.724956 | E14: ='Efinal (ktep)'!E14/0.086 -> 96.456417 | F14: ='Efinal (ktep)'!F14/0.086 -> 62.173149 | G14: ='Efinal (ktep)'!G14/0.086 -> 16.126373
A15: Gasóleo C para combustión | B15: ='Efinal (ktep)'!B15/0.086 -> 834.26457 | C15: ='Efinal (ktep)'!C15/0.086 -> 662.82889 | D15: ='Efinal (ktep)'!D15/0.086 -> 772.45894 | E15: ='Efinal (ktep)'!E15/0.086 -> 747.06554 | F15: ='Efinal (ktep)'!F15/0.086 -> 769.2691 | G15: ='Efinal (ktep)'!G15/0.086 -> 588.65488
A16: GLP para combustión | B16: ='Efinal (ktep)'!B16/0.086 -> 498.7942 | C16: ='Efinal (ktep)'!C16/0.086 -> 595.99314 | D16: ='Efinal (ktep)'!D16/0.086 -> 574.45876 | E16: ='Efinal (ktep)'!E16/0.086 -> 553.08422 | F16: ='Efinal (ktep)'!F16/0.086 -> 502.23351 | G16: ='Efinal (ktep)'!G16/0.086 -> 511.94228
A17: Coque para combustión | B17: ='Efinal (ktep)'!B17/0.086 -> 21.169907 | C17: ='Efinal (ktep)'!C17/0.086 -> 13.352233 | D17: ='Efinal (ktep)'!D17/0.086 -> 19.490884 | E17: ='Efinal (ktep)'!E17/0.086 -> 17.136698 | F17: ='Efinal (ktep)'!F17/0.086 -> 11.255674 | G17: ='Efinal (ktep)'!G17/0.086 -> 12.383907
A18: Carbón para combustión | B18: ='Efinal (ktep)'!B18/0.086 -> 0 | C18: ='Efinal (ktep)'!C18/0.086 -> 0 | D18: ='Efinal (ktep)'!D18/0.086 -> 0 | E18: ='Efinal (ktep)'!E18/0.086 -> 0 | F18: ='Efinal (ktep)'!F18/0.086 -> 0 | G18: ='Efinal (ktep)'!G18/0.086 -> 0
A19: Renovables uso térmico | B19: =SUM(B20:B29) -> 2636.965 | C19: =SUM(C20:C29) -> 2665.5581 | D19: =SUM(D20:D29) -> 2711.8476 | E19: =SUM(E20:E29) -> 2732.3085 | F19: =SUM(F20:F29) -> 2745.1634 | G19: =SUM(G20:G29) -> 2772.1325
A20: Biomasa sólida para combustión con distric heating | B20: ='Efinal (ktep)'!B20/0.086 -> 2487.3638 | C20: ='Efinal (ktep)'!C20/0.086 -> 2512.0566 | D20: ='Efinal (ktep)'!D20/0.086 -> 2552.7839 | E20: ='Efinal (ktep)'!E20/0.086 -> 2567.4873 | F20: ='Efinal (ktep)'!F20/0.086 -> 2575.5255 | G20: ='Efinal (ktep)'!G20/0.086 -> 2591.6704
A21: Biogás para combustión (con el inyectado al gasoducto) | B21: ='Efinal (ktep)'!B21/0.086 -> 17.815203 | C21: ='Efinal (ktep)'!C21/0.086 -> 17.815203 | D21: ='Efinal (ktep)'!D21/0.086 -> 17.815203 | E21: ='Efinal (ktep)'!E21/0.086 -> 17.815203 | F21: ='Efinal (ktep)'!F21/0.086 -> 17.815203 | G21: ='Efinal (ktep)'!G21/0.086 -> 17.815203
A22: Solar térmica | B22: ='Efinal (ktep)'!B22/0.086 -> 25.425629 | C22: ='Efinal (ktep)'!C22/0.086 -> 26.309292 | D22: ='Efinal (ktep)'!D22/0.086 -> 26.913284 | E22: ='Efinal (ktep)'!E22/0.086 -> 27.728168 | F22: ='Efinal (ktep)'!F22/0.086 -> 29.69865 | G22: ='Efinal (ktep)'!G22/0.086 -> 29.965666
A23: Distric heating con xeotermia | B23: ='Efinal (ktep)'!B23/0.086 -> 0 | C23: ='Efinal (ktep)'!C23/0.086 -> 0 | D23: ='Efinal (ktep)'!D23/0.086 -> 0 | E23: ='Efinal (ktep)'!E23/0.086 -> 0 | F23: ='Efinal (ktep)'!F23/0.086 -> 0 | G23: ='Efinal (ktep)'!G23/0.086 -> 0
A24: Xeotermia pura | B24: ='Efinal (ktep)'!B24/0.086 -> 0 | C24: ='Efinal (ktep)'!C24/0.086 -> 0 | D24: ='Efinal (ktep)'!D24/0.086 -> 0 | E24: ='Efinal (ktep)'!E24/0.086 -> 0 | F24: ='Efinal (ktep)'!F24/0.086 -> 0 | G24: ='Efinal (ktep)'!G24/0.086 -> 0
A25: Calor renovable bomba calor xeotérmica | B25: ='Efinal (ktep)'!B25/0.086 -> 8.4420691 | C25: ='Efinal (ktep)'!C25/0.086 -> 8.8906227 | D25: ='Efinal (ktep)'!D25/0.086 -> 9.3702424 | E25: ='Efinal (ktep)'!E25/0.086 -> 10.637847 | F25: ='Efinal (ktep)'!F25/0.086 -> 11.705564 | G25: ='Efinal (ktep)'!G25/0.086 -> 12.725431
A26: Calor renovable bomba calor hidrotérmica | B26: ='Efinal (ktep)'!B26/0.086 -> 0 | C26: ='Efinal (ktep)'!C26/0.086 -> 0 | D26: ='Efinal (ktep)'!D26/0.086 -> 0 | E26: ='Efinal (ktep)'!E26/0.086 -> 0 | F26: ='Efinal (ktep)'!F26/0.086 -> 0 | G26: ='Efinal (ktep)'!G26/0.086 -> 0
A27: Calor renovable bomba calor aerotérmica | B27: ='Efinal (ktep)'!B27/0.086 -> 27.043877 | C27: ='Efinal (ktep)'!C27/0.086 -> 29.612016 | D27: ='Efinal (ktep)'!D27/0.086 -> 34.090569 | E27: ='Efinal (ktep)'!E27/0.086 -> 37.765626 | F27: ='Efinal (ktep)'!F27/0.086 -> 39.544176 | G27: ='Efinal (ktep)'!G27/0.086 -> 43.502719
A28: Hidrógeno Verde uso térmico | B28: ='Efinal (ktep)'!B28/0.086 -> 0 | C28: ='Efinal (ktep)'!C28/0.086 -> 0 | D28: ='Efinal (ktep)'!D28/0.086 -> 0 | E28: ='Efinal (ktep)'!E28/0.086 -> 0 | F28: ='Efinal (ktep)'!F28/0.086 -> 0 | G28: ='Efinal (ktep)'!G28/0.086 -> 0
A29: Residuos renovables para combustión | B29: ='Efinal (ktep)'!B29/0.086 -> 70.874384 | C29: ='Efinal (ktep)'!C29/0.086 -> 70.874384 | D29: ='Efinal (ktep)'!D29/0.086 -> 70.874384 | E29: ='Efinal (ktep)'!E29/0.086 -> 70.874384 | F29: ='Efinal (ktep)'!F29/0.086 -> 70.874384 | G29: ='Efinal (ktep)'!G29/0.086 -> 76.453073
A30: Combustibles para transporte | B30: =B31+B38+B41+B46+B50+B53 -> 9862.7212 | C30: =C31+C38+C41+C46+C50+C53 -> 9936.5796 | D30: =D31+D38+D41+D46+D50+D53 -> 9947.4021 | E30: =E31+E38+E41+E46+E50+E53 -> 10195.132 | F30: =F31+F38+F41+F46+F50+F53 -> 7568.4545 | G30: =G31+G38+G41+G46+G50+G53 -> 9104.7628
A31: Combustibles transporte urbano e por estrada | B31: =SUM(B32:B37) -> 7232.3005 | C31: =SUM(C32:C37) -> 7089.4749 | D31: =SUM(D32:D37) -> 7033.5191 | E31: =SUM(E32:E37) -> 6970.7045 | F31: =SUM(F32:F37) -> 5076.3566 | G31: =SUM(G32:G37) -> 6697.1678
A32: Gasolina 95 I.O. | B32: ='Efinal (ktep)'!B32/0.086 -> 1043.6589 | C32: ='Efinal (ktep)'!C32/0.086 -> 1050.8368 | D32: ='Efinal (ktep)'!D32/0.086 -> 1060.296 | E32: ='Efinal (ktep)'!E32/0.086 -> 1113.6866 | F32: ='Efinal (ktep)'!F32/0.086 -> 813.97233 | G32: ='Efinal (ktep)'!G32/0.086 -> 1111.7996
A33: Gasolina 98 I.O. | B33: ='Efinal (ktep)'!B33/0.086 -> 63.241589 | C33: ='Efinal (ktep)'!C33/0.086 -> 64.644282 | D33: ='Efinal (ktep)'!D33/0.086 -> 64.670163 | E33: ='Efinal (ktep)'!E33/0.086 -> 68.717747 | F33: ='Efinal (ktep)'!F33/0.086 -> 61.963068 | G33: ='Efinal (ktep)'!G33/0.086 -> 66.135985
A34: Gasoleo A | B34: ='Efinal (ktep)'!B34/0.086 -> 6032.0813 | C34: ='Efinal (ktep)'!C34/0.086 -> 5877.943 | D34: ='Efinal (ktep)'!D34/0.086 -> 5806.9162 | E34: ='Efinal (ktep)'!E34/0.086 -> 5676.4617 | F34: ='Efinal (ktep)'!F34/0.086 -> 4113.0088 | G34: ='Efinal (ktep)'!G34/0.086 -> 5393.0373
A35: GLP | B35: ='Efinal (ktep)'!B35/0.086 -> 9.8593586 | C35: ='Efinal (ktep)'!C35/0.086 -> 10.087568 | D35: ='Efinal (ktep)'!D35/0.086 -> 13.093661 | E35: ='Efinal (ktep)'!E35/0.086 -> 21.522477 | F35: ='Efinal (ktep)'!F35/0.086 -> 15.155709 | G35: ='Efinal (ktep)'!G35/0.086 -> 25.038425
A36: Gas natural | B36: ='Efinal (ktep)'!B36/0.086 -> 83.458369 | C36: ='Efinal (ktep)'!C36/0.086 -> 85.96212 | D36: ='Efinal (ktep)'!D36/0.086 -> 88.540984 | E36: ='Efinal (ktep)'!E36/0.086 -> 90.311804 | F36: ='Efinal (ktep)'!F36/0.086 -> 72.249443 | G36: ='Efinal (ktep)'!G36/0.086 -> 101.14922
A37: Hidróxeno Verde | B37: ='Efinal (ktep)'!B37/0.086 -> 0.0010415625 | C37: ='Efinal (ktep)'!C37/0.086 -> 0.0010415625 | D37: ='Efinal (ktep)'!D37/0.086 -> 0.002083125 | E37: ='Efinal (ktep)'!E37/0.086 -> 0.00416625 | F37: ='Efinal (ktep)'!F37/0.086 -> 0.0072909375 | G37: ='Efinal (ktep)'!G37/0.086 -> 0.0072909375
A38: Combustibles transporte por ferrocarril | B38: =SUM(B39:B40) -> 17.875179 | C38: =SUM(C39:C40) -> 16.987739 | D38: =SUM(D39:D40) -> 17.133994 | E38: =SUM(E39:E40) -> 17.515513 | F38: =SUM(F39:F40) -> 13.692821 | G38: =SUM(G39:G40) -> 15.510581
A39: Gasóleo B | B39: ='Efinal (ktep)'!B39/0.086 -> 17.875179 | C39: ='Efinal (ktep)'!C39/0.086 -> 16.987739 | D39: ='Efinal (ktep)'!D39/0.086 -> 17.133994 | E39: ='Efinal (ktep)'!E39/0.086 -> 17.515513 | F39: ='Efinal (ktep)'!F39/0.086 -> 13.692821 | G39: ='Efinal (ktep)'!G39/0.086 -> 15.510581
A40: Hidróxeno Verde | B40: ='Efinal (ktep)'!B40/0.086 -> 0 | C40: ='Efinal (ktep)'!C40/0.086 -> 0 | D40: ='Efinal (ktep)'!D40/0.086 -> 0 | E40: ='Efinal (ktep)'!E40/0.086 -> 0 | F40: ='Efinal (ktep)'!F40/0.086 -> 0 | G40: ='Efinal (ktep)'!G40/0.086 -> 0
...

Sheet Efinal (ktep)
A1: DISTRIBUCIÓN DO CONSUMO NA CORUÑA (ktep)
B2: 2016 | C2: 2017 | D2: 2018 | E2: 2019 | F2: 2020 | G2: 2021
A3: Consumo final electricidade | B3: ='Efinal (tep)'!B3/1000 -> 679.24851 | C3: ='Efinal (tep)'!C3/1000 -> 680.53764 | D3: ='Efinal (tep)'!D3/1000 -> 705.50379 | E3: ='Efinal (tep)'!E3/1000 -> 574.12544 | F3: ='Efinal (tep)'!F3/1000 -> 521.60332 | G3: ='Efinal (tep)'!G3/1000 -> 552.19985
A4: Consumo calor coxeración | B4: =SUM(B5:B10) -> 66.870225 | C4: =SUM(C5:C10) -> 65.783879 | D4: =SUM(D5:D10) -> 60.144353 | E4: =SUM(E5:E10) -> 55.031502 | F4: =SUM(F5:F10) -> 49.478699 | G4: =SUM(G5:G10) -> 147.597
A5: Calor coxeración produtos petrolíferos | B5: ='Efinal (tep)'!B5/1000 -> 23.269929 | C5: ='Efinal (tep)'!C5/1000 -> 22.765054 | D5: ='Efinal (tep)'!D5/1000 -> 22.445096 | E5: ='Efinal (tep)'!E5/1000 -> 21.627045 | F5: ='Efinal (tep)'!F5/1000 -> 17.652755 | G5: ='Efinal (tep)'!G5/1000 -> 41.599566
A6: Calor coxeración gas natural | B6: ='Efinal (tep)'!B6/1000 -> 37.414783 | C6: ='Efinal (tep)'!C6/1000 -> 37.317824 | D6: ='Efinal (tep)'!D6/1000 -> 31.784465 | E6: ='Efinal (tep)'!E6/1000 -> 31.675151 | F6: ='Efinal (tep)'!F6/1000 -> 28.973545 | G6: ='Efinal (tep)'!G6/1000 -> 105.60588
A7: Calor centrais residuos non renovables | B7: ='Efinal (tep)'!B7/1000 -> 6.1855131 | C7: ='Efinal (tep)'!C7/1000 -> 5.5967888 | D7: ='Efinal (tep)'!D7/1000 -> 5.3075645 | E7: ='Efinal (tep)'!E7/1000 -> 1.6945103 | F7: ='Efinal (tep)'!F7/1000 -> 2.3974477 | G7: ='Efinal (tep)'!G7/1000 -> 0.39154846
A8: Calor centrais residuos renovables | B8: ='Efinal (tep)'!B8/1000 -> 0 | C8: ='Efinal (tep)'!C8/1000 -> 0.1042122 | D8: ='Efinal (tep)'!D8/1000 -> 0.60722703 | E8: ='Efinal (tep)'!E8/1000 -> 0.034796496 | F8: ='Efinal (tep)'!F8/1000 -> 0.45495214 | G8: ='Efinal (tep)'!G8/1000 -> 0
A9: Calor centrais de biomasa e residuos da biomasa | B9: ='Efinal (tep)'!B9/1000 -> 0 | C9: ='Efinal (tep)'!C9/1000 -> 0 | D9: ='Efinal (tep)'!D9/1000 -> 0 | E9: ='Efinal (tep)'!E9/1000 -> 0 | F9: ='Efinal (tep)'!F9/1000 -> 0 | G9: ='Efinal (tep)'!G9/1000 -> 0
A10: Calor centrais de biogás | B10: ='Efinal (tep)'!B10/1000 -> 0 | C10: ='Efinal (tep)'!C10/1000 -> 0 | D10: ='Efinal (tep)'!D10/1000 -> 0 | E10: ='Efinal (tep)'!E10/1000 -> 0 | F10: ='Efinal (tep)'!F10/1000 -> 0 | G10: ='Efinal (tep)'!G10/1000 -> 0
A11: Combustibles convencionais uso térmico | B11: =SUM(B12:B18) -> 577.38259 | C11: =SUM(C12:C18) -> 592.43719 | D11: =SUM(D12:D18) -> 641.75722 | E11: =SUM(E12:E18) -> 640.83749 | F11: =SUM(F12:F18) -> 525.96269 | G11: =SUM(G12:G18) -> 637.78688
A12: Gas natural para combustión y distric heating | B12: ='Efinal (tep)'!B12/1000 -> 309.86972 | C12: ='Efinal (tep)'!C12/1000 -> 332.36229 | D12: ='Efinal (tep)'!D12/1000 -> 364.19528 | E12: ='Efinal (tep)'!E12/1000 -> 359.41683 | F12: ='Efinal (tep)'!F12/1000 -> 293.89913 | G12: ='Efinal (tep)'!G12/1000 -> 425.06774
A13: Residuos non renovables para combustión (incluidas la Eresiduales Repsol) | B13: ='Efinal (tep)'!B13/1000 -> 145.96233 | C13: ='Efinal (tep)'!C13/1000 -> 144.5684 | D13: ='Efinal (tep)'!D13/1000 -> 157.58045 | E13: ='Efinal (tep)'!E13/1000 -> 159.83878 | F13: ='Efinal (tep)'!F13/1000 -> 116.39945 | G13: ='Efinal (tep)'!G13/1000 -> 115.6159
A14: Fuel para combustión | B14: ='Efinal (tep)'!B14/1000 -> 5.086866 | C14: ='Efinal (tep)'!C14/1000 -> 6.0995096 | D14: ='Efinal (tep)'!D14/1000 -> 2.4703462 | E14: ='Efinal (tep)'!E14/1000 -> 8.2952518 | F14: ='Efinal (tep)'!F14/1000 -> 5.3468908 | G14: ='Efinal (tep)'!G14/1000 -> 1.3868681
A15: Gasóleo C para combustión | B15: ='Efinal (tep)'!B15/1000 -> 71.746753 | C15: ='Efinal (tep)'!C15/1000 -> 57.003284 | D15: ='Efinal (tep)'!D15/1000 -> 66.431469 | E15: ='Efinal (tep)'!E15/1000 -> 64.247637 | F15: ='Efinal (tep)'!F15/1000 -> 66.157143 | G15: ='Efinal (tep)'!G15/1000 -> 50.62432
A16: GLP para combustión | B16: ='Efinal (tep)'!B16/1000 -> 42.896301 | C16: ='Efinal (tep)'!C16/1000 -> 51.25541 | D16: ='Efinal (tep)'!D16/1000 -> 49.403454 | E16: ='Efinal (tep)'!E16/1000 -> 47.565243 | F16: ='Efinal (tep)'!F16/1000 -> 43.192082 | G16: ='Efinal (tep)'!G16/1000 -> 44.027036
A17: Coque para combustión | B17: ='Efinal (tep)'!B17/1000 -> 1.820612 | C17: ='Efinal (tep)'!C17/1000 -> 1.148292 | D17: ='Efinal (tep)'!D17/1000 -> 1.676216 | E17: ='Efinal (tep)'!E17/1000 -> 1.473756 | F17: ='Efinal (tep)'!F17/1000 -> 0.967988 | G17: ='Efinal (tep)'!G17/1000 -> 1.065016
A18: Carbón para combustión | B18: ='Efinal (tep)'!B18/1000 -> 0 | C18: ='Efinal (tep)'!C18/1000 -> 0 | D18: ='Efinal (tep)'!D18/1000 -> 0 | E18: ='Efinal (tep)'!E18/1000 -> 0 | F18: ='Efinal (tep)'!F18/1000 -> 0 | G18: ='Efinal (tep)'!G18/1000 -> 0
A19: Renovables uso térmico | B19: =SUM(B20:B29) -> 226.77899 | C19: =SUM(C20:C29) -> 229.238 | D19: =SUM(D20:D29) -> 233.21889 | E19: =SUM(E20:E29) -> 234.97853 | F19: =SUM(F20:F29) -> 236.08406 | G19: =SUM(G20:G29) -> 238.40339
A20: Biomasa sólida para combustión con distric heating | B20: ='Efinal (tep)'!B20/1000 -> 213.91329 | C20: ='Efinal (tep)'!C20/1000 -> 216.03687 | D20: ='Efinal (tep)'!D20/1000 -> 219.53942 | E20: ='Efinal (tep)'!E20/1000 -> 220.80391 | F20: ='Efinal (tep)'!F20/1000 -> 221.49519 | G20: ='Efinal (tep)'!G20/1000 -> 222.88365
A21: Biogás para combustión (con el inyectado al gasoducto) | B21: ='Efinal (tep)'!B21/1000 -> 1.5321075 | C21: ='Efinal (tep)'!C21/1000 -> 1.5321075 | D21: ='Efinal (tep)'!D21/1000 -> 1.5321075 | E21: ='Efinal (tep)'!E21/1000 -> 1.5321075 | F21: ='Efinal (tep)'!F21/1000 -> 1.5321075 | G21: ='Efinal (tep)'!G21/1000 -> 1.5321075
A22: Solar térmica | B22: ='Efinal (tep)'!B22/1000 -> 2.1866041 | C22: ='Efinal (tep)'!C22/1000 -> 2.2625991 | D22: ='Efinal (tep)'!D22/1000 -> 2.3145424 | E22: ='Efinal (tep)'!E22/1000 -> 2.3846224 | F22: ='Efinal (tep)'!F22/1000 -> 2.5540839 | G22: ='Efinal (tep)'!G22/1000 -> 2.5770473
A23: Distric heating con xeotermia | B23: ='Efinal (tep)'!B23/1000 -> 0 | C23: ='Efinal (tep)'!C23/1000 -> 0 | D23: ='Efinal (tep)'!D23/1000 -> 0 | E23: ='Efinal (tep)'!E23/1000 -> 0 | F23: ='Efinal (tep)'!F23/1000 -> 0 | G23: ='Efinal (tep)'!G23/1000 -> 0
A24: Xeotermia pura | B24: ='Efinal (tep)'!B24/1000 -> 0 | C24: ='Efinal (tep)'!C24/1000 -> 0 | D24: ='Efinal (tep)'!D24/1000 -> 0 | E24: ='Efinal (tep)'!E24/1000 -> 0 | F24: ='Efinal (tep)'!F24/1000 -> 0 | G24: ='Efinal (tep)'!G24/1000 -> 0
A25: Calor renovable bomba calor xeotérmica | B25: ='Efinal (tep)'!B25/1000 -> 0.72601794 | C25: ='Efinal (tep)'!C25/1000 -> 0.76459355 | D25: ='Efinal (tep)'!D25/1000 -> 0.80584084 | E25: ='Efinal (tep)'!E25/1000 -> 0.91485481 | F25: ='Efinal (tep)'!F25/1000 -> 1.0066785 | G25: ='Efinal (tep)'!G25/1000 -> 1.0943871
A26: Calor renovable bomba calor hidrotérmica | B26: ='Efinal (tep)'!B26/1000 -> 0 | C26: ='Efinal (tep)'!C26/1000 -> 0 | D26: ='Efinal (tep)'!D26/1000 -> 0 | E26: ='Efinal (tep)'!E26/1000 -> 0 | F26: ='Efinal (tep)'!F26/1000 -> 0 | G26: ='Efinal (tep)'!G26/1000 -> 0
A27: Calor renovable bomba calor aerotérmica | B27: ='Efinal (tep)'!B27/1000 -> 2.3257734 | C27: ='Efinal (tep)'!C27/1000 -> 2.5466334 | D27: ='Efinal (tep)'!D27/1000 -> 2.9317889 | E27: ='Efinal (tep)'!E27/1000 -> 3.2478439 | F27: ='Efinal (tep)'!F27/1000 -> 3.4007991 | G27: ='Efinal (tep)'!G27/1000 -> 3.7412339
A28: Hidrógeno Verde uso térmico | B28: ='Efinal (tep)'!B28/1000 -> 0 | C28: ='Efinal (tep)'!C28/1000 -> 0 | D28: ='Efinal (tep)'!D28/1000 -> 0 | E28: ='Efinal (tep)'!E28/1000 -> 0 | F28: ='Efinal (tep)'!F28/1000 -> 0 | G28: ='Efinal (tep)'!G28/1000 -> 0
A29: Residuos renovables para combustión | B29: ='Efinal (tep)'!B29/1000 -> 6.095197 | C29: ='Efinal (tep)'!C29/1000 -> 6.095197 | D29: ='Efinal (tep)'!D29/1000 -> 6.095197 | E29: ='Efinal (tep)'!E29/1000 -> 6.095197 | F29: ='Efinal (tep)'!F29/1000 -> 6.095197 | G29: ='Efinal (tep)'!G29/1000 -> 6.5749642
A30: Combustibles para transporte | B30: =B31+B38+B41+B46+B50+B53 -> 848.19402 | C30: =C31+C38+C41+C46+C50+C53 -> 854.54584 | D30: =D31+D38+D41+D46+D50+D53 -> 855.47658 | E30: =E31+E38+E41+E46+E50+E53 -> 876.78132 | F30: =F31+F38+F41+F46+F50+F53 -> 650.88709 | G30: =G31+G38+G41+G46+G50+G53 -> 783.0096
A31: Combustibles transporte urbano e por estrada | B31: =SUM(B32:B37) -> 621.97785 | C31: =SUM(C32:C37) -> 609.69484 | D31: =SUM(D32:D37) -> 604.88264 | E31: =SUM(E32:E37) -> 599.48059 | F31: =SUM(F32:F37) -> 436.56667 | G31: =SUM(G32:G37) -> 575.95643
A32: Gasolina 95 I.O. | B32: ='Efinal (tep)'!B32/1000 -> 89.754661 | C32: ='Efinal (tep)'!C32/1000 -> 90.371969 | D32: ='Efinal (tep)'!D32/1000 -> 91.185457 | E32: ='Efinal (tep)'!E32/1000 -> 95.777049 | F32: ='Efinal (tep)'!F32/1000 -> 70.00162 | G32: ='Efinal (tep)'!G32/1000 -> 95.614766
A33: Gasolina 98 I.O. | B33: ='Efinal (tep)'!B33/1000 -> 5.4387767 | C33: ='Efinal (tep)'!C33/1000 -> 5.5594083 | D33: ='Efinal (tep)'!D33/1000 -> 5.561634 | E33: ='Efinal (tep)'!E33/1000 -> 5.9097262 | F33: ='Efinal (tep)'!F33/1000 -> 5.3288238 | G33: ='Efinal (tep)'!G33/1000 -> 5.6876947
A34: Gasoleo A | B34: ='Efinal (tep)'!B34/1000 -> 518.759 | C34: ='Efinal (tep)'!C34/1000 -> 505.5031 | D34: ='Efinal (tep)'!D34/1000 -> 499.39479 | E34: ='Efinal (tep)'!E34/1000 -> 488.17571 | F34: ='Efinal (tep)'!F34/1000 -> 353.71876 | G34: ='Efinal (tep)'!G34/1000 -> 463.80121
A35: GLP | B35: ='Efinal (tep)'!B35/1000 -> 0.84790484 | C35: ='Efinal (tep)'!C35/1000 -> 0.86753082 | D35: ='Efinal (tep)'!D35/1000 -> 1.1260549 | E35: ='Efinal (tep)'!E35/1000 -> 1.850933 | F35: ='Efinal (tep)'!F35/1000 -> 1.3033909 | G35: ='Efinal (tep)'!G35/1000 -> 2.1533046
A36: Gas natural | B36: ='Efinal (tep)'!B36/1000 -> 7.1774198 | C36: ='Efinal (tep)'!C36/1000 -> 7.3927424 | D36: ='Efinal (tep)'!D36/1000 -> 7.6145246 | E36: ='Efinal (tep)'!E36/1000 -> 7.7668151 | F36: ='Efinal (tep)'!F36/1000 -> 6.2134521 | G36: ='Efinal (tep)'!G36/1000 -> 8.6988329
A37: Hidróxeno Verde | B37: ='Efinal (tep)'!B37/1000 -> 8.9574375e-05 | C37: ='Efinal (tep)'!C37/1000 -> 8.9574375e-05 | D37: ='Efinal (tep)'!D37/1000 -> 0.00017914875 | E37: ='Efinal (tep)'!E37/1000 -> 0.0003582975 | F37: ='Efinal (tep)'!F37/1000 -> 0.00062702063 | G37: ='Efinal (tep)'!G37/1000 -> 0.00062702063
A38: Combustibles transporte por ferrocarril | B38: =SUM(B39:B40) -> 1.5372654 | C38: =SUM(C39:C40) -> 1.4609455 | D38: =SUM(D39:D40) -> 1.4735235 | E38: =SUM(E39:E40) -> 1.5063341 | F38: =SUM(F39:F40) -> 1.1775826 | G38: =SUM(G39:G40) -> 1.3339099
A39: Gasóleo B | B39: ='Efinal (tep)'!B39/1000 -> 1.5372654 | C39: ='Efinal (tep)'!C39/1000 -> 1.4609455 | D39: ='Efinal (tep)'!D39/1000 -> 1.4735235 | E39: ='Efinal (tep)'!E39/1000 -> 1.5063341 | F39: ='Efinal (tep)'!F39/1000 -> 1.1775826 | G39: ='Efinal (tep)'!G39/1000 -> 1.3339099
A40: Hidróxeno Verde | B40: ='Efinal (tep)'!B40/1000 -> 0 | C40: ='Efinal (tep)'!C40/1000 -> 0 | D40: ='Efinal (tep)'!D40/1000 -> 0 | E40: ='Efinal (tep)'!E40/1000 -> 0 | F40: ='Efinal (tep)'!F40/1000 -> 0 | G40: ='Efinal (tep)'!G40/1000 -> 0
...

Sheet Efinal (tep)
A1: DISTRIBUCIÓN DO CONSUMO NA CORUÑA (tep)
B2: 2016 | C2: 2017 | D2: 2018 | E2: 2019 | F2: 2020 | G2: 2021
A3: Consumo final electricidade | B3: 679248.51 | C3: 680537.64 | D3: 705503.79 | E3: 574125.44 | F3: 521603.32 | G3: 552199.85
A4: Consumo calor coxeración | B4: =SUM(B5:B10) -> 66870.225 | C4: =SUM(C5:C10) -> 65783.879 | D4: =SUM(D5:D10) -> 60144.353 | E4: =SUM(E5:E10) -> 55031.502 | F4: =SUM(F5:F10) -> 49478.699 | G4: =SUM(G5:G10) -> 147597
A5: Calor coxeración produtos petrolíferos | B5: 23269.929 | C5: 22765.054 | D5: 22445.096 | E5: 21627.045 | F5: 17652.755 | G5: 41599.566
A6: Calor coxeración gas natural | B6: 37414.783 | C6: 37317.824 | D6: 31784.465 | E6: 31675.151 | F6: 28973.545 | G6: 105605.88
A7: Calor centrais residuos non renovables | B7: 6185.5131 | C7: 5596.7888 | D7: 5307.5645 | E7: 1694.5103 | F7: 2397.4477 | G7: 391.54846
A8: Calor centrais residuos renovables | B8: 0 | C8: 104.2122 | D8: 607.22703 | E8: 34.796496 | F8: 454.95214 | G8: 0
A9: Calor centrais de biomasa e residuos da biomasa | B9: 0 | C9: 0 | D9: 0 | E9: 0 | F9: 0 | G9: 0
A10: Calor centrais de biogás | B10: 0 | C10: 0 | D10: 0 | E10: 0 | F10: 0 | G10: 0
A11: Combustibles convencionais uso térmico | B11: =SUM(B12:B18) -> 577382.59 | C11: =SUM(C12:C18) -> 592437.19 | D11: =SUM(D12:D18) -> 641757.22 | E11: =SUM(E12:E18) -> 640837.49 | F11: =SUM(F12:F18) -> 525962.69 | G11: =SUM(G12:G18) -> 637786.88
A12: Gas natural para combustión y distric heating | B12: 309869.72 | C12: 332362.29 | D12: 364195.28 | E12: 359416.83 | F12: 293899.13 | G12: 425067.74
A13: Residuos non renovables para combustión (incluidas la Eresiduales Repsol) | B13: 145962.33 | C13: 144568.4 | D13: 157580.45 | E13: 159838.78 | F13: 116399.45 | G13: 115615.9
A14: Fuel para combustión | B14: 5086.866 | C14: 6099.5096 | D14: 2470.3462 | E14: 8295.2518 | F14: 5346.8908 | G14: 1386.8681
A15: Gasóleo C para combustión | B15: 71746.753 | C15: 57003.284 | D15: 66431.469 | E15: 64247.637 | F15: 66157.143 | G15: 50624.32
A16: GLP para combustión | B16: 42896.301 | C16: 51255.41 | D16: 49403.454 | E16: 47565.243 | F16: 43192.082 | G16: 44027.036
A17: Coque para combustión | B17: 1820.612 | C17: 1148.292 | D17: 1676.216 | E17: 1473.756 | F17: 967.988 | G17: 1065.016
A18: Carbón para combustión | B18: 0 | C18: 0 | D18: 0 | E18: 0 | F18: 0 | G18: 0
A19: Renovables uso térmico | B19: =SUM(B20:B29) -> 226778.99 | C19: =SUM(C20:C29) -> 229238 | D19: =SUM(D20:D29) -> 233218.89 | E19: =SUM(E20:E29) -> 234978.53 | F19: =SUM(F20:F29) -> 236084.06 | G19: =SUM(G20:G29) -> 238403.39
A20: Biomasa sólida para combustión con distric heating | B20: 213913.29 | C20: 216036.87 | D20: 219539.42 | E20: 220803.91 | F20: 221495.19 | G20: 222883.65
A21: Biogás para combustión (con el inyectado al gasoducto) | B21: 1532.1075 | C21: 1532.1075 | D21: 1532.1075 | E21: 1532.1075 | F21: 1532.1075 | G21: 1532.1075
A22: Solar térmica | B22: 2186.6041 | C22: 2262.5991 | D22: 2314.5424 | E22: 2384.6224 | F22: 2554.0839 | G22: 2577.0473
A23: Distric heating con xeotermia | B23: 0 | C23: 0 | D23: 0 | E23: 0 | F23: 0 | G23: 0
A24: Xeotermia pura | B24: 0 | C24: 0 | D24: 0 | E24: 0 | F24: 0 | G24: 0
A25: Calor renovable bomba calor xeotérmica | B25: 726.01794 | C25: 764.59355 | D25: 805.84084 | E25: 914.85481 | F25: 1006.6785 | G25: 1094.3871
A26: Calor renovable bomba calor hidrotérmica | B26: 0 | C26: 0 | D26: 0 | E26: 0 | F26: 0 | G26: 0
A27: Calor renovable bomba calor aerotérmica | B27: 2325.7734 | C27: 2546.6334 | D27: 2931.7889 | E27: 3247.8439 | F27: 3400.7991 | G27: 3741.2339
A28: Hidrógeno Verde uso térmico | B28: 0 | C28: 0 | D28: 0 | E28: 0 | F28: 0 | G28: 0
A29: Residuos renovables para combustión | B29: 6095.197 | C29: 6095.197 | D29: 6095.197 | E29: 6095.197 | F29: 6095.197 | G29: 6574.9642
A30: Combustibles para transporte | B30: =B31+B38+B41+B46+B50+B53 -> 848194.02 | C30: =C31+C38+C41+C46+C50+C53 -> 854545.84 | D30: =D31+D38+D41+D46+D50+D53 -> 855476.58 | E30: =E31+E38+E41+E46+E50+E53 -> 876781.32 | F30: =F31+F38+F41+F46+F50+F53 -> 650887.09 | G30: =G31+G38+G41+G46+G50+G53 -> 783009.6
A31: Combustibles transporte urbano e por estrada | B31: =SUM(B32:B37) -> 621977.85 | C31: =SUM(C32:C37) -> 609694.84 | D31: =SUM(D32:D37) -> 604882.64 | E31: =SUM(E32:E37) -> 599480.59 | F31: =SUM(F32:F37) -> 436566.67 | G31: =SUM(G32:G37) -> 575956.43
A32: Gasolina 95 I.O. | B32: 89754.661 | C32: 90371.969 | D32: 91185.457 | E32: 95777.049 | F32: 70001.62 | G32: 95614.766
A33: Gasolina 98 I.O. | B33: 5438.7767 | C33: 5559.4083 | D33: 5561.634 | E33: 5909.7262 | F33: 5328.8238 | G33: 5687.6947
A34: Gasoleo A | B34: 518759 | C34: 505503.1 | D34: 499394.79 | E34: 488175.71 | F34: 353718.76 | G34: 463801.21
A35: GLP | B35: 847.90484 | C35: 867.53082 | D35: 1126.0549 | E35: 1850.933 | F35: 1303.3909 | G35: 2153.3046
A36: Gas natural | B36: 7177.4198 | C36: 7392.7424 | D36: 7614.5246 | E36: 7766.8151 | F36: 6213.4521 | G36: 8698.8329
A37: Hidróxeno Verde | B37: 0.089574375 | C37: 0.089574375 | D37: 0.17914875 | E37: 0.3582975 | F37: 0.62702062 | G37: 0.62702062
A38: Combustibles transporte por ferrocarril | B38: =SUM(B39:B40) -> 1537.2654 | C38: =SUM(C39:C40) -> 1460.9455 | D38: =SUM(D39:D40) -> 1473.5235 | E38: =SUM(E39:E40) -> 1506.3341 | F38: =SUM(F39:F40) -> 1177.5826 | G38: =SUM(G39:G40) -> 1333.9099
A39: Gasóleo B | B39: 1537.2654 | C39: 1460.9455 | D39: 1473.5235 | E39: 1506.3341 | F39: 1177.5826 | G39: 1333.9099
A40: Hidróxeno Verde | B40: 0 | C40: 0 | D40: 0 | E40: 0 | F40: 0 | G40: 0
...
