Workbook

Sheet Efinal (GWh)
A1: DISTRIBUCIÓN DO CONSUMO NA CORUÑA (GWh)
B2: 2016 | C2: 2017 | D2: 2018 | E2: 2019 | F2: 2020 | G2: 2021
A3: Consumo final electricidade | B3: ='Efinal (ktep)'!B3/0.086 -> 7898.2385 | C3: ='Efinal (ktep)'!C3/0.086 -> 7913.2284 | D3: ='Efinal (ktep)'!D3/0.086 -> 8203.5325 | E3: ='Efinal (ktep)'!E3/0.086 -> 6675.8772 | F3: ='Efinal (ktep)'!F3/0.086 -> 6065.1549 | G3: ='Efinal (ktep)'!G3/0.086 -> 6420.9285
A4: Consumo calor coxeración | B4: =SUM(B5:B10) -> 777.56076 | C4: =SUM(C5:C10) -> 764.92882 | D4: =SUM(D5:D10) -> 699.35294 | E4: =SUM(E5:E10) -> 639.90118 | F4: =SUM(F5:F10) -> 575.33371 | G4: =SUM(G5:G10) -> 1716.2441
A5: Calor coxeración produtos petrolíferos | B5: ='Efinal (ktep)'!B5/0.086 -> 270.58057 | C5: ='Efinal (ktep)'!C5/0.086 -> 264.70993 | D5: ='Efinal (ktep)'!D5/0.086 -> 260.98949 | E5: ='Efinal (ktep)'!E5/0.086 -> 251.47726 | F5: ='Efinal (ktep)'!F5/0.086 -> 205.26459 | G5: ='Efinal (ktep)'!G5/0.086 -> 483.71588
A6: Calor coxeración gas natural | B6: ='Efinal (ktep)'!B6/0.086 -> 435.05562 | C6: ='Efinal (ktep)'!C6/0.086 -> 433.92818 | D6: ='Efinal (ktep)'!D6/0.086 -> 369.5868 | E6: ='Efinal (ktep)'!E6/0.086 -> 368.3157 | F6: ='Efinal (ktep)'!F6/0.086 -> 336.90168 | G6: ='Efinal (ktep)'!G6/0.086 -> 1227.9754
A7: Calor centrais residuos non renovables | B7: ='Efinal (ktep)'!B7/0.086 -> 71.924571 | C7: ='Efinal (ktep)'!C7/0.086 -> 65.078939 | D7: ='Efinal (ktep)'!D7/0.086 -> 61.715866 | E7: ='Efinal (ktep)'!E7/0.086 -> 19.703608 | F7: ='Efinal (ktep)'!F7/0.086 -> 27.877299 | G7: ='Efinal (ktep)'!G7/0.086 -> 4.5528891
A8: Calor centrais residuos renovables | B8: ='Efinal (ktep)'!B8/0.086 -> 0 | C8: ='Efinal (ktep)'!C8/0.086 -> 1.2117698 | D8: ='Efinal (ktep)'!D8/0.086 -> 7.0607794 | E8: ='Efinal (ktep)'!E8/0.086 -> 0.40461042 | F8: ='Efinal (ktep)'!F8/0.086 -> 5.2901411 | G8: ='Efinal (ktep)'!G8/0.086 -> 0
A9: Calor centrais de biomasa e residuos da biomasa | B9: ='Efinal (ktep)'!B9/0.086 -> 0 | C9: ='Efinal (ktep)'!C9/0.086 -> 0 | D9: ='Efinal (ktep)'!D9/0.086 -> 0 | E9: ='Efinal (ktep)'!E9/0.086 -> 0 | F9: ='Efinal (ktep)'!F9/0.086 -> 0 | G9: ='Efinal (ktep)'!G9/0.086 -> 0
A10: Calor centrais de biogás | B10: ='Efinal (ktep)'!B10/0.086 -> 0 | C10: ='Efinal (ktep)'!C10/0.086 -> 0 | D10: ='Efinal (ktep)'!D10/0.086 -> 0 | E10: ='Efinal (ktep)'!E10/0.086 -> 0 | F10: ='Efinal (ktep)'!F10/0.086 -> 0 | G10: ='Efinal (ktep)'!G10/0.086 -> 0
A11: Combustibles convencionais uso térmico | B11: =SUM(B12:B18) -> 6713.751 | C11: =SUM(C12:C18) -> 6888.8045 | D11: =SUM(D12:D18) -> 7462.2932 | E11: =SUM(E12:E18) -> 7451.5987 | F11: =SUM(F12:F18) -> 6115.8452 | G11: =SUM(G12:G18) -> 7416.1265
A12: Gas natural para combustión y distric heating | B12: ='Efinal (ktep)'!B12/0.086 -> 3603.1363 | C12: ='Efinal (ktep)'!C12/0.086 -> 3864.6778 | D12: ='Efinal (ktep)'!D12/0.086 -> 4234.8289 | E12: ='Efinal (ktep)'!E12/0.086 -> 4179.2654 | F12: ='Efinal (ktep)'!F12/0.086 -> 3417.4318 | G12: ='Efinal (ktep)'!G12/0.086 -> 4942.6481
A13: Residuos non renovables para combustión (incluidas la Eresiduales Repsol) | B13: ='Efinal (ktep)'!B13/0.086 -> 1697.2364 | C13: ='Efinal (ktep)'!C13/0.086 -> 1681.0279 | D13: ='Efinal (ktep)'!D13/0.086 -> 1832.3308 | E13: ='Efinal (ktep)'!E13/0.086 -> 1858.5904 | F13: ='Efinal (ktep)'!F13/0.086 -> 1353.482 | G13: ='Efinal (ktep)'!G13/0.086 -> 1344.371
A14: Fuel para combustión | B14: ='Efinal (ktep)'!B14/0.086 -> 59.149604 | C14: ='Efinal (ktep)'!C14/0.086 -> 70.92453 | D14: ='Efinal (ktep)'!D14/0.086 -> 28.724956 | E14: ='Efinal (ktep)'!E14/0.086 -> 96.456417 | F14: ='Efinal (ktep)'!F14/0.086 -> 62.173149 | G14: ='Efinal (ktep)'!G14/0.086 -> 16.126373
A15: Gasóleo C para combustión | B15: ='Efinal (ktep)'!B15/0.086 -> 834.26457 | C15: ='Efinal (ktep)'!C15/0.086 -> 662.82889 | D15: ='Efinal (ktep)'!D15/0.086 -> 772.45894 | E15: ='Efinal (ktep)'!E15/0.086 -> 747.06554 | F15: ='Efinal (ktep)'!F15/0.086 -> 769.2691 | G15: ='Efinal (ktep)'!G15/0.086 -> 588.65488
A16: GLP para combustión | B16: ='Efinal (ktep)'!B16/0.086 -> 498.7942 | C16: ='Efinal (ktep)'!C16/0.086 -> 595.99314 | D16: ='Efinal (ktep)'!D16/0.086 -> 574.45876 | E16: ='Efinal (ktep)'!E16/0.086 -> 553.08422 | F16: ='Efinal (ktep)'!F16/0.086 -> 502.23351 | G16: ='Efinal (ktep)'!G16/0.086 -> 511.94228
A17: Coque para combustión | B17: ='Efinal (ktep)'!B17/0.086 -> 21.169907 | C17: ='Efinal (ktep)'!C17/0.086 -> 13.352233 | D17: ='Efinal (ktep)'!D17/0.086 -> 19.490884 | E17: ='Efinal (ktep)'!E17/0.086 -> 17.136698 | F17: ='Efinal (ktep)'!F17/0.086 -> 11.255674 | G17: ='Efinal (ktep)'!G17/0.086 -> 12.383907
A18: Carbón para combustión | B18: ='Efinal (ktep)'!B18/0.086 -> 0 | C18: ='Efinal (ktep)'!C18/0.086 -> 0 | D18: ='Efinal (ktep)'!D18/0.086 -> 0 | E18: ='Efinal (ktep)'!E18/0.086 -> 0 | F18: ='Efinal (ktep)'!F18/0.086 -> 0 | G18: ='Efinal (ktep)'!G18/0.086 -> 0
A19: Renovables uso térmico | B19: =SUM(B20:B29) -> 2636.965 | C19: =SUM(C20:C29) -> 2665.5581 | D19: =SUM(D20:D29) -> 2711.8476 | E19: =SUM(E20:E29) -> 2732.3085 | F19: =SUM(F20:F29) -> 2745.1634 | G19: =SUM(G20:G29) -> 2772.1325
A20: Biomasa sólida para combustión con distric heating | B20: ='Efinal (ktep)'!B20/0.086 -> 2487.3638 | C20: ='Efinal (ktep)'!C20/0.086 -> 2512.0566 | D20: ='Efinal (ktep)'!D20/0.086 -> 2552.7839 | E20: ='Efinal (ktep)'!E20/0.086 -> 2567.4873 | F20: ='Efinal (ktep)'!F20/0.086 -> 2575.5255 | G20: ='Efinal (ktep)'!G20/0.086 -> 2591.6704
A21: Biogás para combustión (con el inyectado al gasoducto) | B21: ='Efinal (ktep)'!B21/0.086 -> 17.815203 | C21: ='Efinal (ktep)'!C21/0.086 -> 17.815203 | D21: ='Efinal (ktep)'!D21/0.086 -> 17.815203 | E21: ='Efinal (ktep)'!E21/0.086 -> 17.815203 | F21: ='Efinal (ktep)'!F21/0.086 -> 17.815203 | G21: ='Efinal (ktep)'!G21/0.086 -> 17.815203
A22: Solar térmica | B22: ='Efinal (ktep)'!B22/0.086 -> 25.425629 | C22: ='Efinal (ktep)'!C22/0.086 -> 26.309292 | D22: ='Efinal (ktep)'!D22/0.086 -> 26.913284 | E22: ='Efinal (ktep)'!E22/0.086 -> 27.728168 | F22: ='Efinal (ktep)'!F22/0.086 -> 29.69865 | G22: ='Efinal (ktep)'!G22/0.086 -> 29.965666
A23: Distric heating con xeotermia | B23: ='Efinal (ktep)'!B23/0.086 -> 0 | C23: ='Efinal (ktep)'!C23/0.086 -> 0 | D23: ='Efinal (ktep)'!D23/0.086 -> 0 | E23: ='Efinal (ktep)'!E23/0.086 -> 0 | F23: ='Efinal (ktep)'!F23/0.086 -> 0 | G23: ='Efinal (ktep)'!G23/0.086 -> 0
A24: Xeotermia pura | B24: ='Efinal (ktep)'!B24/0.086 -> 0 | C24: ='Efinal (ktep)'!C24/0.086 -> 0 | D24: ='Efinal (ktep)'!D24/0.086 -> 0 | E24: ='Efinal (ktep)'!E24/0.086 -> 0 | F24: ='Efinal (ktep)'!F24/0.086 -> 0 | G24: ='Efinal (ktep)'!G24/0.086 -> 0
A25: Calor renovable bomba calor xeotérmica | B25: ='Efinal (ktep)'!B25/0.086 -> 8.4420691 | C25: ='Efinal (ktep)'!C25/0.086 -> 8.8906227 | D25: ='Efinal (ktep)'!D25/0.086 -> 9.3702424 | E25: ='Efinal (ktep)'!E25/0.086 -> 10.637847 | F25: ='Efinal (ktep)'!F25/0.086 -> 11.705564 | G25: ='Efinal (ktep)'!G25/0.086 -> 12.725431
A26: Calor renovable bomba calor hidrotérmica | B26: ='Efinal (ktep)'!B26/0.086 -> 0 | C26: ='Efinal (ktep)'!C26/0.086 -> 0 | D26: ='Efinal (ktep)'!D26/0.086 -> 0 | E26: ='Efinal (ktep)'!E26/0.086 -> 0 | F26: ='Efinal (ktep)'!F26/0.086 -> 0 | G26: ='Efinal (ktep)'!G26/0.086 -> 0
A27: Calor renovable bomba calor aerotérmica | B27: ='Efinal (ktep)'!B27/0.086 -> 27.043877 | C27: ='Efinal (ktep)'!C27/0.086 -> 29.612016 | D27: ='Efinal (ktep)'!D27/0.086 -> 34.090569 | E27: ='Efinal (ktep)'!E27/0.086 -> 37.765626 | F27: ='Efinal (ktep)'!F27/0.086 -> 39.544176 | G27: ='Efinal (ktep)'!G27/0.086 -> 43.502719
A28: Hidrógeno Verde uso térmico | B28: ='Efinal (ktep)'!B28/0.086 -> 0 | C28: ='Efinal (ktep)'!C28/0.086 -> 0 | D28: ='Efinal (ktep)'!D28/0.086 -> 0 | E28: ='Efinal (ktep)'!E28/0.086 -> 0 | F28: ='Efinal (ktep)'!F28/0.086 -> 0 | G28: ='Efinal (ktep)'!G28/0.086 -> 0
A29: Residuos renovables para combustión | B29: ='Efinal (ktep)'!B29/0.086 -> 70.874384 | C29: ='Efinal (ktep)'!C29/0.086 -> 70.874384 | D29: ='Efinal (ktep)'!D29/0.086 -> 70.874384 | E29: ='Efinal (ktep)'!E29/0.086 -> 70.874384 | F29: ='Efinal (ktep)'!F29/0.086 -> 70.874384 | G29: ='Efinal (ktep)'!G29/0.086 -> 76.453073
A30: Combustibles para transporte | B30: =B31+B38+B41+B46+B50+B53 -> 9862.7212 | C30: =C31+C38+C41+C46+C50+C53 -> 9936.5796 | D30: =D31+D38+D41+D46+D50+D53 -> 9947.4021 | E30: =E31+E38+E41+E46+E50+E53 -> 10195.132 | F30: =F31+F38+F41+F46+F50+F53 -> 7568.4545 | G30: =G31+G38+G41+G46+G50+G53 -> 9104.7628
A31: Combustibles transporte urbano e por estrada | B31: =SUM(B32:B37) -> 7232.3005 | C31: =SUM(C32:C37) -> 7089.4749 | D31: =SUM(D32:D37) -> 7033.5191 | E31: =SUM(E32:E37) -> 6970.7045 | F31: =SUM(F32:F37) -> 5076.3566 | G31: =SUM(G32:G37) -> 6697.1678
A32: Gasolina 95 I.O. | B32: ='Efinal (ktep)'!B32/0.086 -> 1043.6589 | C32: ='Efinal (ktep)'!C32/0.086 -> 1050.8368 | D32: ='Efinal (ktep)'!D32/0.086 -> 1060.296 | E32: ='Efinal (ktep)'!E32/0.086 -> 1113.6866 | F32: ='Efinal (ktep)'!F32/0.086 -> 813.97233 | G32: ='Efinal (ktep)'!G32/0.086 -> 1111.7996
A33: Gasolina 98 I.O. | B33: ='Efinal (ktep)'!B33/0.086 -> 63.241589 | C33: ='Efinal (ktep)'!C33/0.086 -> 64.644282 | D33: ='Efinal (ktep)'!D33/0.086 -> 64.670163 | E33: ='Efinal (ktep)'!E33/0.086 -> 68.717747 | F33: ='Efinal (ktep)'!F33/0.086 -> 61.963068 | G33: ='Efinal (ktep)'!G33/0.086 -> 66.135985
A34: Gasoleo A | B34: ='Efinal (ktep)'!B34/0.086 -> 6032.0813 | C34: ='Efinal (ktep)'!C34/0.086 -> 5877.943 | D34: ='Efinal (ktep)'!D34/0.086 -> 5806.9162 | E34: ='Efinal (ktep)'!E34/0.086 -> 5676.4617 | F34: ='Efinal (ktep)'!F34/0.086 -> 4113.0088 | G34: ='Efinal (ktep)'!G34/0.086 -> 5393.0373
A35: GLP | B35: ='Efinal (ktep)'!B35/0.086 -> 9.8593586 | C35: ='Efinal (ktep)'!C35/0.086 -> 10.087568 | D35: ='Efinal (ktep)'!D35/0.086 -> 13.093661 | E35: ='Efinal (ktep)'!E35/0.086 -> 21.522477 | F35: ='Efinal (ktep)'!F35/0.086 -> 15.155709 | G35: ='Efinal (ktep)'!G35/0.086 -> 25.038425
A36: Gas natural | B36: ='Efinal (ktep)'!B36/0.086 -> 83.458369 | C36: ='Efinal (ktep)'!C36/0.086 -> 85.96212 | D36: ='Efinal (ktep)'!D36/0.086 -> 88.540984 | E36: ='Efinal (ktep)'!E36/0.086 -> 90.311804 | F36: ='Efinal (ktep)'!F36/0.086 -> 72.249443 | G36: ='Efinal (ktep)'!G36/0.086 -> 101.14922
A37: Hidróxeno Verde | B37: ='Efinal (ktep)'!B37/0.086 -> 0.0010415625 | C37: ='Efinal (ktep)'!C37/0.086 -> 0.0010415625 | D37: ='Efinal (ktep)'!D37/0.086 -> 0.002083125 | E37: ='Efinal (ktep)'!E37/0.086 -> 0.00416625 | F37: ='Efinal (ktep)'!F37/0.086 -> 0.0072909375 | G37: ='Efinal (ktep)'!G37/0.086 -> 0.0072909375
A38: Combustibles transporte por ferrocarril | B38: =SUM(B39:B40) -> 17.875179 | C38: =SUM(C39:C40) -> 16.987739 | D38: =SUM(D39:D40) -> 17.133994 | E38: =SUM(E39:E40) -> 17.515513 | F38: =SUM(F39:F40) -> 13.692821 | G38: =SUM(G39:G40) -> 15.510581
A39: Gasóleo B | B39: ='Efinal (ktep)'!B39/0.086 -> 17.875179 | C39: ='Efinal (ktep)'!C39/0.086 -> 16.987739 | D39: ='Efinal (ktep)'!D39/0.086 -> 17.133994 | E39: ='Efinal (ktep)'!E39/0.086 -> 17.515513 | F39: ='Efinal (ktep)'!F39/0.086 -> 13.692821 | G39: ='Efinal (ktep)'!G39/0.086 -> 15.510581
A40: Hidróxeno Verde | B40: ='Efinal (ktep)'!B40/0.086 -> 0 | C40: ='Efinal (ktep)'!C40/0.086 -> 0 | D40: ='Efinal (ktep)'!D40/0.086 -> 0 | E40: ='Efinal (ktep)'!E40/0.086 -> 0 | F40: ='Efinal (ktep)'!F40/0.086 -> 0 | G40: ='Efinal (ktep)'!G40/0.086 -> 0
A41: Combustibles transporte marítimo | B41: =SUM(B42:B45) -> 808.03635 | C41: =SUM(C42:C45) -> 882.20091 | D41: =SUM(D42:D45) -> 911.59614 | E41: =SUM(E42:E45) -> 1121.0303 | F41: =SUM(F42:F45) -> 844.88113 | G41: =SUM(G42:G45) -> 767.17586
A42: Fuel óleos | B42: ='Efinal (ktep)'!B42/0.086 -> 236.23682 | C42: ='Efinal (ktep)'!C42/0.086 -> 319.90984 | D42: ='Efinal (ktep)'!D42/0.086 -> 270.3889 | E42: ='Efinal (ktep)'!E42/0.086 -> 551.75368 | F42: ='Efinal (ktep)'!F42/0.086 -> 257.7164 | G42: ='Efinal (ktep)'!G42/0.086 -> 215.24878
A43: Gasóleo B | B43: ='Efinal (ktep)'!B43/0.086 -> 571.79953 | C43: ='Efinal (ktep)'!C43/0.086 -> 562.29107 | D43: ='Efinal (ktep)'!D43/0.086 -> 641.20724 | E43: ='Efinal (ktep)'!E43/0.086 -> 569.27662 | F43: ='Efinal (ktep)'!F43/0.086 -> 587.16472 | G43: ='Efinal (ktep)'!G43/0.086 -> 551.92708
A44: Gas natural | B44: ='Efinal (ktep)'!B44/0.086 -> 0 | C44: ='Efinal (ktep)'!C44/0.086 -> 0 | D44: ='Efinal (ktep)'!D44/0.086 -> 0 | E44: ='Efinal (ktep)'!E44/0.086 -> 0 | F44: ='Efinal (ktep)'!F44/0.086 -> 0 | G44: ='Efinal (ktep)'!G44/0.086 -> 0
A45: Hidróxeno Verde | B45: ='Efinal (ktep)'!B45/0.086 -> 0 | C45: ='Efinal (ktep)'!C45/0.086 -> 0 | D45: ='Efinal (ktep)'!D45/0.086 -> 0 | E45: ='Efinal (ktep)'!E45/0.086 -> 0 | F45: ='Efinal (ktep)'!F45/0.086 -> 0 | G45: ='Efinal (ktep)'!G45/0.086 -> 0
A46: Combustibles transporte aéreo | B46: =SUM(B47:B49) -> 476.66037 | C46: =SUM(C47:C49) -> 522.91315 | D46: =SUM(D47:D49) -> 477.63113 | E46: =SUM(E47:E49) -> 505.28026 | F46: =SUM(F47:F49) -> 236.02786 | G46: =SUM(G47:G49) -> 306.22031
A47: Gasolina Aviación | B47: ='Efinal (ktep)'!B47/0.086 -> 0.80258387 | C47: ='Efinal (ktep)'!C47/0.086 -> 0.67272848 | D47: ='Efinal (ktep)'!D47/0.086 -> 0.44431001 | E47: ='Efinal (ktep)'!E47/0.086 -> 0.54264963 | F47: ='Efinal (ktep)'!F47/0.086 -> 0.67242962 | G47: ='Efinal (ktep)'!G47/0.086 -> 0.76917466
A48: Queroseno Aviación | B48: ='Efinal (ktep)'!B48/0.086 -> 475.85779 | C48: ='Efinal (ktep)'!C48/0.086 -> 522.24042 | D48: ='Efinal (ktep)'!D48/0.086 -> 477.18682 | E48: ='Efinal (ktep)'!E48/0.086 -> 504.73761 | F48: ='Efinal (ktep)'!F48/0.086 -> 235.35543 | G48: ='Efinal (ktep)'!G48/0.086 -> 305.45114
A49: Hidróxeno Verde | B49: ='Efinal (ktep)'!B49/0.086 -> 0 | C49: ='Efinal (ktep)'!C49/0.086 -> 0 | D49: ='Efinal (ktep)'!D49/0.086 -> 0 | E49: ='Efinal (ktep)'!E49/0.086 -> 0 | F49: ='Efinal (ktep)'!F49/0.086 -> 0 | G49: ='Efinal (ktep)'!G49/0.086 -> 0
A50: Combustibles pesca, agric, minas, construcción | B50: =SUM(B51:B52) -> 1022.8517 | C50: =SUM(C51:C52) -> 1084.9988 | D50: =SUM(D51:D52) -> 1098.5244 | E50: =SUM(E51:E52) -> 1185.8989 | F50: =SUM(F51:F52) -> 1097.1602 | G50: =SUM(G51:G52) -> 896.56995
A51: Gasóleo B | B51: ='Efinal (ktep)'!B51/0.086 -> 1022.8517 | C51: ='Efinal (ktep)'!C51/0.086 -> 1084.9988 | D51: ='Efinal (ktep)'!D51/0.086 -> 1098.5244 | E51: ='Efinal (ktep)'!E51/0.086 -> 1185.8989 | F51: ='Efinal (ktep)'!F51/0.086 -> 1097.1602 | G51: ='Efinal (ktep)'!G51/0.086 -> 896.56995
A52: Queroseno | B52: ='Efinal (ktep)'!B52/0.086 -> 0 | C52: ='Efinal (ktep)'!C52/0.086 -> 0 | D52: ='Efinal (ktep)'!D52/0.086 -> 0 | E52: ='Efinal (ktep)'!E52/0.086 -> 0 | F52: ='Efinal (ktep)'!F52/0.086 -> 0 | G52: ='Efinal (ktep)'!G52/0.086 -> 0
A53: Biocarburantes | B53: ='Efinal (ktep)'!B53/0.086 -> 304.99703 | C53: ='Efinal (ktep)'!C53/0.086 -> 340.00407 | D53: ='Efinal (ktep)'!D53/0.086 -> 408.99732 | E53: ='Efinal (ktep)'!E53/0.086 -> 394.70217 | F53: ='Efinal (ktep)'!F53/0.086 -> 300.33589 | G53: ='Efinal (ktep)'!G53/0.086 -> 422.11822
A54: Consumo Total | B54: =B3+B4+B11+B19+B30 -> 27889.236 | C54: =C3+C4+C11+C19+C30 -> 28169.099 | D54: =D3+D4+D11+D19+D30 -> 29024.428 | E54: =E3+E4+E11+E19+E30 -> 27694.817 | F54: =F3+F4+F11+F19+F30 -> 23069.952 | G54: =G3+G4+G11+G19+G30 -> 27430.194
A55: (*) Considérase o consumo no transporte, pesca, agricultura, minas e construción
A56: Consumo transporte (combustíbeis)
A58: DISTRIBUCIÓN DO CONSUMO EN LUGO GWh)
B59: 2016 | C59: 2017 | D59: 2018 | E59: 2019 | F59: 2020 | G59: 2021
A60: Consumo final electricidade | B60: ='Efinal (ktep)'!B60/0.086 -> 5211.4061 | C60: ='Efinal (ktep)'!C60/0.086 -> 5209.666 | D60: ='Efinal (ktep)'!D60/0.086 -> 5214.5397 | E60: ='Efinal (ktep)'!E60/0.086 -> 5194.2436 | F60: ='Efinal (ktep)'!F60/0.086 -> 4823.6141 | G60: ='Efinal (ktep)'!G60/0.086 -> 4841.7245
A61: Consumo calor coxeración | B61: =SUM(B62:B67) -> 705.63618 | C61: =SUM(C62:C67) -> 698.63811 | D61: =SUM(D62:D67) -> 630.57629 | E61: =SUM(E62:E67) -> 619.79297 | F61: =SUM(F62:F67) -> 542.16627 | G61: =SUM(G62:G67) -> 51.867098
A62: Calor coxeración produtos petrolíferos | B62: ='Efinal (ktep)'!B62/0.086 -> 270.58057 | C62: ='Efinal (ktep)'!C62/0.086 -> 264.70993 | D62: ='Efinal (ktep)'!D62/0.086 -> 260.98949 | E62: ='Efinal (ktep)'!E62/0.086 -> 251.47726 | F62: ='Efinal (ktep)'!F62/0.086 -> 205.26459 | G62: ='Efinal (ktep)'!G62/0.086 -> 0.075458199
A63: Calor coxeración gas natural | B63: ='Efinal (ktep)'!B63/0.086 -> 435.05562 | C63: ='Efinal (ktep)'!C63/0.086 -> 433.92818 | D63: ='Efinal (ktep)'!D63/0.086 -> 369.5868 | E63: ='Efinal (ktep)'!E63/0.086 -> 368.3157 | F63: ='Efinal (ktep)'!F63/0.086 -> 336.90168 | G63: ='Efinal (ktep)'!G63/0.086 -> 51.78513
A64: Calor centrais residuos non renovables | B64: ='Efinal (ktep)'!B64/0.086 -> 0 | C64: ='Efinal (ktep)'!C64/0.086 -> 0 | D64: ='Efinal (ktep)'!D64/0.086 -> 0 | E64: ='Efinal (ktep)'!E64/0.086 -> 0 | F64: ='Efinal (ktep)'!F64/0.086 -> 0 | G64: ='Efinal (ktep)'!G64/0.086 -> 0
A65: Calor centrais residuos renovables | B65: ='Efinal (ktep)'!B65/0.086 -> 0 | C65: ='Efinal (ktep)'!C65/0.086 -> 0 | D65: ='Efinal (ktep)'!D65/0.086 -> 0 | E65: ='Efinal (ktep)'!E65/0.086 -> 0 | F65: ='Efinal (ktep)'!F65/0.086 -> 0 | G65: ='Efinal (ktep)'!G65/0.086 -> 0
A66: Calor centrais de biomasa e residuos da biomasa | B66: ='Efinal (ktep)'!B66/0.086 -> 0 | C66: ='Efinal (ktep)'!C66/0.086 -> 0 | D66: ='Efinal (ktep)'!D66/0.086 -> 0 | E66: ='Efinal (ktep)'!E66/0.086 -> 0 | F66: ='Efinal (ktep)'!F66/0.086 -> 0 | G66: ='Efinal (ktep)'!G66/0.086 -> 0
A67: Calor centrais de biogás | B67: ='Efinal (ktep)'!B67/0.086 -> 0 | C67: ='Efinal (ktep)'!C67/0.086 -> 0 | D67: ='Efinal (ktep)'!D67/0.086 -> 0 | E67: ='Efinal (ktep)'!E67/0.086 -> 0 | F67: ='Efinal (ktep)'!F67/0.086 -> 0 | G67: ='Efinal (ktep)'!G67/0.086 -> 0.00651
A68: Combustibles convencionais uso térmico | B68: =SUM(B69:B75) -> 4772.8513 | C68: =SUM(C69:C75) -> 5340.5044 | D68: =SUM(D69:D75) -> 5359.0246 | E68: =SUM(E69:E75) -> 5327.4748 | F68: =SUM(F69:F75) -> 5004.1008 | G68: =SUM(G69:G75) -> 5064.7349
A69: Gas natural para combustión y distric heating | B69: ='Efinal (ktep)'!B69/0.086 -> 3842.0421 | C69: ='Efinal (ktep)'!C69/0.086 -> 4219.206 | D69: ='Efinal (ktep)'!D69/0.086 -> 4205.335 | E69: ='Efinal (ktep)'!E69/0.086 -> 4285.7294 | F69: ='Efinal (ktep)'!F69/0.086 -> 4136.7615 | G69: ='Efinal (ktep)'!G69/0.086 -> 4263.6325
A70: Residuos non renovables para combustión (incluidas la Eresiduales Repsol) | B70: ='Efinal (ktep)'!B70/0.086 -> 0 | C70: ='Efinal (ktep)'!C70/0.086 -> 0 | D70: ='Efinal (ktep)'!D70/0.086 -> 0 | E70: ='Efinal (ktep)'!E70/0.086 -> 0 | F70: ='Efinal (ktep)'!F70/0.086 -> 0 | G70: ='Efinal (ktep)'!G70/0.086 -> 0
A71: Fuel para combustión | B71: ='Efinal (ktep)'!B71/0.086 -> 137.41484 | C71: ='Efinal (ktep)'!C71/0.086 -> 121.5693 | D71: ='Efinal (ktep)'!D71/0.086 -> 142.0508 | E71: ='Efinal (ktep)'!E71/0.086 -> 78.275113 | F71: ='Efinal (ktep)'!F71/0.086 -> 86.984053 | G71: ='Efinal (ktep)'!G71/0.086 -> 104.64073
A72: Gasóleo C para combustión | B72: ='Efinal (ktep)'!B72/0.086 -> 493.98457 | C72: ='Efinal (ktep)'!C72/0.086 -> 470.77242 | D72: ='Efinal (ktep)'!D72/0.086 -> 506.47928 | E72: ='Efinal (ktep)'!E72/0.086 -> 480.17161 | F72: ='Efinal (ktep)'!F72/0.086 -> 461.89661 | G72: ='Efinal (ktep)'!G72/0.086 -> 378.66044
A73: GLP para combustión | B73: ='Efinal (ktep)'!B73/0.086 -> 232.98619 | C73: ='Efinal (ktep)'!C73/0.086 -> 253.77452 | D73: ='Efinal (ktep)'!D73/0.086 -> 266.65826 | E73: ='Efinal (ktep)'!E73/0.086 -> 266.31378 | F73: ='Efinal (ktep)'!F73/0.086 -> 229.86413 | G73: ='Efinal (ktep)'!G73/0.086 -> 239.76663
A74: Coque para combustión | B74: ='Efinal (ktep)'!B74/0.086 -> 66.423581 | C74: ='Efinal (ktep)'!C74/0.086 -> 275.18214 | D74: ='Efinal (ktep)'!D74/0.086 -> 238.50126 | E74: ='Efinal (ktep)'!E74/0.086 -> 216.98488 | F74: ='Efinal (ktep)'!F74/0.086 -> 88.594512 | G74: ='Efinal (ktep)'!G74/0.086 -> 78.034605
A75: Carbón para combustión | B75: ='Efinal (ktep)'!B75/0.086 -> 0 | C75: ='Efinal (ktep)'!C75/0.086 -> 0 | D75: ='Efinal (ktep)'!D75/0.086 -> 0 | E75: ='Efinal (ktep)'!E75/0.086 -> 0 | F75: ='Efinal (ktep)'!F75/0.086 -> 0 | G75: ='Efinal (ktep)'!G75/0.086 -> 0
A76: Renovables uso térmico | B76: =SUM(B77:B86) -> 1311.4195 | C76: =SUM(C77:C86) -> 1333.3944 | D76: =SUM(D77:D86) -> 1344.6326 | E76: =SUM(E77:E86) -> 1359.3321 | F76: =SUM(F77:F86) -> 1369.5998 | G76: =SUM(G77:G86) -> 1381.3011
A77: Biomasa sólida para combustión con distric heating | B77: ='Efinal (ktep)'!B77/0.086 -> 1287.5901 | C77: ='Efinal (ktep)'!C77/0.086 -> 1308.6479 | D77: ='Efinal (ktep)'!D77/0.086 -> 1318.8153 | E77: ='Efinal (ktep)'!E77/0.086 -> 1332.584 | F77: ='Efinal (ktep)'!F77/0.086 -> 1340.0645 | G77: ='Efinal (ktep)'!G77/0.086 -> 1350.2065
A78: Biogás para combustión (con el inyectado al gasoducto) | B78: ='Efinal (ktep)'!B78/0.086 -> 0.66711409 | C78: ='Efinal (ktep)'!C78/0.086 -> 0.66711409 | D78: ='Efinal (ktep)'!D78/0.086 -> 0.66711409 | E78: ='Efinal (ktep)'!E78/0.086 -> 0.66711409 | F78: ='Efinal (ktep)'!F78/0.086 -> 0.66711409 | G78: ='Efinal (ktep)'!G78/0.086 -> 0.66711409
A79: Solar térmica | B79: ='Efinal (ktep)'!B79/0.086 -> 14.969688 | C79: ='Efinal (ktep)'!C79/0.086 -> 15.289895 | D79: ='Efinal (ktep)'!D79/0.086 -> 15.449373 | E79: ='Efinal (ktep)'!E79/0.086 -> 15.45636 | F79: ='Efinal (ktep)'!F79/0.086 -> 17.426841 | G79: ='Efinal (ktep)'!G79/0.086 -> 17.693858
A80: Distric heating con xeotermia | B80: ='Efinal (ktep)'!B80/0.086 -> 0 | C80: ='Efinal (ktep)'!C80/0.086 -> 0 | D80: ='Efinal (ktep)'!D80/0.086 -> 0 | E80: ='Efinal (ktep)'!E80/0.086 -> 0 | F80: ='Efinal (ktep)'!F80/0.086 -> 0 | G80: ='Efinal (ktep)'!G80/0.086 -> 0
A81: Xeotermia pura | B81: ='Efinal (ktep)'!B81/0.086 -> 0 | C81: ='Efinal (ktep)'!C81/0.086 -> 0 | D81: ='Efinal (ktep)'!D81/0.086 -> 0 | E81: ='Efinal (ktep)'!E81/0.086 -> 0 | F81: ='Efinal (ktep)'!F81/0.086 -> 0 | G81: ='Efinal (ktep)'!G81/0.086 -> 0
A82: Calor renovable bomba calor xeotérmica | B82: ='Efinal (ktep)'!B82/0.086 -> 2.4079522 | C82: ='Efinal (ktep)'!C82/0.086 -> 2.5141017 | D82: ='Efinal (ktep)'!D82/0.086 -> 2.7294811 | E82: ='Efinal (ktep)'!E82/0.086 -> 2.9994256 | F82: ='Efinal (ktep)'!F82/0.086 -> 3.1254689 | G82: ='Efinal (ktep)'!G82/0.086 -> 3.3641003
A83: Calor renovable bomba calor hidrotérmica | B83: ='Efinal (ktep)'!B83/0.086 -> 0 | C83: ='Efinal (ktep)'!C83/0.086 -> 0 | D83: ='Efinal (ktep)'!D83/0.086 -> 0 | E83: ='Efinal (ktep)'!E83/0.086 -> 0 | F83: ='Efinal (ktep)'!F83/0.086 -> 0 | G83: ='Efinal (ktep)'!G83/0.086 -> 0
A84: Calor renovable bomba calor aerotérmica | B84: ='Efinal (ktep)'!B84/0.086 -> 5.7846448 | C84: ='Efinal (ktep)'!C84/0.086 -> 6.2753884 | D84: ='Efinal (ktep)'!D84/0.086 -> 6.9714155 | E84: ='Efinal (ktep)'!E84/0.086 -> 7.625242 | F84: ='Efinal (ktep)'!F84/0.086 -> 8.3158124 | G84: ='Efinal (ktep)'!G84/0.086 -> 9.3694734
A85: Hidrógeno Verde uso térmico | B85: ='Efinal (ktep)'!B85/0.086 -> 0 | C85: ='Efinal (ktep)'!C85/0.086 -> 0 | D85: ='Efinal (ktep)'!D85/0.086 -> 0 | E85: ='Efinal (ktep)'!E85/0.086 -> 0 | F85: ='Efinal (ktep)'!F85/0.086 -> 0 | G85: ='Efinal (ktep)'!G85/0.086 -> 0
A86: Residuos renovables para combustión | B86: ='Efinal (ktep)'!B86/0.086 -> 0 | C86: ='Efinal (ktep)'!C86/0.086 -> 0 | D86: ='Efinal (ktep)'!D86/0.086 -> 0 | E86: ='Efinal (ktep)'!E86/0.086 -> 0 | F86: ='Efinal (ktep)'!F86/0.086 -> 0 | G86: ='Efinal (ktep)'!G86/0.086 -> 0
A87: Combustibles para transporte | B87: =B88+B95+B98+B103+B107+B110 -> 3695.6261 | C87: =C88+C95+C98+C103+C107+C110 -> 3832.9362 | D87: =D88+D95+D98+D103+D107+D110 -> 3902.7729 | E87: =E88+E95+E98+E103+E107+E110 -> 4074.4493 | F87: =F88+F95+F98+F103+F107+F110 -> 3490.1359 | G87: =G88+G95+G98+G103+G107+G110 -> 3664.7697
A88: Combustibles transporte urbano e por estrada | B88: =SUM(B89:B94) -> 2666.6786 | C88: =SUM(C89:C94) -> 2732.4712 | D88: =SUM(D89:D94) -> 2739.1082 | E88: =SUM(E89:E94) -> 2844.4461 | F88: =SUM(F89:F94) -> 2254.4664 | G88: =SUM(G89:G94) -> 2558.2929
A89: Gasolina 95 I.O. | B89: ='Efinal (ktep)'!B89/0.086 -> 294.6205 | C89: ='Efinal (ktep)'!C89/0.086 -> 297.03416 | D89: ='Efinal (ktep)'!D89/0.086 -> 305.97393 | E89: ='Efinal (ktep)'!E89/0.086 -> 331.40607 | F89: ='Efinal (ktep)'!F89/0.086 -> 260.8853 | G89: ='Efinal (ktep)'!G89/0.086 -> 308.35224
A90: Gasolina 98 I.O. | B90: ='Efinal (ktep)'!B90/0.086 -> 17.827501 | C90: ='Efinal (ktep)'!C90/0.086 -> 18.764492 | D90: ='Efinal (ktep)'!D90/0.086 -> 18.934336 | E90: ='Efinal (ktep)'!E90/0.086 -> 20.885434 | F90: ='Efinal (ktep)'!F90/0.086 -> 17.356965 | G90: ='Efinal (ktep)'!G90/0.086 -> 17.742552
A91: Gasoleo A | B91: ='Efinal (ktep)'!B91/0.086 -> 2348.9322 | C91: ='Efinal (ktep)'!C91/0.086 -> 2411.1296 | D91: ='Efinal (ktep)'!D91/0.086 -> 2407.5686 | E91: ='Efinal (ktep)'!E91/0.086 -> 2482.8901 | F91: ='Efinal (ktep)'!F91/0.086 -> 1968.1923 | G91: ='Efinal (ktep)'!G91/0.086 -> 2220.0565
A92: GLP | B92: ='Efinal (ktep)'!B92/0.086 -> 0.83190698 | C92: ='Efinal (ktep)'!C92/0.086 -> 1.0095465 | D92: ='Efinal (ktep)'!D92/0.086 -> 1.643644 | E92: ='Efinal (ktep)'!E92/0.086 -> 4.2746928 | F92: ='Efinal (ktep)'!F92/0.086 -> 4.0361216 | G92: ='Efinal (ktep)'!G92/0.086 -> 6.9492809
A93: Gas natural | B93: ='Efinal (ktep)'!B93/0.086 -> 4.4653867 | C93: ='Efinal (ktep)'!C93/0.086 -> 4.5323675 | D93: ='Efinal (ktep)'!D93/0.086 -> 4.9856042 | E93: ='Efinal (ktep)'!E93/0.086 -> 4.9856042 | F93: ='Efinal (ktep)'!F93/0.086 -> 3.9884834 | G93: ='Efinal (ktep)'!G93/0.086 -> 5.1850284
A94: Hidróxeno Verde | B94: ='Efinal (ktep)'!B94/0.086 -> 0.0010415625 | C94: ='Efinal (ktep)'!C94/0.086 -> 0.0010415625 | D94: ='Efinal (ktep)'!D94/0.086 -> 0.002083125 | E94: ='Efinal (ktep)'!E94/0.086 -> 0.00416625 | F94: ='Efinal (ktep)'!F94/0.086 -> 0.0072909375 | G94: ='Efinal (ktep)'!G94/0.086 -> 0.0072909375
A95: Combustibles transporte por ferrocarril | B95: =SUM(B96:B97) -> 17.875179 | C95: =SUM(C96:C97) -> 16.987739 | D95: =SUM(D96:D97) -> 17.133994 | E95: =SUM(E96:E97) -> 17.515513 | F95: =SUM(F96:F97) -> 13.692821 | G95: =SUM(G96:G97) -> 15.510581
A96: Gasóleo B | B96: ='Efinal (ktep)'!B96/0.086 -> 17.875179 | C96: ='Efinal (ktep)'!C96/0.086 -> 16.987739 | D96: ='Efinal (ktep)'!D96/0.086 -> 17.133994 | E96: ='Efinal (ktep)'!E96/0.086 -> 17.515513 | F96: ='Efinal (ktep)'!F96/0.086 -> 13.692821 | G96: ='Efinal (ktep)'!G96/0.086 -> 15.510581
A97: Hidróxeno Verde | B97: ='Efinal (ktep)'!B97/0.086 -> 0 | C97: ='Efinal (ktep)'!C97/0.086 -> 0 | D97: ='Efinal (ktep)'!D97/0.086 -> 0 | E97: ='Efinal (ktep)'!E97/0.086 -> 0 | F97: ='Efinal (ktep)'!F97/0.086 -> 0 | G97: ='Efinal (ktep)'!G97/0.086 -> 0
A98: Combustibles transporte marítimo | B98: =SUM(B99:B102) -> 170.27563 | C98: =SUM(C99:C102) -> 177.53367 | D98: =SUM(D99:D102) -> 191.58927 | E98: =SUM(E99:E102) -> 206.17877 | F98: =SUM(F99:F102) -> 175.52223 | G98: =SUM(G99:G102) -> 182.01289
A99: Fuel óleos | B99: ='Efinal (ktep)'!B99/0.086 -> 27.325751 | C99: ='Efinal (ktep)'!C99/0.086 -> 36.960905 | D99: ='Efinal (ktep)'!D99/0.086 -> 31.287459 | E99: ='Efinal (ktep)'!E99/0.086 -> 63.859619 | F99: ='Efinal (ktep)'!F99/0.086 -> 28.731048 | G99: ='Efinal (ktep)'!G99/0.086 -> 44.031115
A100: Gasóleo B | B100: ='Efinal (ktep)'!B100/0.086 -> 142.94988 | C100: ='Efinal (ktep)'!C100/0.086 -> 140.57277 | D100: ='Efinal (ktep)'!D100/0.086 -> 160.30181 | E100: ='Efinal (ktep)'!E100/0.086 -> 142.31916 | F100: ='Efinal (ktep)'!F100/0.086 -> 146.79118 | G100: ='Efinal (ktep)'!G100/0.086 -> 137.98177
A101: Gas natural | B101: ='Efinal (ktep)'!B101/0.086 -> 0 | C101: ='Efinal (ktep)'!C101/0.086 -> 0 | D101: ='Efinal (ktep)'!D101/0.086 -> 0 | E101: ='Efinal (ktep)'!E101/0.086 -> 0 | F101: ='Efinal (ktep)'!F101/0.086 -> 0 | G101: ='Efinal (ktep)'!G101/0.086 -> 0
...

Sheet Efinal (ktep)
A1: DISTRIBUCIÓN DO CONSUMO NA CORUÑA (ktep)
B2: 2016 | C2: 2017 | D2: 2018 | E2: 2019 | F2: 2020 | G2: 2021
A3: Consumo final electricidade | B3: ='Efinal (tep)'!B3/1000 -> 679.24851 | C3: ='Efinal (tep)'!C3/1000 -> 680.53764 | D3: ='Efinal (tep)'!D3/1000 -> 705.50379 | E3: ='Efinal (tep)'!E3/1000 -> 574.12544 | F3: ='Efinal (tep)'!F3/1000 -> 521.60332 | G3: ='Efinal (tep)'!G3/1000 -> 552.19985
A4: Consumo calor coxeración | B4: =SUM(B5:B10) -> 66.870225 | C4: =SUM(C5:C10) -> 65.783879 | D4: =SUM(D5:D10) -> 60.144353 | E4: =SUM(E5:E10) -> 55.031502 | F4: =SUM(F5:F10) -> 49.478699 | G4: =SUM(G5:G10) -> 147.597
A5: Calor coxeración produtos petrolíferos | B5: ='Efinal (tep)'!B5/1000 -> 23.269929 | C5: ='Efinal (tep)'!C5/1000 -> 22.765054 | D5: ='Efinal (tep)'!D5/1000 -> 22.445096 | E5: ='Efinal (tep)'!E5/1000 -> 21.627045 | F5: ='Efinal (tep)'!F5/1000 -> 17.652755 | G5: ='Efinal (tep)'!G5/1000 -> 41.599566
A6: Calor coxeración gas natural | B6: ='Efinal (tep)'!B6/1000 -> 37.414783 | C6: ='Efinal (tep)'!C6/1000 -> 37.317824 | D6: ='Efinal (tep)'!D6/1000 -> 31.784465 | E6: ='Efinal (tep)'!E6/1000 -> 31.675151 | F6: ='Efinal (tep)'!F6/1000 -> 28.973545 | G6: ='Efinal (tep)'!G6/1000 -> 105.60588
A7: Calor centrais residuos non renovables | B7: ='Efinal (tep)'!B7/1000 -> 6.1855131 | C7: ='Efinal (tep)'!C7/1000 -> 5.5967888 | D7: ='Efinal (tep)'!D7/1000 -> 5.3075645 | E7: ='Efinal (tep)'!E7/1000 -> 1.6945103 | F7: ='Efinal (tep)'!F7/1000 -> 2.3974477 | G7: ='Efinal (tep)'!G7/1000 -> 0.39154846
A8: Calor centrais residuos renovables | B8: ='Efinal (tep)'!B8/1000 -> 0 | C8: ='Efinal (tep)'!C8/1000 -> 0.1042122 | D8: ='Efinal (tep)'!D8/1000 -> 0.60722703 | E8: ='Efinal (tep)'!E8/1000 -> 0.034796496 | F8: ='Efinal (tep)'!F8/1000 -> 0.45495214 | G8: ='Efinal (tep)'!G8/1000 -> 0
A9: Calor centrais de biomasa e residuos da biomasa | B9: ='Efinal (tep)'!B9/1000 -> 0 | C9: ='Efinal (tep)'!C9/1000 -> 0 | D9: ='Efinal (tep)'!D9/1000 -> 0 | E9: ='Efinal (tep)'!E9/1000 -> 0 | F9: ='Efinal (tep)'!F9/1000 -> 0 | G9: ='Efinal (tep)'!G9/1000 -> 0
A10: Calor centrais de biogás | B10: ='Efinal (tep)'!B10/1000 -> 0 | C10: ='Efinal (tep)'!C10/1000 -> 0 | D10: ='Efinal (tep)'!D10/1000 -> 0 | E10: ='Efinal (tep)'!E10/1000 -> 0 | F10: ='Efinal (tep)'!F10/1000 -> 0 | G10: ='Efinal (tep)'!G10/1000 -> 0
A11: Combustibles convencionais uso térmico | B11: =SUM(B12:B18) -> 577.38259 | C11: =SUM(C12:C18) -> 592.43719 | D11: =SUM(D12:D18) -> 641.75722 | E11: =SUM(E12:E18) -> 640.83749 | F11: =SUM(F12:F18) -> 525.96269 | G11: =SUM(G12:G18) -> 637.78688
A12: Gas natural para combustión y distric heating | B12: ='Efinal (tep)'!B12/1000 -> 309.86972 | C12: ='Efinal (tep)'!C12/1000 -> 332.36229 | D12: ='Efinal (tep)'!D12/1000 -> 364.19528 | E12: ='Efinal (tep)'!E12/1000 -> 359.41683 | F12: ='Efinal (tep)'!F12/1000 -> 293.89913 | G12: ='Efinal (tep)'!G12/1000 -> 425.06774
A13: Residuos non renovables para combustión (incluidas la Eresiduales Repsol) | B13: ='Efinal (tep)'!B13/1000 -> 145.96233 | C13: ='Efinal (tep)'!C13/1000 -> 144.5684 | D13: ='Efinal (tep)'!D13/1000 -> 157.58045 | E13: ='Efinal (tep)'!E13/1000 -> 159.83878 | F13: ='Efinal (tep)'!F13/1000 -> 116.39945 | G13: ='Efinal (tep)'!G13/1000 -> 115.6159
A14: Fuel para combustión | B14: ='Efinal (tep)'!B14/1000 -> 5.086866 | C14: ='Efinal (tep)'!C14/1000 -> 6.0995096 | D14: ='Efinal (tep)'!D14/1000 -> 2.4703462 | E14: ='Efinal (tep)'!E14/1000 -> 8.2952518 | F14: ='Efinal (tep)'!F14/1000 -> 5.3468908 | G14: ='Efinal (tep)'!G14/1000 -> 1.3868681
A15: Gasóleo C para combustión | B15: ='Efinal (tep)'!B15/1000 -> 71.746753 | C15: ='Efinal (tep)'!C15/1000 -> 57.003284 | D15: ='Efinal (tep)'!D15/1000 -> 66.431469 | E15: ='Efinal (tep)'!E15/1000 -> 64.247637 | F15: ='Efinal (tep)'!F15/1000 -> 66.157143 | G15: ='Efinal (tep)'!G15/1000 -> 50.62432
A16: GLP para combustión | B16: ='Efinal (tep)'!B16/1000 -> 42.896301 | C16: ='Efinal (tep)'!C16/1000 -> 51.25541 | D16: ='Efinal (tep)'!D16/1000 -> 49.403454 | E16: ='Efinal (tep)'!E16/1000 -> 47.565243 | F16: ='Efinal (tep)'!F16/1000 -> 43.192082 | G16: ='Efinal (tep)'!G16/1000 -> 44.027036
A17: Coque para combustión | B17: ='Efinal (tep)'!B17/1000 -> 1.820612 | C17: ='Efinal (tep)'!C17/1000 -> 1.148292 | D17: ='Efinal (tep)'!D17/1000 -> 1.676216 | E17: ='Efinal (tep)'!E17/1000 -> 1.473756 | F17: ='Efinal (tep)'!F17/1000 -> 0.967988 | G17: ='Efinal (tep)'!G17/1000 -> 1.065016
A18: Carbón para combustión | B18: ='Efinal (tep)'!B18/1000 -> 0 | C18: ='Efinal (tep)'!C18/1000 -> 0 | D18: ='Efinal (tep)'!D18/1000 -> 0 | E18: ='Efinal (tep)'!E18/1000 -> 0 | F18: ='Efinal (tep)'!F18/1000 -> 0 | G18: ='Efinal (tep)'!G18/1000 -> 0
A19: Renovables uso térmico | B19: =SUM(B20:B29) -> 226.77899 | C19: =SUM(C20:C29) -> 229.238 | D19: =SUM(D20:D29) -> 233.21889 | E19: =SUM(E20:E29) -> 234.97853 | F19: =SUM(F20:F29) -> 236.08406 | G19: =SUM(G20:G29) -> 238.40339
A20: Biomasa sólida para combustión con distric heating | B20: ='Efinal (tep)'!B20/1000 -> 213.91329 | C20: ='Efinal (tep)'!C20/1000 -> 216.03687 | D20: ='Efinal (tep)'!D20/1000 -> 219.53942 | E20: ='Efinal (tep)'!E20/1000 -> 220.80391 | F20: ='Efinal (tep)'!F20/1000 -> 221.49519 | G20: ='Efinal (tep)'!G20/1000 -> 222.88365
A21: Biogás para combustión (con el inyectado al gasoducto) | B21: ='Efinal (tep)'!B21/1000 -> 1.5321075 | C21: ='Efinal (tep)'!C21/1000 -> 1.5321075 | D21: ='Efinal (tep)'!D21/1000 -> 1.5321075 | E21: ='Efinal (tep)'!E21/1000 -> 1.5321075 | F21: ='Efinal (tep)'!F21/1000 -> 1.5321075 | G21: ='Efinal (tep)'!G21/1000 -> 1.5321075
A22: Solar térmica | B22: ='Efinal (tep)'!B22/1000 -> 2.1866041 | C22: ='Efinal (tep)'!C22/1000 -> 2.2625991 | D22: ='Efinal (tep)'!D22/1000 -> 2.3145424 | E22: ='Efinal (tep)'!E22/1000 -> 2.3846224 | F22: ='Efinal (tep)'!F22/1000 -> 2.5540839 | G22: ='Efinal (tep)'!G22/1000 -> 2.5770473
A23: Distric heating con xeotermia | B23: ='Efinal (tep)'!B23/1000 -> 0 | C23: ='Efinal (tep)'!C23/1000 -> 0 | D23: ='Efinal (tep)'!D23/1000 -> 0 | E23: ='Efinal (tep)'!E23/1000 -> 0 | F23: ='Efinal (tep)'!F23/1000 -> 0 | G23: ='Efinal (tep)'!G23/1000 -> 0
A24: Xeotermia pura | B24: ='Efinal (tep)'!B24/1000 -> 0 | C24: ='Efinal (tep)'!C24/1000 -> 0 | D24: ='Efinal (tep)'!D24/1000 -> 0 | E24: ='Efinal (tep)'!E24/1000 -> 0 | F24: ='Efinal (tep)'!F24/1000 -> 0 | G24: ='Efinal (tep)'!G24/1000 -> 0
A25: Calor renovable bomba calor xeotérmica | B25: ='Efinal (tep)'!B25/1000 -> 0.72601794 | C25: ='Efinal (tep)'!C25/1000 -> 0.76459355 | D25: ='Efinal (tep)'!D25/1000 -> 0.80584084 | E25: ='Efinal (tep)'!E25/1000 -> 0.91485481 | F25: ='Efinal (tep)'!F25/1000 -> 1.0066785 | G25: ='Efinal (tep)'!G25/1000 -> 1.0943871
A26: Calor renovable bomba calor hidrotérmica | B26: ='Efinal (tep)'!B26/1000 -> 0 | C26: ='Efinal (tep)'!C26/1000 -> 0 | D26: ='Efinal (tep)'!D26/1000 -> 0 | E26: ='Efinal (tep)'!E26/1000 -> 0 | F26: ='Efinal (tep)'!F26/1000 -> 0 | G26: ='Efinal (tep)'!G26/1000 -> 0
A27: Calor renovable bomba calor aerotérmica | B27: ='Efinal (tep)'!B27/1000 -> 2.3257734 | C27: ='Efinal (tep)'!C27/1000 -> 2.5466334 | D27: ='Efinal (tep)'!D27/1000 -> 2.9317889 | E27: ='Efinal (tep)'!E27/1000 -> 3.2478439 | F27: ='Efinal (tep)'!F27/1000 -> 3.4007991 | G27: ='Efinal (tep)'!G27/1000 -> 3.7412339
A28: Hidrógeno Verde uso térmico | B28: ='Efinal (tep)'!B28/1000 -> 0 | C28: ='Efinal (tep)'!C28/1000 -> 0 | D28: ='Efinal (tep)'!D28/1000 -> 0 | E28: ='Efinal (tep)'!E28/1000 -> 0 | F28: ='Efinal (tep)'!F28/1000 -> 0 | G28: ='Efinal (tep)'!G28/1000 -> 0
A29: Residuos renovables para combustión | B29: ='Efinal (tep)'!B29/1000 -> 6.095197 | C29: ='Efinal (tep)'!C29/1000 -> 6.095197 | D29: ='Efinal (tep)'!D29/1000 -> 6.095197 | E29: ='Efinal (tep)'!E29/1000 -> 6.095197 | F29: ='Efinal (tep)'!F29/1000 -> 6.095197 | G29: ='Efinal (tep)'!G29/1000 -> 6.5749642
A30: Combustibles para transporte | B30: =B31+B38+B41+B46+B50+B53 -> 848.19402 | C30: =C31+C38+C41+C46+C50+C53 -> 854.54584 | D30: =D31+D38+D41+D46+D50+D53 -> 855.47658 | E30: =E31+E38+E41+E46+E50+E53 -> 876.78132 | F30: =F31+F38+F41+F46+F50+F53 -> 650.88709 | G30: =G31+G38+G41+G46+G50+G53 -> 783.0096
A31: Combustibles transporte urbano e por estrada | B31: =SUM(B32:B37) -> 621.97785 | C31: =SUM(C32:C37) -> 609.69484 | D31: =SUM(D32:D37) -> 604.88264 | E31: =SUM(E32:E37) -> 599.48059 | F31: =SUM(F32:F37) -> 436.56667 | G31: =SUM(G32:G37) -> 575.95643
A32: Gasolina 95 I.O. | B32: ='Efinal (tep)'!B32/1000 -> 89.754661 | C32: ='Efinal (tep)'!C32/1000 -> 90.371969 | D32: ='Efinal (tep)'!D32/1000 -> 91.185457 | E32: ='Efinal (tep)'!E32/1000 -> 95.777049 | F32: ='Efinal (tep)'!F32/1000 -> 70.00162 | G32: ='Efinal (tep)'!G32/1000 -> 95.614766
A33: Gasolina 98 I.O. | B33: ='Efinal (tep)'!B33/1000 -> 5.4387767 | C33: ='Efinal (tep)'!C33/1000 -> 5.5594083 | D33: ='Efinal (tep)'!D33/1000 -> 5.561634 | E33: ='Efinal (tep)'!E33/1000 -> 5.9097262 | F33: ='Efinal (tep)'!F33/1000 -> 5.3288238 | G33: ='Efinal (tep)'!G33/1000 -> 5.6876947
A34: Gasoleo A | B34: ='Efinal (tep)'!B34/1000 -> 518.759 | C34: ='Efinal (tep)'!C34/1000 -> 505.5031 | D34: ='Efinal (tep)'!D34/1000 -> 499.39479 | E34: ='Efinal (tep)'!E34/1000 -> 488.17571 | F34: ='Efinal (tep)'!F34/1000 -> 353.71876 | G34: ='Efinal (tep)'!G34/1000 -> 463.80121
A35: GLP | B35: ='Efinal (tep)'!B35/1000 -> 0.84790484 | C35: ='Efinal (tep)'!C35/1000 -> 0.86753082 | D35: ='Efinal (tep)'!D35/1000 -> 1.1260549 | E35: ='Efinal (tep)'!E35/1000 -> 1.850933 | F35: ='Efinal (tep)'!F35/1000 -> 1.3033909 | G35: ='Efinal (tep)'!G35/1000 -> 2.1533046
A36: Gas natural | B36: ='Efinal (tep)'!B36/1000 -> 7.1774198 | C36: ='Efinal (tep)'!C36/1000 -> 7.3927424 | D36: ='Efinal (tep)'!D36/1000 -> 7.6145246 | E36: ='Efinal (tep)'!E36/1000 -> 7.7668151 | F36: ='Efinal (tep)'!F36/1000 -> 6.2134521 | G36: ='Efinal (tep)'!G36/1000 -> 8.6988329
A37: Hidróxeno Verde | B37: ='Efinal (tep)'!B37/1000 -> 8.9574375e-05 | C37: ='Efinal (tep)'!C37/1000 -> 8.9574375e-05 | D37: ='Efinal (tep)'!D37/1000 -> 0.00017914875 | E37: ='Efinal (tep)'!E37/1000 -> 0.0003582975 | F37: ='Efinal (tep)'!F37/1000 -> 0.00062702063 | G37: ='Efinal (tep)'!G37/1000 -> 0.00062702063
A38: Combustibles transporte por ferrocarril | B38: =SUM(B39:B40) -> 1.5372654 | C38: =SUM(C39:C40) -> 1.4609455 | D38: =SUM(D39:D40) -> 1.4735235 | E38: =SUM(E39:E40) -> 1.5063341 | F38: =SUM(F39:F40) -> 1.1775826 | G38: =SUM(G39:G40) -> 1.3339099
A39: Gasóleo B | B39: ='Efinal (tep)'!B39/1000 -> 1.5372654 | C39: ='Efinal (tep)'!C39/1000 -> 1.4609455 | D39: ='Efinal (tep)'!D39/1000 -> 1.4735235 | E39: ='Efinal (tep)'!E39/1000 -> 1.5063341 | F39: ='Efinal (tep)'!F39/1000 -> 1.1775826 | G39: ='Efinal (tep)'!G39/1000 -> 1.3339099
A40: Hidróxeno Verde | B40: ='Efinal (tep)'!B40/1000 -> 0 | C40: ='Efinal (tep)'!C40/1000 -> 0 | D40: ='Efinal (tep)'!D40/1000 -> 0 | E40: ='Efinal (tep)'!E40/1000 -> 0 | F40: ='Efinal (tep)'!F40/1000 -> 0 | G40: ='Efinal (tep)'!G40/1000 -> 0
A41: Combustibles transporte marítimo | B41: =SUM(B42:B45) -> 69.491126 | C41: =SUM(C42:C45) -> 75.869278 | D41: =SUM(D42:D45) -> 78.397268 | E41: =SUM(E42:E45) -> 96.408606 | F41: =SUM(F42:F45) -> 72.659777 | G41: =SUM(G42:G45) -> 65.977124
A42: Fuel óleos | B42: ='Efinal (tep)'!B42/1000 -> 20.316367 | C42: ='Efinal (tep)'!C42/1000 -> 27.512247 | D42: ='Efinal (tep)'!D42/1000 -> 23.253446 | E42: ='Efinal (tep)'!E42/1000 -> 47.450816 | F42: ='Efinal (tep)'!F42/1000 -> 22.163611 | G42: ='Efinal (tep)'!G42/1000 -> 18.511395
A43: Gasóleo B | B43: ='Efinal (tep)'!B43/1000 -> 49.174759 | C43: ='Efinal (tep)'!C43/1000 -> 48.357032 | D43: ='Efinal (tep)'!D43/1000 -> 55.143822 | E43: ='Efinal (tep)'!E43/1000 -> 48.957789 | F43: ='Efinal (tep)'!F43/1000 -> 50.496166 | G43: ='Efinal (tep)'!G43/1000 -> 47.465729
A44: Gas natural | B44: ='Efinal (tep)'!B44/1000 -> 0 | C44: ='Efinal (tep)'!C44/1000 -> 0 | D44: ='Efinal (tep)'!D44/1000 -> 0 | E44: ='Efinal (tep)'!E44/1000 -> 0 | F44: ='Efinal (tep)'!F44/1000 -> 0 | G44: ='Efinal (tep)'!G44/1000 -> 0
A45: Hidróxeno Verde | B45: ='Efinal (tep)'!B45/1000 -> 0 | C45: ='Efinal (tep)'!C45/1000 -> 0 | D45: ='Efinal (tep)'!D45/1000 -> 0 | E45: ='Efinal (tep)'!E45/1000 -> 0 | F45: ='Efinal (tep)'!F45/1000 -> 0 | G45: ='Efinal (tep)'!G45/1000 -> 0
A46: Combustibles transporte aéreo | B46: =SUM(B47:B49) -> 40.992792 | C46: =SUM(C47:C49) -> 44.970531 | D46: =SUM(D47:D49) -> 41.076277 | E46: =SUM(E47:E49) -> 43.454102 | F46: =SUM(F47:F49) -> 20.298396 | G46: =SUM(G47:G49) -> 26.334947
A47: Gasolina Aviación | B47: ='Efinal (tep)'!B47/1000 -> 0.069022213 | C47: ='Efinal (tep)'!C47/1000 -> 0.057854649 | D47: ='Efinal (tep)'!D47/1000 -> 0.03821066 | E47: ='Efinal (tep)'!E47/1000 -> 0.046667868 | F47: ='Efinal (tep)'!F47/1000 -> 0.057828947 | G47: ='Efinal (tep)'!G47/1000 -> 0.06614902
A48: Queroseno Aviación | B48: ='Efinal (tep)'!B48/1000 -> 40.92377 | C48: ='Efinal (tep)'!C48/1000 -> 44.912676 | D48: ='Efinal (tep)'!D48/1000 -> 41.038067 | E48: ='Efinal (tep)'!E48/1000 -> 43.407435 | F48: ='Efinal (tep)'!F48/1000 -> 20.240567 | G48: ='Efinal (tep)'!G48/1000 -> 26.268798
A49: Hidróxeno Verde | B49: ='Efinal (tep)'!B49/1000 -> 0 | C49: ='Efinal (tep)'!C49/1000 -> 0 | D49: ='Efinal (tep)'!D49/1000 -> 0 | E49: ='Efinal (tep)'!E49/1000 -> 0 | F49: ='Efinal (tep)'!F49/1000 -> 0 | G49: ='Efinal (tep)'!G49/1000 -> 0
A50: Combustibles pesca, agric, minas, construcción | B50: =SUM(B51:B52) -> 87.965245 | C50: =SUM(C51:C52) -> 93.309898 | D50: =SUM(D51:D52) -> 94.473097 | E50: =SUM(E51:E52) -> 101.98731 | F50: =SUM(F51:F52) -> 94.355779 | G50: =SUM(G51:G52) -> 77.105016
A51: Gasóleo B | B51: ='Efinal (tep)'!B51/1000 -> 87.965245 | C51: ='Efinal (tep)'!C51/1000 -> 93.309898 | D51: ='Efinal (tep)'!D51/1000 -> 94.473097 | E51: ='Efinal (tep)'!E51/1000 -> 101.98731 | F51: ='Efinal (tep)'!F51/1000 -> 94.355779 | G51: ='Efinal (tep)'!G51/1000 -> 77.105016
A52: Queroseno | B52: ='Efinal (tep)'!B52/1000 -> 0 | C52: ='Efinal (tep)'!C52/1000 -> 0 | D52: ='Efinal (tep)'!D52/1000 -> 0 | E52: ='Efinal (tep)'!E52/1000 -> 0 | F52: ='Efinal (tep)'!F52/1000 -> 0 | G52: ='Efinal (tep)'!G52/1000 -> 0
A53: Biocarburantes | B53: ='Efinal (tep)'!B53/1000 -> 26.229744 | C53: ='Efinal (tep)'!C53/1000 -> 29.24035 | D53: ='Efinal (tep)'!D53/1000 -> 35.17377 | E53: ='Efinal (tep)'!E53/1000 -> 33.944387 | F53: ='Efinal (tep)'!F53/1000 -> 25.828887 | G53: ='Efinal (tep)'!G53/1000 -> 36.302167
A54: Consumo Total | B54: =B3+B4+B11+B19+B30 -> 2398.4743 | C54: =C3+C4+C11+C19+C30 -> 2422.5425 | D54: =D3+D4+D11+D19+D30 -> 2496.1008 | E54: =E3+E4+E11+E19+E30 -> 2381.7543 | F54: =F3+F4+F11+F19+F30 -> 1984.0159 | G54: =G3+G4+G11+G19+G30 -> 2358.9967
A55: (*) Considérase o consumo no transporte, pesca, agricultura, minas e construción
A58: DISTRIBUCIÓN DO CONSUMO EN LUGO (ktep)
B59: 2016 | C59: 2017 | D59: 2018 | E59: 2019 | F59: 2020 | G59: 2021
A60: Consumo final electricidade | B60: ='Efinal (tep)'!B60/1000 -> 448.18092 | C60: ='Efinal (tep)'!C60/1000 -> 448.03128 | D60: ='Efinal (tep)'!D60/1000 -> 448.45042 | E60: ='Efinal (tep)'!E60/1000 -> 446.70495 | F60: ='Efinal (tep)'!F60/1000 -> 414.83082 | G60: ='Efinal (tep)'!G60/1000 -> 416.38831
A61: Consumo calor coxeración | B61: =SUM(B62:B67) -> 60.684712 | C61: =SUM(C62:C67) -> 60.082878 | D61: =SUM(D62:D67) -> 54.229561 | E61: =SUM(E62:E67) -> 53.302195 | F61: =SUM(F62:F67) -> 46.6263 | G61: =SUM(G62:G67) -> 4.4605704
A62: Calor coxeración produtos petrolíferos | B62: ='Efinal (tep)'!B62/1000 -> 23.269929 | C62: ='Efinal (tep)'!C62/1000 -> 22.765054 | D62: ='Efinal (tep)'!D62/1000 -> 22.445096 | E62: ='Efinal (tep)'!E62/1000 -> 21.627045 | F62: ='Efinal (tep)'!F62/1000 -> 17.652755 | G62: ='Efinal (tep)'!G62/1000 -> 0.0064894051
A63: Calor coxeración gas natural | B63: ='Efinal (tep)'!B63/1000 -> 37.414783 | C63: ='Efinal (tep)'!C63/1000 -> 37.317824 | D63: ='Efinal (tep)'!D63/1000 -> 31.784465 | E63: ='Efinal (tep)'!E63/1000 -> 31.675151 | F63: ='Efinal (tep)'!F63/1000 -> 28.973545 | G63: ='Efinal (tep)'!G63/1000 -> 4.4535212
A64: Calor centrais residuos non renovables | B64: ='Efinal (tep)'!B64/1000 -> 0 | C64: ='Efinal (tep)'!C64/1000 -> 0 | D64: ='Efinal (tep)'!D64/1000 -> 0 | E64: ='Efinal (tep)'!E64/1000 -> 0 | F64: ='Efinal (tep)'!F64/1000 -> 0 | G64: ='Efinal (tep)'!G64/1000 -> 0
A65: Calor centrais residuos renovables | B65: ='Efinal (tep)'!B65/1000 -> 0 | C65: ='Efinal (tep)'!C65/1000 -> 0 | D65: ='Efinal (tep)'!D65/1000 -> 0 | E65: ='Efinal (tep)'!E65/1000 -> 0 | F65: ='Efinal (tep)'!F65/1000 -> 0 | G65: ='Efinal (tep)'!G65/1000 -> 0
A66: Calor centrais de biomasa e residuos da biomasa | B66: ='Efinal (tep)'!B66/1000 -> 0 | C66: ='Efinal (tep)'!C66/1000 -> 0 | D66: ='Efinal (tep)'!D66/1000 -> 0 | E66: ='Efinal (tep)'!E66/1000 -> 0 | F66: ='Efinal (tep)'!F66/1000 -> 0 | G66: ='Efinal (tep)'!G66/1000 -> 0
A67: Calor centrais de biogás | B67: ='Efinal (tep)'!B67/1000 -> 0 | C67: ='Efinal (tep)'!C67/1000 -> 0 | D67: ='Efinal (tep)'!D67/1000 -> 0 | E67: ='Efinal (tep)'!E67/1000 -> 0 | F67: ='Efinal (tep)'!F67/1000 -> 0 | G67: ='Efinal (tep)'!G67/1000 -> 0.00055986
A68: Combustibles convencionais uso térmico | B68: =SUM(B69:B75) -> 410.46521 | C68: =SUM(C69:C75) -> 459.28338 | D68: =SUM(D69:D75) -> 460.87612 | E68: =SUM(E69:E75) -> 458.16283 | F68: =SUM(F69:F75) -> 430.35267 | G68: =SUM(G69:G75) -> 435.5672
A69: Gas natural para combustión y distric heating | B69: ='Efinal (tep)'!B69/1000 -> 330.41562 | C69: ='Efinal (tep)'!C69/1000 -> 362.85172 | D69: ='Efinal (tep)'!D69/1000 -> 361.65881 | E69: ='Efinal (tep)'!E69/1000 -> 368.57273 | F69: ='Efinal (tep)'!F69/1000 -> 355.76149 | G69: ='Efinal (tep)'!G69/1000 -> 366.67239
A70: Residuos non renovables para combustión (incluidas la Eresiduales Repsol) | B70: ='Efinal (tep)'!B70/1000 -> 0 | C70: ='Efinal (tep)'!C70/1000 -> 0 | D70: ='Efinal (tep)'!D70/1000 -> 0 | E70: ='Efinal (tep)'!E70/1000 -> 0 | F70: ='Efinal (tep)'!F70/1000 -> 0 | G70: ='Efinal (tep)'!G70/1000 -> 0
A71: Fuel para combustión | B71: ='Efinal (tep)'!B71/1000 -> 11.817677 | C71: ='Efinal (tep)'!C71/1000 -> 10.45496 | D71: ='Efinal (tep)'!D71/1000 -> 12.216369 | E71: ='Efinal (tep)'!E71/1000 -> 6.7316597 | F71: ='Efinal (tep)'!F71/1000 -> 7.4806286 | G71: ='Efinal (tep)'!G71/1000 -> 8.9991028
A72: Gasóleo C para combustión | B72: ='Efinal (tep)'!B72/1000 -> 42.482673 | C72: ='Efinal (tep)'!C72/1000 -> 40.486428 | D72: ='Efinal (tep)'!D72/1000 -> 43.557218 | E72: ='Efinal (tep)'!E72/1000 -> 41.294758 | F72: ='Efinal (tep)'!F72/1000 -> 39.723108 | G72: ='Efinal (tep)'!G72/1000 -> 32.564798
A73: GLP para combustión | B73: ='Efinal (tep)'!B73/1000 -> 20.036812 | C73: ='Efinal (tep)'!C73/1000 -> 21.824609 | D73: ='Efinal (tep)'!D73/1000 -> 22.93261 | E73: ='Efinal (tep)'!E73/1000 -> 22.902985 | F73: ='Efinal (tep)'!F73/1000 -> 19.768315 | G73: ='Efinal (tep)'!G73/1000 -> 20.61993
A74: Coque para combustión | B74: ='Efinal (tep)'!B74/1000 -> 5.712428 | C74: ='Efinal (tep)'!C74/1000 -> 23.665664 | D74: ='Efinal (tep)'!D74/1000 -> 20.511108 | E74: ='Efinal (tep)'!E74/1000 -> 18.6607 | F74: ='Efinal (tep)'!F74/1000 -> 7.619128 | G74: ='Efinal (tep)'!G74/1000 -> 6.710976
A75: Carbón para combustión | B75: ='Efinal (tep)'!B75/1000 -> 0 | C75: ='Efinal (tep)'!C75/1000 -> 0 | D75: ='Efinal (tep)'!D75/1000 -> 0 | E75: ='Efinal (tep)'!E75/1000 -> 0 | F75: ='Efinal (tep)'!F75/1000 -> 0 | G75: ='Efinal (tep)'!G75/1000 -> 0
A76: Renovables uso térmico | B76: =SUM(B77:B86) -> 112.78207 | C76: =SUM(C77:C86) -> 114.67192 | D76: =SUM(D77:D86) -> 115.63841 | E76: =SUM(E77:E86) -> 116.90256 | F76: =SUM(F77:F86) -> 117.78558 | G76: =SUM(G77:G86) -> 118.79189
A77: Biomasa sólida para combustión con distric heating | B77: ='Efinal (tep)'!B77/1000 -> 110.73274 | C77: ='Efinal (tep)'!C77/1000 -> 112.54372 | D77: ='Efinal (tep)'!D77/1000 -> 113.41811 | E77: ='Efinal (tep)'!E77/1000 -> 114.60222 | F77: ='Efinal (tep)'!F77/1000 -> 115.24555 | G77: ='Efinal (tep)'!G77/1000 -> 116.11776
A78: Biogás para combustión (con el inyectado al gasoducto) | B78: ='Efinal (tep)'!B78/1000 -> 0.057371812 | C78: ='Efinal (tep)'!C78/1000 -> 0.057371812 | D78: ='Efinal (tep)'!D78/1000 -> 0.057371812 | E78: ='Efinal (tep)'!E78/1000 -> 0.057371812 | F78: ='Efinal (tep)'!F78/1000 -> 0.057371812 | G78: ='Efinal (tep)'!G78/1000 -> 0.057371812
A79: Solar térmica | B79: ='Efinal (tep)'!B79/1000 -> 1.2873932 | C79: ='Efinal (tep)'!C79/1000 -> 1.3149309 | D79: ='Efinal (tep)'!D79/1000 -> 1.3286461 | E79: ='Efinal (tep)'!E79/1000 -> 1.3292469 | F79: ='Efinal (tep)'!F79/1000 -> 1.4987084 | G79: ='Efinal (tep)'!G79/1000 -> 1.5216718
A80: Distric heating con xeotermia | B80: ='Efinal (tep)'!B80/1000 -> 0 | C80: ='Efinal (tep)'!C80/1000 -> 0 | D80: ='Efinal (tep)'!D80/1000 -> 0 | E80: ='Efinal (tep)'!E80/1000 -> 0 | F80: ='Efinal (tep)'!F80/1000 -> 0 | G80: ='Efinal (tep)'!G80/1000 -> 0
A81: Xeotermia pura | B81: ='Efinal (tep)'!B81/1000 -> 0 | C81: ='Efinal (tep)'!C81/1000 -> 0 | D81: ='Efinal (tep)'!D81/1000 -> 0 | E81: ='Efinal (tep)'!E81/1000 -> 0 | F81: ='Efinal (tep)'!F81/1000 -> 0 | G81: ='Efinal (tep)'!G81/1000 -> 0
A82: Calor renovable bomba calor xeotérmica | B82: ='Efinal (tep)'!B82/1000 -> 0.20708389 | C82: ='Efinal (tep)'!C82/1000 -> 0.21621275 | D82: ='Efinal (tep)'!D82/1000 -> 0.23473538 | E82: ='Efinal (tep)'!E82/1000 -> 0.2579506 | F82: ='Efinal (tep)'!F82/1000 -> 0.26879033 | G82: ='Efinal (tep)'!G82/1000 -> 0.28931263
A83: Calor renovable bomba calor hidrotérmica | B83: ='Efinal (tep)'!B83/1000 -> 0 | C83: ='Efinal (tep)'!C83/1000 -> 0 | D83: ='Efinal (tep)'!D83/1000 -> 0 | E83: ='Efinal (tep)'!E83/1000 -> 0 | F83: ='Efinal (tep)'!F83/1000 -> 0 | G83: ='Efinal (tep)'!G83/1000 -> 0
A84: Calor renovable bomba calor aerotérmica | B84: ='Efinal (tep)'!B84/1000 -> 0.49747945 | C84: ='Efinal (tep)'!C84/1000 -> 0.5396834 | D84: ='Efinal (tep)'!D84/1000 -> 0.59954173 | E84: ='Efinal (tep)'!E84/1000 -> 0.65577081 | F84: ='Efinal (tep)'!F84/1000 -> 0.71515987 | G84: ='Efinal (tep)'!G84/1000 -> 0.80577471
A85: Hidrógeno Verde uso térmico | B85: ='Efinal (tep)'!B85/1000 -> 0 | C85: ='Efinal (tep)'!C85/1000 -> 0 | D85: ='Efinal (tep)'!D85/1000 -> 0 | E85: ='Efinal (tep)'!E85/1000 -> 0 | F85: ='Efinal (tep)'!F85/1000 -> 0 | G85: ='Efinal (tep)'!G85/1000 -> 0
A86: Residuos renovables para combustión | B86: ='Efinal (tep)'!B86/1000 -> 0 | C86: ='Efinal (tep)'!C86/1000 -> 0 | D86: ='Efinal (tep)'!D86/1000 -> 0 | E86: ='Efinal (tep)'!E86/1000 -> 0 | F86: ='Efinal (tep)'!F86/1000 -> 0 | G86: ='Efinal (tep)'!G86/1000 -> 0
A87: Combustibles para transporte | B87: =B88+B95+B98+B103+B107+B110 -> 317.82385 | C87: =C88+C95+C98+C103+C107+C110 -> 329.63251 | D87: =D88+D95+D98+D103+D107+D110 -> 335.63847 | E87: =E88+E95+E98+E103+E107+E110 -> 350.40264 | F87: =F88+F95+F98+F103+F107+F110 -> 300.15169 | G87: =G88+G95+G98+G103+G107+G110 -> 315.17019
A88: Combustibles transporte urbano e por estrada | B88: =SUM(B89:B94) -> 229.33436 | C88: =SUM(C89:C94) -> 234.99252 | D88: =SUM(D89:D94) -> 235.56331 | E88: =SUM(E89:E94) -> 244.62236 | F88: =SUM(F89:F94) -> 193.88411 | G88: =SUM(G89:G94) -> 220.01319
A89: Gasolina 95 I.O. | B89: ='Efinal (tep)'!B89/1000 -> 25.337363 | C89: ='Efinal (tep)'!C89/1000 -> 25.544938 | D89: ='Efinal (tep)'!D89/1000 -> 26.313758 | E89: ='Efinal (tep)'!E89/1000 -> 28.500922 | F89: ='Efinal (tep)'!F89/1000 -> 22.436136 | G89: ='Efinal (tep)'!G89/1000 -> 26.518292
A90: Gasolina 98 I.O. | B90: ='Efinal (tep)'!B90/1000 -> 1.5331651 | C90: ='Efinal (tep)'!C90/1000 -> 1.6137463 | D90: ='Efinal (tep)'!D90/1000 -> 1.6283529 | E90: ='Efinal (tep)'!E90/1000 -> 1.7961473 | F90: ='Efinal (tep)'!F90/1000 -> 1.492699 | G90: ='Efinal (tep)'!G90/1000 -> 1.5258595
A91: Gasoleo A | B91: ='Efinal (tep)'!B91/1000 -> 202.00817 | C91: ='Efinal (tep)'!C91/1000 -> 207.35714 | D91: ='Efinal (tep)'!D91/1000 -> 207.0509 | E91: ='Efinal (tep)'!E91/1000 -> 213.52855 | F91: ='Efinal (tep)'!F91/1000 -> 169.26453 | G91: ='Efinal (tep)'!G91/1000 -> 190.92486
A92: GLP | B92: ='Efinal (tep)'!B92/1000 -> 0.071544 | C92: ='Efinal (tep)'!C92/1000 -> 0.086821 | D92: ='Efinal (tep)'!D92/1000 -> 0.14135338 | E92: ='Efinal (tep)'!E92/1000 -> 0.36762358 | F92: ='Efinal (tep)'!F92/1000 -> 0.34710646 | G92: ='Efinal (tep)'!G92/1000 -> 0.59763816
A93: Gas natural | B93: ='Efinal (tep)'!B93/1000 -> 0.38402326 | C93: ='Efinal (tep)'!C93/1000 -> 0.3897836 | D93: ='Efinal (tep)'!D93/1000 -> 0.42876197 | E93: ='Efinal (tep)'!E93/1000 -> 0.42876197 | F93: ='Efinal (tep)'!F93/1000 -> 0.34300957 | G93: ='Efinal (tep)'!G93/1000 -> 0.44591244
A94: Hidróxeno Verde | B94: ='Efinal (tep)'!B94/1000 -> 8.9574375e-05 | C94: ='Efinal (tep)'!C94/1000 -> 8.9574375e-05 | D94: ='Efinal (tep)'!D94/1000 -> 0.00017914875 | E94: ='Efinal (tep)'!E94/1000 -> 0.0003582975 | F94: ='Efinal (tep)'!F94/1000 -> 0.00062702063 | G94: ='Efinal (tep)'!G94/1000 -> 0.00062702063
A95: Combustibles transporte por ferrocarril | B95: =SUM(B96:B97) -> 1.5372654 | C95: =SUM(C96:C97) -> 1.4609455 | D95: =SUM(D96:D97) -> 1.4735235 | E95: =SUM(E96:E97) -> 1.5063341 | F95: =SUM(F96:F97) -> 1.1775826 | G95: =SUM(G96:G97) -> 1.3339099
A96: Gasóleo B | B96: ='Efinal (tep)'!B96/1000 -> 1.5372654 | C96: ='Efinal (tep)'!C96/1000 -> 1.4609455 | D96: ='Efinal (tep)'!D96/1000 -> 1.4735235 | E96: ='Efinal (tep)'!E96/1000 -> 1.5063341 | F96: ='Efinal (tep)'!F96/1000 -> 1.1775826 | G96: ='Efinal (tep)'!G96/1000 -> 1.3339099
A97: Hidróxeno Verde | B97: ='Efinal (tep)'!B97/1000 -> 0 | C97: ='Efinal (tep)'!C97/1000 -> 0 | D97: ='Efinal (tep)'!D97/1000 -> 0 | E97: ='Efinal (tep)'!E97/1000 -> 0 | F97: ='Efinal (tep)'!F97/1000 -> 0 | G97: ='Efinal (tep)'!G97/1000 -> 0
A98: Combustibles transporte marítimo | B98: =SUM(B99:B102) -> 14.643704 | C98: =SUM(C99:C102) -> 15.267896 | D98: =SUM(D99:D102) -> 16.476677 | E98: =SUM(E99:E102) -> 17.731375 | F98: =SUM(F99:F102) -> 15.094912 | G98: =SUM(G99:G102) -> 15.653108
A99: Fuel óleos | B99: ='Efinal (tep)'!B99/1000 -> 2.3500146 | C99: ='Efinal (tep)'!C99/1000 -> 3.1786378 | D99: ='Efinal (tep)'!D99/1000 -> 2.6907214 | E99: ='Efinal (tep)'!E99/1000 -> 5.4919272 | F99: ='Efinal (tep)'!F99/1000 -> 2.4708701 | G99: ='Efinal (tep)'!G99/1000 -> 3.7866759
A100: Gasóleo B | B100: ='Efinal (tep)'!B100/1000 -> 12.29369 | C100: ='Efinal (tep)'!C100/1000 -> 12.089258 | D100: ='Efinal (tep)'!D100/1000 -> 13.785956 | E100: ='Efinal (tep)'!E100/1000 -> 12.239447 | F100: ='Efinal (tep)'!F100/1000 -> 12.624042 | G100: ='Efinal (tep)'!G100/1000 -> 11.866432
A101: Gas natural | B101: ='Efinal (tep)'!B101/1000 -> 0 | C101: ='Efinal (tep)'!C101/1000 -> 0 | D101: ='Efinal (tep)'!D101/1000 -> 0 | E101: ='Efinal (tep)'!E101/1000 -> 0 | F101: ='Efinal (tep)'!F101/1000 -> 0 | G101: ='Efinal (tep)'!G101/1000 -> 0
A102: Hidróxeno Verde | B102: ='Efinal (tep)'!B102/1000 -> 0 | C102: ='Efinal (tep)'!C102/1000 -> 0 | D102: ='Efinal (tep)'!D102/1000 -> 0 | E102: ='Efinal (tep)'!E102/1000 -> 0 | F102: ='Efinal (tep)'!F102/1000 -> 0 | G102: ='Efinal (tep)'!G102/1000 -> 0
...

Sheet Efinal (tep)
A1: DISTRIBUCIÓN DO CONSUMO NA CORUÑA (tep)
B2: 2016 | C2: 2017 | D2: 2018 | E2: 2019 | F2: 2020 | G2: 2021
A3: Consumo final electricidade | B3: 679248.51 | C3: 680537.64 | D3: 705503.79 | E3: 574125.44 | F3: 521603.32 | G3: 552199.85
A4: Consumo calor coxeración | B4: =SUM(B5:B10) -> 66870.225 | C4: =SUM(C5:C10) -> 65783.879 | D4: =SUM(D5:D10) -> 60144.353 | E4: =SUM(E5:E10) -> 55031.502 | F4: =SUM(F5:F10) -> 49478.699 | G4: =SUM(G5:G10) -> 147597
A5: Calor coxeración produtos petrolíferos | B5: 23269.929 | C5: 22765.054 | D5: 22445.096 | E5: 21627.045 | F5: 17652.755 | G5: 41599.566
A6: Calor coxeración gas natural | B6: 37414.783 | C6: 37317.824 | D6: 31784.465 | E6: 31675.151 | F6: 28973.545 | G6: 105605.88
A7: Calor centrais residuos non renovables | B7: 6185.5131 | C7: 5596.7888 | D7: 5307.5645 | E7: 1694.5103 | F7: 2397.4477 | G7: 391.54846
A8: Calor centrais residuos renovables | B8: 0 | C8: 104.2122 | D8: 607.22703 | E8: 34.796496 | F8: 454.95214 | G8: 0
A9: Calor centrais de biomasa e residuos da biomasa | B9: 0 | C9: 0 | D9: 0 | E9: 0 | F9: 0 | G9: 0
A10: Calor centrais de biogás | B10: 0 | C10: 0 | D10: 0 | E10: 0 | F10: 0 | G10: 0
A11: Combustibles convencionais uso térmico | B11: =SUM(B12:B18) -> 577382.59 | C11: =SUM(C12:C18) -> 592437.19 | D11: =SUM(D12:D18) -> 641757.22 | E11: =SUM(E12:E18) -> 640837.49 | F11: =SUM(F12:F18) -> 525962.69 | G11: =SUM(G12:G18) -> 637786.88
A12: Gas natural para combustión y distric heating | B12: 309869.72 | C12: 332362.29 | D12: 364195.28 | E12: 359416.83 | F12: 293899.13 | G12: 425067.74
A13: Residuos non renovables para combustión (incluidas la Eresiduales Repsol) | B13: 145962.33 | C13: 144568.4 | D13: 157580.45 | E13: 159838.78 | F13: 116399.45 | G13: 115615.9
A14: Fuel para combustión | B14: 5086.866 | C14: 6099.5096 | D14: 2470.3462 | E14: 8295.2518 | F14: 5346.8908 | G14: 1386.8681
A15: Gasóleo C para combustión | B15: 71746.753 | C15: 57003.284 | D15: 66431.469 | E15: 64247.637 | F15: 66157.143 | G15: 50624.32
A16: GLP para combustión | B16: 42896.301 | C16: 51255.41 | D16: 49403.454 | E16: 47565.243 | F16: 43192.082 | G16: 44027.036
A17: Coque para combustión | B17: 1820.612 | C17: 1148.292 | D17: 1676.216 | E17: 1473.756 | F17: 967.988 | G17: 1065.016
A18: Carbón para combustión | B18: 0 | C18: 0 | D18: 0 | E18: 0 | F18: 0 | G18: 0
A19: Renovables uso térmico | B19: =SUM(B20:B29) -> 226778.99 | C19: =SUM(C20:C29) -> 229238 | D19: =SUM(D20:D29) -> 233218.89 | E19: =SUM(E20:E29) -> 234978.53 | F19: =SUM(F20:F29) -> 236084.06 | G19: =SUM(G20:G29) -> 238403.39
A20: Biomasa sólida para combustión con distric heating | B20: 213913.29 | C20: 216036.87 | D20: 219539.42 | E20: 220803.91 | F20: 221495.19 | G20: 222883.65
A21: Biogás para combustión (con el inyectado al gasoducto) | B21: 1532.1075 | C21: 1532.1075 | D21: 1532.1075 | E21: 1532.1075 | F21: 1532.1075 | G21: 1532.1075
A22: Solar térmica | B22: 2186.6041 | C22: 2262.5991 | D22: 2314.5424 | E22: 2384.6224 | F22: 2554.0839 | G22: 2577.0473
A23: Distric heating con xeotermia | B23: 0 | C23: 0 | D23: 0 | E23: 0 | F23: 0 | G23: 0
A24: Xeotermia pura | B24: 0 | C24: 0 | D24: 0 | E24: 0 | F24: 0 | G24: 0
A25: Calor renovable bomba calor xeotérmica | B25: 726.01794 | C25: 764.59355 | D25: 805.84084 | E25: 914.85481 | F25: 1006.6785 | G25: 1094.3871
A26: Calor renovable bomba calor hidrotérmica | B26: 0 | C26: 0 | D26: 0 | E26: 0 | F26: 0 | G26: 0
A27: Calor renovable bomba calor aerotérmica | B27: 2325.7734 | C27: 2546.6334 | D27: 2931.7889 | E27: 3247.8439 | F27: 3400.7991 | G27: 3741.2339
A28: Hidrógeno Verde uso térmico | B28: 0 | C28: 0 | D28: 0 | E28: 0 | F28: 0 | G28: 0
A29: Residuos renovables para combustión | B29: 6095.197 | C29: 6095.197 | D29: 6095.197 | E29: 6095.197 | F29: 6095.197 | G29: 6574.9642
A30: Combustibles para transporte | B30: =B31+B38+B41+B46+B50+B53 -> 848194.02 | C30: =C31+C38+C41+C46+C50+C53 -> 854545.84 | D30: =D31+D38+D41+D46+D50+D53 -> 855476.58 | E30: =E31+E38+E41+E46+E50+E53 -> 876781.32 | F30: =F31+F38+F41+F46+F50+F53 -> 650887.09 | G30: =G31+G38+G41+G46+G50+G53 -> 783009.6
A31: Combustibles transporte urbano e por estrada | B31: =SUM(B32:B37) -> 621977.85 | C31: =SUM(C32:C37) -> 609694.84 | D31: =SUM(D32:D37) -> 604882.64 | E31: =SUM(E32:E37) -> 599480.59 | F31: =SUM(F32:F37) -> 436566.67 | G31: =SUM(G32:G37) -> 575956.43
A32: Gasolina 95 I.O. | B32: 89754.661 | C32: 90371.969 | D32: 91185.457 | E32: 95777.049 | F32: 70001.62 | G32: 95614.766
A33: Gasolina 98 I.O. | B33: 5438.7767 | C33: 5559.4083 | D33: 5561.634 | E33: 5909.7262 | F33: 5328.8238 | G33: 5687.6947
A34: Gasoleo A | B34: 518759 | C34: 505503.1 | D34: 499394.79 | E34: 488175.71 | F34: 353718.76 | G34: 463801.21
A35: GLP | B35: 847.90484 | C35: 867.53082 | D35: 1126.0549 | E35: 1850.933 | F35: 1303.3909 | G35: 2153.3046
A36: Gas natural | B36: 7177.4198 | C36: 7392.7424 | D36: 7614.5246 | E36: 7766.8151 | F36: 6213.4521 | G36: 8698.8329
A37: Hidróxeno Verde | B37: 0.089574375 | C37: 0.089574375 | D37: 0.17914875 | E37: 0.3582975 | F37: 0.62702062 | G37: 0.62702062
A38: Combustibles transporte por ferrocarril | B38: =SUM(B39:B40) -> 1537.2654 | C38: =SUM(C39:C40) -> 1460.9455 | D38: =SUM(D39:D40) -> 1473.5235 | E38: =SUM(E39:E40) -> 1506.3341 | F38: =SUM(F39:F40) -> 1177.5826 | G38: =SUM(G39:G40) -> 1333.9099
A39: Gasóleo B | B39: 1537.2654 | C39: 1460.9455 | D39: 1473.5235 | E39: 1506.3341 | F39: 1177.5826 | G39: 1333.9099
A40: Hidróxeno Verde | B40: 0 | C40: 0 | D40: 0 | E40: 0 | F40: 0 | G40: 0
A41: Combustibles transporte marítimo | B41: =SUM(B42:B45) -> 69491.126 | C41: =SUM(C42:C45) -> 75869.278 | D41: =SUM(D42:D45) -> 78397.268 | E41: =SUM(E42:E45) -> 96408.606 | F41: =SUM(F42:F45) -> 72659.777 | G41: =SUM(G42:G45) -> 65977.124
A42: Fuel óleos | B42: 20316.367 | C42: 27512.247 | D42: 23253.446 | E42: 47450.816 | F42: 22163.611 | G42: 18511.395
A43: Gasóleo B | B43: 49174.759 | C43: 48357.032 | D43: 55143.822 | E43: 48957.789 | F43: 50496.166 | G43: 47465.729
A44: Gas natural | B44: 0 | C44: 0 | D44: 0 | E44: 0 | F44: 0 | G44: 0
A45: Hidróxeno Verde | B45: 0 | C45: 0 | D45: 0 | E45: 0 | F45: 0 | G45: 0
A46: Combustibles transporte aéreo | B46: =SUM(B47:B49) -> 40992.792 | C46: =SUM(C47:C49) -> 44970.531 | D46: =SUM(D47:D49) -> 41076.277 | E46: =SUM(E47:E49) -> 43454.102 | F46: =SUM(F47:F49) -> 20298.396 | G46: =SUM(G47:G49) -> 26334.947
A47: Gasolina Aviación | B47: 69.022213 | C47: 57.854649 | D47: 38.21066 | E47: 46.667868 | F47: 57.828947 | G47: 66.14902
A48: Queroseno Aviación | B48: 40923.77 | C48: 44912.676 | D48: 41038.067 | E48: 43407.435 | F48: 20240.567 | G48: 26268.798
A49: Hidróxeno Verde | B49: 0 | C49: 0 | D49: 0 | E49: 0 | F49: 0 | G49: 0
A50: Combustibles pesca, agric, minas, construcción | B50: =SUM(B51:B52) -> 87965.245 | C50: =SUM(C51:C52) -> 93309.898 | D50: =SUM(D51:D52) -> 94473.097 | E50: =SUM(E51:E52) -> 101987.31 | F50: =SUM(F51:F52) -> 94355.779 | G50: =SUM(G51:G52) -> 77105.016
A51: Gasóleo B | B51: 87965.245 | C51: 93309.898 | D51: 94473.097 | E51: 101987.31 | F51: 94355.779 | G51: 77105.016
A52: Queroseno | B52: 0 | C52: 0 | D52: 0 | E52: 0 | F52: 0 | G52: 0
A53: Biocarburantes | B53: 26229.744 | C53: 29240.35 | D53: 35173.77 | E53: 33944.387 | F53: 25828.887 | G53: 36302.167
A54: Consumo Total | B54: =B3+B4+B11+B19+B30 -> 2398474.3 | C54: =C3+C4+C11+C19+C30 -> 2422542.5 | D54: =D3+D4+D11+D19+D30 -> 2496100.8 | E54: =E3+E4+E11+E19+E30 -> 2381754.3 | F54: =F3+F4+F11+F19+F30 -> 1984015.9 | G54: =G3+G4+G11+G19+G30 -> 2358996.7
A55: (*) Considérase o consumo no transporte, pesca, agricultura, minas e construción
A58: DISTRIBUCIÓN DO CONSUMO EN LUGO (tep)
B59: 2016 | C59: 2017 | D59: 2018 | E59: 2019 | F59: 2020 | G59: 2021
A60: Consumo final electricidade | B60: 448180.92 | C60: 448031.28 | D60: 448450.42 | E60: 446704.95 | F60: 414830.82 | G60: 416388.31
A61: Consumo calor coxeración | B61: =SUM(B62:B67) -> 60684.712 | C61: =SUM(C62:C67) -> 60082.878 | D61: =SUM(D62:D67) -> 54229.561 | E61: =SUM(E62:E67) -> 53302.195 | F61: =SUM(F62:F67) -> 46626.3 | G61: =SUM(G62:G67) -> 4460.5704
A62: Calor coxeración produtos petrolíferos | B62: 23269.929 | C62: 22765.054 | D62: 22445.096 | E62: 21627.045 | F62: 17652.755 | G62: 6.4894051
A63: Calor coxeración gas natural | B63: 37414.783 | C63: 37317.824 | D63: 31784.465 | E63: 31675.151 | F63: 28973.545 | G63: 4453.5212
A64: Calor centrais residuos non renovables | B64: 0 | C64: 0 | D64: 0 | E64: 0 | F64: 0 | G64: 0
A65: Calor centrais residuos renovables | B65: 0 | C65: 0 | D65: 0 | E65: 0 | F65: 0 | G65: 0
A66: Calor centrais de biomasa e residuos da biomasa | B66: 0 | C66: 0 | D66: 0 | E66: 0 | F66: 0 | G66: 0
A67: Calor centrais de biogás | B67: 0 | C67: 0 | D67: 0 | E67: 0 | F67: 0 | G67: 0.55986
A68: Combustibles convencionais uso térmico | B68: =SUM(B69:B75) -> 410465.21 | C68: =SUM(C69:C75) -> 459283.38 | D68: =SUM(D69:D75) -> 460876.12 | E68: =SUM(E69:E75) -> 458162.83 | F68: =SUM(F69:F75) -> 430352.67 | G68: =SUM(G69:G75) -> 435567.2
A69: Gas natural para combustión y distric heating | B69: 330415.62 | C69: 362851.72 | D69: 361658.81 | E69: 368572.73 | F69: 355761.49 | G69: 366672.39
A70: Residuos non renovables para combustión (incluidas la Eresiduales Repsol) | B70: 0 | C70: 0 | D70: 0 | E70: 0 | F70: 0 | G70: 0
A71: Fuel para combustión | B71: 11817.677 | C71: 10454.96 | D71: 12216.369 | E71: 6731.6597 | F71: 7480.6286 | G71: 8999.1028
A72: Gasóleo C para combustión | B72: 42482.673 | C72: 40486.428 | D72: 43557.218 | E72: 41294.758 | F72: 39723.108 | G72: 32564.798
A73: GLP para combustión | B73: 20036.812 | C73: 21824.609 | D73: 22932.61 | E73: 22902.985 | F73: 19768.315 | G73: 20619.93
A74: Coque para combustión | B74: 5712.428 | C74: 23665.664 | D74: 20511.108 | E74: 18660.7 | F74: 7619.128 | G74: 6710.976
A75: Carbón para combustión | B75: 0 | C75: 0 | D75: 0 | E75: 0 | F75: 0 | G75: 0
A76: Renovables uso térmico | B76: =SUM(B77:B86) -> 112782.07 | C76: =SUM(C77:C86) -> 114671.92 | D76: =SUM(D77:D86) -> 115638.41 | E76: =SUM(E77:E86) -> 116902.56 | F76: =SUM(F77:F86) -> 117785.58 | G76: =SUM(G77:G86) -> 118791.89
A77: Biomasa sólida para combustión con distric heating | B77: 110732.74 | C77: 112543.72 | D77: 113418.11 | E77: 114602.22 | F77: 115245.55 | G77: 116117.76
A78: Biogás para combustión (con el inyectado al gasoducto) | B78: 57.371812 | C78: 57.371812 | D78: 57.371812 | E78: 57.371812 | F78: 57.371812 | G78: 57.371812
A79: Solar térmica | B79: 1287.3932 | C79: 1314.9309 | D79: 1328.6461 | E79: 1329.2469 | F79: 1498.7084 | G79: 1521.6718
A80: Distric heating con xeotermia | B80: 0 | C80: 0 | D80: 0 | E80: 0 | F80: 0 | G80: 0
A81: Xeotermia pura | B81: 0 | C81: 0 | D81: 0 | E81: 0 | F81: 0 | G81: 0
A82: Calor renovable bomba calor xeotérmica | B82: 207.08389 | C82: 216.21275 | D82: 234.73538 | E82: 257.9506 | F82: 268.79033 | G82: 289.31263
A83: Calor renovable bomba calor hidrotérmica | B83: 0 | C83: 0 | D83: 0 | E83: 0 | F83: 0 | G83: 0
A84: Calor renovable bomba calor aerotérmica | B84: 497.47945 | C84: 539.6834 | D84: 599.54173 | E84: 655.77081 | F84: 715.15987 | G84: 805.77471
A85: Hidrógeno Verde uso térmico | B85: 0 | C85: 0 | D85: 0 | E85: 0 | F85: 0 | G85: 0
A86: Residuos renovables para combustión | B86: 0 | C86: 0 | D86: 0 | E86: 0 | F86: 0 | G86: 0
A87: Combustibles para transporte | B87: =B88+B95+B98+B103+B107+B110 -> 317823.85 | C87: =C88+C95+C98+C103+C107+C110 -> 329632.51 | D87: =D88+D95+D98+D103+D107+D110 -> 335638.47 | E87: =E88+E95+E98+E103+E107+E110 -> 350402.64 | F87: =F88+F95+F98+F103+F107+F110 -> 300151.69 | G87: =G88+G95+G98+G103+G107+G110 -> 315170.19
A88: Combustibles transporte urbano e por estrada | B88: =SUM(B89:B94) -> 229334.36 | C88: =SUM(C89:C94) -> 234992.52 | D88: =SUM(D89:D94) -> 235563.31 | E88: =SUM(E89:E94) -> 244622.36 | F88: =SUM(F89:F94) -> 193884.11 | G88: =SUM(G89:G94) -> 220013.19
A89: Gasolina 95 I.O. | B89: 25337.363 | C89: 25544.938 | D89: 26313.758 | E89: 28500.922 | F89: 22436.136 | G89: 26518.292
A90: Gasolina 98 I.O. | B90: 1533.1651 | C90: 1613.7463 | D90: 1628.3529 | E90: 1796.1473 | F90: 1492.699 | G90: 1525.8595
A91: Gasoleo A | B91: 202008.17 | C91: 207357.14 | D91: 207050.9 | E91: 213528.55 | F91: 169264.53 | G91: 190924.86
A92: GLP | B92: 71.544 | C92: 86.821 | D92: 141.35338 | E92: 367.62358 | F92: 347.10646 | G92: 597.63816
A93: Gas natural | B93: 384.02326 | C93: 389.7836 | D93: 428.76197 | E93: 428.76197 | F93: 343.00957 | G93: 445.91244
A94: Hidróxeno Verde | B94: 0.089574375 | C94: 0.089574375 | D94: 0.17914875 | E94: 0.3582975 | F94: 0.62702062 | G94: 0.62702062
A95: Combustibles transporte por ferrocarril | B95: =SUM(B96:B97) -> 1537.2654 | C95: =SUM(C96:C97) -> 1460.9455 | D95: =SUM(D96:D97) -> 1473.5235 | E95: =SUM(E96:E97) -> 1506.3341 | F95: =SUM(F96:F97) -> 1177.5826 | G95: =SUM(G96:G97) -> 1333.9099
A96: Gasóleo B | B96: 1537.2654 | C96: 1460.9455 | D96: 1473.5235 | E96: 1506.3341 | F96: 1177.5826 | G96: 1333.9099
A97: Hidróxeno Verde | B97: 0 | C97: 0 | D97: 0 | E97: 0 | F97: 0 | G97: 0
A98: Combustibles transporte marítimo | B98: =SUM(B99:B102) -> 14643.704 | C98: =SUM(C99:C102) -> 15267.896 | D98: =SUM(D99:D102) -> 16476.677 | E98: =SUM(E99:E102) -> 17731.375 | F98: =SUM(F99:F102) -> 15094.912 | G98: =SUM(G99:G102) -> 15653.108
A99: Fuel óleos | B99: 2350.0146 | C99: 3178.6378 | D99: 2690.7214 | E99: 5491.9272 | F99: 2470.8701 | G99: 3786.6759
A100: Gasóleo B | B100: 12293.69 | C100: 12089.258 | D100: 13785.956 | E100: 12239.447 | F100: 12624.042 | G100: 11866.432
A101: Gas natural | B101: 0 | C101: 0 | D101: 0 | E101: 0 | F101: 0 | G101: 0
A102: Hidróxeno Verde | B102: 0 | C102: 0 | D102: 0 | E102: 0 | F102: 0 | G102: 0
...
