Workbook

Sheet Galicia 1990
A1: EMISIONES DE CO2 EQUIVALENTE | H1: Galicia
H2: Año 1990
A5: GASES DE EFECTO INVERNADERO | B5: CO2 | C5: CH4 | D5: N2O | E5: HFCs | F5: PFCs | G5: SF6 | H5: Total
A6: CATEGORÍAS DE ACTIVIDAD | B6: CO2 equivalente (Kilotoneladas)
A7: Total Emisiones | B7: =SUM(B8,B18,B27,B37,B38,B44) -> 24020.574 | C7: =SUM(C8,C18,C27,C37,C38,C44) -> 2851.2124 | D7: =SUM(D8,D18,D27,D37,D38,D44) -> 1171.3303 | E7: =SUM(E8,E18,E27,E37,E38,E44) -> 0 | F7: =SUM(F8,F18,F27,F37,F38,F44) -> 965.03713 | G7: =SUM(G8,G18,G27,G37,G38,G44) -> 5.3299749 | H7: =SUM(B7:G7) -> 29013.483
A8: 1. Procesado de la energía | B8: =SUM(B9,B15) -> 22879.967 | C8: =SUM(C9,C15) -> 143.19745 | D8: =SUM(D9,D15) -> 125.80139 | H8: =SUM(B8:G8) -> 23148.966
A9: A. Actividades de combustión | B9: =SUM(B10:B14) -> 22558.632 | C9: =SUM(C10:C14) -> 142.81668 | D9: =SUM(D10:D14) -> 125.80139 | H9: =SUM(B9:G9) -> 22827.25
A10: 1. Industrias del Sector Energético | B10: 14827.102 | C10: 3.7077671 | D10: 56.074052 | H10: =SUM(B10:G10) -> 14886.883
A11: 2. Industrias manufactureras y de la construcción | B11: 2190.2349 | C11: 5.6393516 | D11: 12.878538 | H11: =SUM(B11:G11) -> 2208.7528
A12: 3. Transporte | B12: 3192.8469 | C12: 19.179671 | D12: 25.497869 | H12: =SUM(B12:G12) -> 3237.5244
A13: 4. Otros Sectores | B13: 2333.3747 | C13: 114.26693 | D13: 31.228857 | H13: =SUM(B13:G13) -> 2478.8704
A14: 5. Otros | B14: 15.073487 | C14: 0.02296285 | D14: 0.12207123 | H14: =SUM(B14:G14) -> 15.218521
A15: B. Emisiones fugitivas de los combustibles | B15: =SUM(B16:B17) -> 321.33532 | C15: =SUM(C16:C17) -> 0.38076227 | D15: =SUM(D16:D17) -> 0 | H15: =SUM(B15:G15) -> 321.71608
A16: 1. Combustibles sólidos | H16: =SUM(B16:G16) -> 0
A17: 2. Petróleo y gas natural | B17: 321.33532 | C17: 0.38076227 | H17: =SUM(B17:G17) -> 321.71608
A18: 2.. Procesos Industriales | B18: =SUM(B19:B26) -> 1091.8468 | C18: =SUM(C19:C26) -> 1.2216425 | D18: =SUM(D19:D26) -> 28.516131 | E18: =SUM(E19:E26) -> 0 | F18: =SUM(F19:F26) -> 965.03713 | G18: =SUM(G19:G26) -> 5.3299749 | H18: =SUM(B18:G18) -> 2091.9517
A19: A. Productos Minerales | B19: 295.99794 | H19: 295.99794
A20: B. Industria química | B20: 15.390672 | H20: 15.390672
A21: C. Producción metalúrgica | B21: 716.47617 | C21: 1.2216425 | F21: 965.03713 | H21: 1682.735
A22: D. Productos no energéticos y uso de disolventes | B22: 63.982047 | H22: 63.982047
A23: E. Industria electrónica | H23: =SUM(B23:G23) -> 0
A24: F. Uso de sustitutivos de los GEIs | H24: =SUM(B24:G24) -> 0
A25: G. producción y uso de otros productos | D25: 28.516131 | G25: 5.3299749 | H25: =SUM(B25:G25) -> 33.846106
A26: H. Otros | H26: =SUM(B26:G26) -> 0
A27: 3. Agricultura | B27: =SUM(B28:B36) -> 20.662246 | C27: =SUM(C28:C36) -> 2126.8965 | D27: =SUM(D28:D36) -> 948.43912 | H27: =SUM(B27:G27) -> 3095.9978
A28: A. Fermentación entérica | C28: 1442.0096 | H28: =SUM(B28:G28) -> 1442.0096
A29: B. Gestión del estiércol | C29: 637.34643 | D29: 184.63753 | H29: =SUM(B29:G29) -> 821.98396
A30: C. Cultivo de arroz | H30: =SUM(B30:G30) -> 0
A31: D. Suelos agrícolas | D31: 749.10985 | H31: =SUM(B31:G31) -> 749.10985
A32: E. Quemas planificadas de sabanas | H32: =SUM(B32:G32) -> 0
A33: F. Quema en el campo de residuos agrícolas | C33: 47.540397 | D33: 14.691744 | H33: =SUM(B33:G33) -> 62.232141
A34: G. Enmiendas calizas | H34: =SUM(B34:G34) -> 0
A35: H. Fertilización con urea | B35: 17.566659
A36: I. Aplicación fertilizante con carbono | B36: 3.095587 | H36: =SUM(B36:G36) -> 3.095587
A37: 4. Cambios de uso del suelo y silvicultura | H37: =SUM(B37:G37) -> 0
A38: 5. Tratamiento y eliminación de residuos | B38: =SUM(B39:B43) -> 28.097537 | C38: =SUM(C39:C43) -> 579.89688 | D38: =SUM(D39:D43) -> 68.573659 | H38: =SUM(B38:G38) -> 676.56808
A39: A. Depósito en vertederos | C39: 291.13596 | H39: =SUM(B39:G39) -> 291.13596
A40: B. Tratmiento biológico de residuos sólidos | H40: =SUM(B40:G40) -> 0
A41: C. Incineración de residuos | B41: 28.097537 | C41: 6.8499737 | D41: 5.1507217 | H41: =SUM(B41:G41) -> 40.098232
A42: D. Tratmiento de aguas residuales | C42: 281.72218 | D42: 63.422938 | H42: =SUM(B42:G42) -> 345.14512
...

Sheet Galicia 1991
A1: EMISIONES DE CO2 EQUIVALENTE | H1: Galicia
H2: Año 1991
A5: GASES DE EFECTO INVERNADERO | B5: CO2 | C5: CH4 | D5: N2O | E5: HFCs | F5: PFCs | G5: SF6 | H5: Total
A6: CATEGORÍAS DE ACTIVIDAD | B6: CO2 equivalente (Kilotoneladas)
A7: Total Emisiones | B7: =SUM(B8,B18,B27,B37,B38,B44) -> 23558.154 | C7: =SUM(C8,C18,C27,C37,C38,C44) -> 3014.1599 | D7: =SUM(D8,D18,D27,D37,D38,D44) -> 1244.7252 | E7: =SUM(E8,E18,E27,E37,E38,E44) -> 0 | F7: =SUM(F8,F18,F27,F37,F38,F44) -> 896.03391 | G7: =SUM(G8,G18,G27,G37,G38,G44) -> 5.5997513 | H7: =SUM(B7:G7) -> 28718.673
A8: 1. Procesado de la energía | B8: =SUM(B9,B15) -> 22461.482 | C8: =SUM(C9,C15) -> 149.52659 | D8: =SUM(D9,D15) -> 129.93905 | H8: =SUM(B8:G8) -> 22740.947
A9: A. Actividades de combustión | B9: =SUM(B10:B14) -> 22158.907 | C9: =SUM(C10:C14) -> 149.13319 | D9: =SUM(D10:D14) -> 129.93905 | H9: =SUM(B9:G9) -> 22437.979
A10: 1. Industrias del Sector Energético | B10: 13761.888 | C10: 4.0600949 | D10: 57.08302 | H10: =SUM(B10:G10) -> 13823.031
A11: 2. Industrias manufactureras y de la construcción | B11: 2427.158 | C11: 6.4721106 | D11: 13.144491 | H11: =SUM(B11:G11) -> 2446.7746
A12: 3. Transporte | B12: 3450.0136 | C12: 20.483369 | D12: 27.063495 | H12: =SUM(B12:G12) -> 3497.5605
A13: 4. Otros Sectores | B13: 2504.6164 | C13: 118.0943 | D13: 32.525081 | H13: =SUM(B13:G13) -> 2655.2358
A14: 5. Otros | B14: 15.231132 | C14: 0.0233214 | D14: 0.12296106 | H14: =SUM(B14:G14) -> 15.377414
A15: B. Emisiones fugitivas de los combustibles | B15: =SUM(B16:B17) -> 302.57462 | C15: =SUM(C16:C17) -> 0.39339861 | D15: =SUM(D16:D17) -> 0 | H15: =SUM(B15:G15) -> 302.96802
A16: 1. Combustibles sólidos | H16: =SUM(B16:G16) -> 0
A17: 2. Petróleo y gas natural | B17: 302.57462 | C17: 0.39339861 | H17: =SUM(B17:G17) -> 302.96802
A18: 2.. Procesos Industriales | B18: =SUM(B19:B26) -> 1049.1696 | C18: =SUM(C19:C26) -> 1.4237275 | D18: =SUM(D19:D26) -> 34.13098 | E18: =SUM(E19:E26) -> 0 | F18: =SUM(F19:F26) -> 896.03391 | G18: =SUM(G19:G26) -> 5.5997513 | H18: =SUM(B18:G18) -> 1986.358
A19: A. Productos Minerales | B19: 286.80937 | H19: =SUM(B19:G19) -> 286.80937
A20: B. Industria química | B20: 13.367395 | H20: =SUM(B20:G20) -> 13.367395
A21: C. Producción metalúrgica | B21: 688.04151 | C21: 1.4237275 | F21: 896.03391 | H21: =SUM(B21:G21) -> 1585.4991
A22: D. Productos no energéticos y uso de disolventes | B22: 60.951331 | H22: =SUM(B22:G22) -> 60.951331
A23: E. Industria electrónica | H23: =SUM(B23:G23) -> 0
A24: F. Uso de sustitutivos de los GEIs | H24: =SUM(B24:G24) -> 0
A25: G. producción y uso de otros productos | D25: 34.13098 | G25: 5.5997513 | H25: =SUM(B25:G25) -> 39.730731
A26: H. Otros | H26: =SUM(B26:G26) -> 0
A27: 3. Agricultura | B27: =SUM(B28:B36) -> 18.952592 | C27: =SUM(C28:C36) -> 2273.2919 | D27: =SUM(D28:D36) -> 1015.3704 | H27: =SUM(B27:G27) -> 3307.6148
A28: A. Fermentación entérica | C28: 1634.6677 | H28: =SUM(B28:G28) -> 1634.6677
A29: B. Gestión del estiércol | C29: 587.22525 | D29: 195.09805 | H29: =SUM(B29:G29) -> 782.3233
A30: C. Cultivo de arroz | H30: =SUM(B30:G30) -> 0
A31: D. Suelos agrícolas | D31: 804.38818 | H31: =SUM(B31:G31) -> 804.38818
A32: E. Quemas planificadas de sabanas | H32: =SUM(B32:G32) -> 0
A33: F. Quema en el campo de residuos agrícolas | C33: 51.39889 | D33: 15.88416 | H33: =SUM(B33:G33) -> 67.283051
A34: G. Enmiendas calizas | H34: =SUM(B34:G34) -> 0
A35: H. Fertilización con urea | B35: 15.201277
A36: I. Aplicación fertilizante con carbono | B36: 3.751315 | H36: =SUM(B36:G36) -> 3.751315
A37: 4. Cambios de uso del suelo y silvicultura | H37: =SUM(B37:G37) -> 0
A38: 5. Tratamiento y eliminación de residuos | B38: =SUM(B39:B43) -> 28.550138 | C38: =SUM(C39:C43) -> 589.91774 | D38: =SUM(D39:D43) -> 65.284821 | H38: =SUM(B38:G38) -> 683.7527
A39: A. Depósito en vertederos | C39: 311.70601 | H39: =SUM(B39:G39) -> 311.70601
A40: B. Tratmiento biológico de residuos sólidos | H40: =SUM(B40:G40) -> 0
A41: C. Incineración de residuos | B41: 28.550138 | C41: 7.0851935 | D41: 4.6259202 | H41: =SUM(B41:G41) -> 40.261252
A42: D. Tratmiento de aguas residuales | C42: 270.94595 | D42: 60.658901 | H42: =SUM(B42:G42) -> 331.60486
...

Sheet Galicia 1992
A1: EMISIONES DE CO2 EQUIVALENTE | H1: Galicia
H2: Año 1992
A5: GASES DE EFECTO INVERNADERO | B5: CO2 | C5: CH4 | D5: N2O | E5: HFCs | F5: PFCs | G5: SF6 | H5: Total
A6: CATEGORÍAS DE ACTIVIDAD | B6: CO2 equivalente (Kilotoneladas)
A7: Total Emisiones | B7: =SUM(B8,B18,B27,B37,B38,B44) -> 25445.306 | C7: =SUM(C8,C18,C27,C37,C38,C44) -> 3042.4472 | D7: =SUM(D8,D18,D27,D37,D38,D44) -> 1260.534 | E7: =SUM(E8,E18,E27,E37,E38,E44) -> 0 | F7: =SUM(F8,F18,F27,F37,F38,F44) -> 869.38979 | G7: =SUM(G8,G18,G27,G37,G38,G44) -> 5.7998589 | H7: =SUM(B7:G7) -> 30623.477
A8: 1. Procesado de la energía | B8: =SUM(B9,B15) -> 24453.09 | C8: =SUM(C9,C15) -> 154.73093 | D8: =SUM(D9,D15) -> 133.92414 | H8: =SUM(B8:G8) -> 24741.745
A9: A. Actividades de combustión | B9: =SUM(B10:B14) -> 24119.388 | C9: =SUM(C10:C14) -> 154.3138 | D9: =SUM(D10:D14) -> 133.92414 | H9: =SUM(B9:G9) -> 24407.626
A10: 1. Industrias del Sector Energético | B10: 15508.886 | C10: 4.6241136 | D10: 61.251095 | H10: =SUM(B10:G10) -> 15574.762
A11: 2. Industrias manufactureras y de la construcción | B11: 2412.3178 | C11: 6.7497891 | D11: 12.53896 | H11: =SUM(B11:G11) -> 2431.6066
A12: 3. Transporte | B12: 3574.5681 | C12: 20.645384 | D12: 25.816688 | H12: =SUM(B12:G12) -> 3621.0302
A13: 4. Otros Sectores | B13: 2606.825 | C13: 122.26923 | D13: 34.183103 | H13: =SUM(B13:G13) -> 2763.2773
A14: 5. Otros | B14: 16.791127 | C14: 0.02527815 | D14: 0.13428834 | H14: =SUM(B14:G14) -> 16.950693
A15: B. Emisiones fugitivas de los combustibles | B15: =SUM(B16:B17) -> 333.70171 | C15: =SUM(C16:C17) -> 0.41713271 | D15: =SUM(D16:D17) -> 0 | H15: =SUM(B15:G15) -> 334.11885
A16: 1. Combustibles sólidos | H16: =SUM(B16:G16) -> 0
A17: 2. Petróleo y gas natural | B17: 333.70171 | C17: 0.41713271 | H17: =SUM(B17:G17) -> 334.11885
A18: 2.. Procesos Industriales | B18: =SUM(B19:B26) -> 942.5118 | C18: =SUM(C19:C26) -> 0.655265 | D18: =SUM(D19:D26) -> 40.196935 | E18: =SUM(E19:E26) -> 0 | F18: =SUM(F19:F26) -> 869.38979 | G18: =SUM(G19:G26) -> 5.7998589 | H18: =SUM(B18:G18) -> 1858.5536
A19: A. Productos Minerales | B19: 273.34185 | H19: =SUM(B19:G19) -> 273.34185
A20: B. Industria química | B20: 12.849946 | H20: =SUM(B20:G20) -> 12.849946
A21: C. Producción metalúrgica | B21: 597.69211 | C21: 0.655265 | F21: 869.38979 | H21: =SUM(B21:G21) -> 1467.7372
A22: D. Productos no energéticos y uso de disolventes | B22: 58.627894 | H22: =SUM(B22:G22) -> 58.627894
A23: E. Industria electrónica | H23: =SUM(B23:G23) -> 0
A24: F. Uso de sustitutivos de los GEIs | H24: =SUM(B24:G24) -> 0
A25: G. producción y uso de otros productos | D25: 40.196935 | G25: 5.7998589 | H25: =SUM(B25:G25) -> 45.996794
A26: H. Otros | H26: =SUM(B26:G26) -> 0
A27: 3. Agricultura | B27: =SUM(B28:B36) -> 19.84544 | C27: =SUM(C28:C36) -> 2281.2307 | D27: =SUM(D28:D36) -> 1021.4669 | H27: =SUM(B27:G27) -> 3322.5431
A28: A. Fermentación entérica | C28: 1708.0576 | H28: =SUM(B28:G28) -> 1708.0576
A29: B. Gestión del estiércol | C29: 531.58279 | D29: 183.81469 | H29: =SUM(B29:G29) -> 715.39748
A30: C. Cultivo de arroz | H30: =SUM(B30:G30) -> 0
A31: D. Suelos agrícolas | D31: 824.79927 | H31: =SUM(B31:G31) -> 824.79927
A32: E. Quemas planificadas de sabanas | H32: =SUM(B32:G32) -> 0
A33: F. Quema en el campo de residuos agrícolas | C33: 41.590384 | D33: 12.852969 | H33: =SUM(B33:G33) -> 54.443352
A34: G. Enmiendas calizas | H34: =SUM(B34:G34) -> 0
A35: H. Fertilización con urea | B35: 16.57281
A36: I. Aplicación fertilizante con carbono | B36: 3.27263 | H36: =SUM(B36:G36) -> 3.27263
A37: 4. Cambios de uso del suelo y silvicultura | H37: =SUM(B37:G37) -> 0
A38: 5. Tratamiento y eliminación de residuos | B38: =SUM(B39:B43) -> 29.858434 | C38: =SUM(C39:C43) -> 605.83026 | D38: =SUM(D39:D43) -> 64.945993 | H38: =SUM(B38:G38) -> 700.63468
A39: A. Depósito en vertederos | C39: 334.86105 | H39: =SUM(B39:G39) -> 334.86105
A40: B. Tratmiento biológico de residuos sólidos | H40: =SUM(B40:G40) -> 0
A41: C. Incineración de residuos | B41: 29.858434 | C41: 7.1143674 | D41: 4.4841148 | H41: =SUM(B41:G41) -> 41.456916
A42: D. Tratmiento de aguas residuales | C42: 263.68536 | D42: 60.461879 | H42: =SUM(B42:G42) -> 324.14723
...

Sheet Galicia 1993
A1: EMISIONES DE CO2 EQUIVALENTE | H1: Galicia
H2: Año 1993
A5: GASES DE EFECTO INVERNADERO | B5: CO2 | C5: CH4 | D5: N2O | E5: HFCs | F5: PFCs | G5: SF6 | H5: Total
A6: CATEGORÍAS DE ACTIVIDAD | B6: CO2 equivalente (Kilotoneladas)
A7: Total Emisiones | B7: =SUM(B8,B18,B27,B37,B38,B44) -> 25387.445 | C7: =SUM(C8,C18,C27,C37,C38,C44) -> 3039.0666 | D7: =SUM(D8,D18,D27,D37,D38,D44) -> 1240.5372 | E7: =SUM(E8,E18,E27,E37,E38,E44) -> 0 | F7: =SUM(F8,F18,F27,F37,F38,F44) -> 890.82856 | G7: =SUM(G8,G18,G27,G37,G38,G44) -> 6.2935312 | H7: =SUM(B7:G7) -> 30564.171
A8: 1. Procesado de la energía | B8: =SUM(B9,B15) -> 24386.753 | C8: =SUM(C9,C15) -> 157.56956 | D8: =SUM(D9,D15) -> 136.37505 | H8: =SUM(B8:G8) -> 24680.697
A9: A. Actividades de combustión | B9: =SUM(B10:B14) -> 24108.426 | C9: =SUM(C10:C14) -> 157.21716 | D9: =SUM(D10:D14) -> 136.37505 | H9: =SUM(B9:G9) -> 24402.018
A10: 1. Industrias del Sector Energético | B10: 15444.566 | C10: 4.1231408 | D10: 57.702503 | H10: =SUM(B10:G10) -> 15506.392
A11: 2. Industrias manufactureras y de la construcción | B11: 2353.2567 | C11: 7.1677772 | D11: 12.106322 | H11: =SUM(B11:G11) -> 2372.5308
A12: 3. Transporte | B12: 3690.2457 | C12: 19.911813 | D12: 31.595542 | H12: =SUM(B12:G12) -> 3741.753
A13: 4. Otros Sectores | B13: 2606.8274 | C13: 125.99689 | D13: 34.861591 | H13: =SUM(B13:G13) -> 2767.6859
A14: 5. Otros | B14: 13.530147 | C14: 0.01754175 | D14: 0.10908975 | H14: =SUM(B14:G14) -> 13.656779
A15: B. Emisiones fugitivas de los combustibles | B15: =SUM(B16:B17) -> 278.3267 | C15: =SUM(C16:C17) -> 0.35239626 | D15: =SUM(D16:D17) -> 0 | H15: =SUM(B15:G15) -> 278.6791
A16: 1. Combustibles sólidos | H16: =SUM(B16:G16) -> 0
A17: 2. Petróleo y gas natural | B17: 278.3267 | C17: 0.35239626 | H17: =SUM(B17:G17) -> 278.6791
A18: 2.. Procesos Industriales | B18: =SUM(B19:B26) -> 951.83641 | C18: =SUM(C19:C26) -> 1.0283325 | D18: =SUM(D19:D26) -> 44.579256 | E18: =SUM(E19:E26) -> 0 | F18: =SUM(F19:F26) -> 890.82856 | G18: =SUM(G19:G26) -> 6.2935312 | H18: =SUM(B18:G18) -> 1894.5661
A19: A. Productos Minerales | B19: 222.40016 | H19: =SUM(B19:G19) -> 222.40016
A20: B. Industria química | B20: 11.627688 | H20: =SUM(B20:G20) -> 11.627688
A21: C. Producción metalúrgica | B21: 665.65235 | C21: 1.0283325 | F21: 890.82856 | H21: =SUM(B21:G21) -> 1557.5092
A22: D. Productos no energéticos y uso de disolventes | B22: 52.156212 | H22: =SUM(B22:G22) -> 52.156212
A23: E. Industria electrónica | H23: =SUM(B23:G23) -> 0
A24: F. Uso de sustitutivos de los GEIs | H24: =SUM(B24:G24) -> 0
A25: G. producción y uso de otros productos | D25: 44.579256 | G25: 6.2935312 | H25: =SUM(B25:G25) -> 50.872788
A26: H. Otros | H26: =SUM(B26:G26) -> 0
A27: 3. Agricultura | B27: =SUM(B28:B36) -> 18.936755 | C27: =SUM(C28:C36) -> 2276.7102 | D27: =SUM(D28:D36) -> 994.76078 | H27: =SUM(B27:G27) -> 3290.4078
A28: A. Fermentación entérica | C28: 1692.3629 | H28: =SUM(B28:G28) -> 1692.3629
A29: B. Gestión del estiércol | C29: 552.18094 | D29: 190.40404 | H29: =SUM(B29:G29) -> 742.58497
A30: C. Cultivo de arroz | H30: =SUM(B30:G30) -> 0
A31: D. Suelos agrícolas | D31: 794.41613 | H31: =SUM(B31:G31) -> 794.41613
A32: E. Quemas planificadas de sabanas | H32: =SUM(B32:G32) -> 0
A33: F. Quema en el campo de residuos agrícolas | C33: 32.166381 | D33: 9.9406035 | H33: =SUM(B33:G33) -> 42.106984
A34: G. Enmiendas calizas | H34: =SUM(B34:G34) -> 0
A35: H. Fertilización con urea | B35: 15.126166
A36: I. Aplicación fertilizante con carbono | B36: 3.810589 | H36: =SUM(B36:G36) -> 3.810589
A37: 4. Cambios de uso del suelo y silvicultura | H37: =SUM(B37:G37) -> 0
A38: 5. Tratamiento y eliminación de residuos | B38: =SUM(B39:B43) -> 29.919436 | C38: =SUM(C39:C43) -> 603.75848 | D38: =SUM(D39:D43) -> 64.822152 | H38: =SUM(B38:G38) -> 698.50007
A39: A. Depósito en vertederos | C39: 351.58541 | H39: =SUM(B39:G39) -> 351.58541
A40: B. Tratmiento biológico de residuos sólidos | H40: =SUM(B40:G40) -> 0
A41: C. Incineración de residuos | B41: 29.919436 | C41: 5.7215416 | D41: 3.5425164 | H41: =SUM(B41:G41) -> 39.183494
A42: D. Tratmiento de aguas residuales | C42: 246.29478 | D42: 61.279635 | H42: =SUM(B42:G42) -> 307.57441
...

Sheet Galicia 1994
A1: EMISIONES DE CO2 EQUIVALENTE | H1: Galicia
H2: Año 1994
A5: GASES DE EFECTO INVERNADERO | B5: CO2 | C5: CH4 | D5: N2O | E5: HFCs | F5: PFCs | G5: SF6 | H5: Total
A6: CATEGORÍAS DE ACTIVIDAD | B6: CO2 equivalente (Kilotoneladas)
A7: Total Emisiones | B7: =SUM(B8,B18,B27,B37,B38,B44) -> 24764.967 | C7: =SUM(C8,C18,C27,C37,C38,C44) -> 3050.2698 | D7: =SUM(D8,D18,D27,D37,D38,D44) -> 1275.1968 | E7: =SUM(E8,E18,E27,E37,E38,E44) -> 0 | F7: =SUM(F8,F18,F27,F37,F38,F44) -> 899.82483 | G7: =SUM(G8,G18,G27,G37,G38,G44) -> 6.9180759 | H7: =SUM(B7:G7) -> 29997.177
A8: 1. Procesado de la energía | B8: =SUM(B9,B15) -> 23676.604 | C8: =SUM(C9,C15) -> 160.33167 | D8: =SUM(D9,D15) -> 148.40649 | H8: =SUM(B8:G8) -> 23985.342
A9: A. Actividades de combustión | B9: =SUM(B10:B14) -> 23392.274 | C9: =SUM(C10:C14) -> 159.94586 | D9: =SUM(D10:D14) -> 148.40649 | H9: =SUM(B9:G9) -> 23700.626
A10: 1. Industrias del Sector Energético | B10: 14425.876 | C10: 4.1422971 | D10: 55.533448 | H10: =SUM(B10:G10) -> 14485.551
A11: 2. Industrias manufactureras y de la construcción | B11: 2478.4404 | C11: 7.7684505 | D11: 11.704629 | H11: =SUM(B11:G11) -> 2497.9135
A12: 3. Transporte | B12: 3801.2315 | C12: 19.392837 | D12: 45.705771 | H12: =SUM(B12:G12) -> 3866.3301
A13: 4. Otros Sectores | B13: 2673.607 | C13: 128.62645 | D13: 35.353904 | H13: =SUM(B13:G13) -> 2837.5874
A14: 5. Otros | B14: 13.119449 | C14: 0.0158248 | D14: 0.10873573 | H14: =SUM(B14:G14) -> 13.24401
A15: B. Emisiones fugitivas de los combustibles | B15: =SUM(B16:B17) -> 284.33033 | C15: =SUM(C16:C17) -> 0.38580701 | D15: =SUM(D16:D17) -> 0 | H15: =SUM(B15:G15) -> 284.71613
A16: 1. Combustibles sólidos | H16: =SUM(B16:G16) -> 0
A17: 2. Petróleo y gas natural | B17: 284.33033 | C17: 0.38580701 | H17: =SUM(B17:G17) -> 284.71613
A18: 2.. Procesos Industriales | B18: =SUM(B19:B26) -> 1041.9047 | C18: =SUM(C19:C26) -> 1.15999 | D18: =SUM(D19:D26) -> 48.111017 | E18: =SUM(E19:E26) -> 0 | F18: =SUM(F19:F26) -> 899.82483 | G18: =SUM(G19:G26) -> 6.9180759 | H18: =SUM(B18:G18) -> 1997.9186
A19: A. Productos Minerales | B19: 267.85975 | H19: =SUM(B19:G19) -> 267.85975
A20: B. Industria química | B20: 11.630177 | H20: =SUM(B20:G20) -> 11.630177
A21: C. Producción metalúrgica | B21: 705.73247 | C21: 1.15999 | F21: 899.82483 | H21: =SUM(B21:G21) -> 1606.7173
A22: D. Productos no energéticos y uso de disolventes | B22: 56.68226 | H22: =SUM(B22:G22) -> 56.68226
A23: E. Industria electrónica | H23: =SUM(B23:G23) -> 0
A24: F. Uso de sustitutivos de los GEIs | H24: =SUM(B24:G24) -> 0
A25: G. producción y uso de otros productos | D25: 48.111017 | G25: 6.9180759 | H25: =SUM(B25:G25) -> 55.029093
A26: H. Otros | H26: =SUM(B26:G26) -> 0
A27: 3. Agricultura | B27: =SUM(B28:B36) -> 17.353521 | C27: =SUM(C28:C36) -> 2274.1452 | D27: =SUM(D28:D36) -> 1014.2724 | H27: =SUM(B27:G27) -> 3305.7711
A28: A. Fermentación entérica | C28: 1675.6065 | H28: =SUM(B28:G28) -> 1675.6065
A29: B. Gestión del estiércol | C29: 563.6847 | D29: 185.88644 | H29: =SUM(B29:G29) -> 749.57114
A30: C. Cultivo de arroz | H30: =SUM(B30:G30) -> 0
A31: D. Suelos agrícolas | D31: 817.61474 | H31: =SUM(B31:G31) -> 817.61474
A32: E. Quemas planificadas de sabanas | H32: =SUM(B32:G32) -> 0
A33: F. Quema en el campo de residuos agrícolas | C33: 34.854013 | D33: 10.77118 | H33: =SUM(B33:G33) -> 45.625192
A34: G. Enmiendas calizas | H34: =SUM(B34:G34) -> 0
A35: H. Fertilización con urea | B35: 13.448057
A36: I. Aplicación fertilizante con carbono | B36: 3.905464 | H36: =SUM(B36:G36) -> 3.905464
A37: 4. Cambios de uso del suelo y silvicultura | H37: =SUM(B37:G37) -> 0
A38: 5. Tratamiento y eliminación de residuos | B38: =SUM(B39:B43) -> 29.105066 | C38: =SUM(C39:C43) -> 614.63298 | D38: =SUM(D39:D43) -> 64.406964 | H38: =SUM(B38:G38) -> 708.14501
A39: A. Depósito en vertederos | C39: 368.00382 | H39: =SUM(B39:G39) -> 368.00382
A40: B. Tratmiento biológico de residuos sólidos | H40: =SUM(B40:G40) -> 0
A41: C. Incineración de residuos | B41: 29.105066 | C41: 5.2000113 | D41: 3.4607941 | H41: =SUM(B41:G41) -> 37.765871
A42: D. Tratmiento de aguas residuales | C42: 241.29494 | D42: 60.94617 | H42: =SUM(B42:G42) -> 302.24111
...

Sheet Galicia 1995
A1: EMISIONES DE CO2 EQUIVALENTE | H1: Galicia
H2: Año 1995
A5: GASES DE EFECTO INVERNADERO | B5: CO2 | C5: CH4 | D5: N2O | E5: HFCs | F5: PFCs | G5: SF6 | H5: Total
A6: CATEGORÍAS DE ACTIVIDAD | B6: CO2 equivalente (Kilotoneladas)
A7: Total Emisiones | B7: =SUM(B8,B18,B27,B37,B38,B44) -> 26779.944 | C7: =SUM(C8,C18,C27,C37,C38,C44) -> 3332.5356 | D7: =SUM(D8,D18,D27,D37,D38,D44) -> 1341.1197 | E7: =SUM(E8,E18,E27,E37,E38,E44) -> 0.063255275 | F7: =SUM(F8,F18,F27,F37,F38,F44) -> 923.88462 | G7: =SUM(G8,G18,G27,G37,G38,G44) -> 8.1152547 | H7: =SUM(B7:G7) -> 32385.663
A8: 1. Procesado de la energía | B8: =SUM(B9,B15) -> 25615.688 | C8: =SUM(C9,C15) -> 159.43476 | D8: =SUM(D9,D15) -> 168.44185 | H8: =SUM(B8:G8) -> 25943.564
A9: A. Actividades de combustión | B9: =SUM(B10:B14) -> 25332.384 | C9: =SUM(C10:C14) -> 159.0861 | D9: =SUM(D10:D14) -> 168.44185 | H9: =SUM(B9:G9) -> 25659.912
A10: 1. Industrias del Sector Energético | B10: 15768.186 | C10: 4.5107061 | D10: 61.395588 | H10: =SUM(B10:G10) -> 15834.092
A11: 2. Industrias manufactureras y de la construcción | B11: 2832.1681 | C11: 11.387944 | D11: 13.680355 | H11: =SUM(B11:G11) -> 2857.2364
A12: 3. Transporte | B12: 3968.0071 | C12: 18.570201 | D12: 57.505953 | H12: =SUM(B12:G12) -> 4044.0833
A13: 4. Otros Sectores | B13: 2750.5457 | C13: 124.60232 | D13: 35.747339 | H13: =SUM(B13:G13) -> 2910.8954
A14: 5. Otros | B14: 13.477226 | C14: 0.014929875 | D14: 0.11261241 | H14: =SUM(B14:G14) -> 13.604768
A15: B. Emisiones fugitivas de los combustibles | B15: =SUM(B16:B17) -> 283.30383 | C15: =SUM(C16:C17) -> 0.34866239 | D15: =SUM(D16:D17) -> 0 | H15: =SUM(B15:G15) -> 283.65249
A16: 1. Combustibles sólidos | H16: =SUM(B16:G16) -> 0
A17: 2. Petróleo y gas natural | B17: 283.30383 | C17: 0.34866239 | H17: =SUM(B17:G17) -> 283.65249
A18: 2.. Procesos Industriales | B18: =SUM(B19:B26) -> 1144.1305 | C18: =SUM(C19:C26) -> 1.2392575 | D18: =SUM(D19:D26) -> 50.354542 | E18: =SUM(E19:E26) -> 0.063255275 | F18: =SUM(F19:F26) -> 923.88462 | G18: =SUM(G19:G26) -> 8.1152547 | H18: =SUM(B18:G18) -> 2127.7874
A19: A. Productos Minerales | B19: 308.30241 | H19: =SUM(B19:G19) -> 308.30241
A20: B. Industria química | B20: 13.248198 | H20: =SUM(B20:G20) -> 13.248198
A21: C. Producción metalúrgica | B21: 765.4795 | C21: 1.2392575 | F21: 923.88024 | H21: =SUM(B21:G21) -> 1690.599
A22: D. Productos no energéticos y uso de disolventes | B22: 57.100354 | H22: =SUM(B22:G22) -> 57.100354
A23: E. Industria electrónica | H23: =SUM(B23:G23) -> 0
A24: F. Uso de sustitutivos de los GEIs | E24: 0.063255275 | F24: 0.0043797638 | H24: =SUM(B24:G24) -> 0.067635038
A25: G. producción y uso de otros productos | D25: 50.354542 | G25: 8.1152547 | H25: =SUM(B25:G25) -> 58.469797
A26: H. Otros | H26: =SUM(B26:G26) -> 0
A27: 3. Agricultura | B27: =SUM(B28:B36) -> 14.722136 | C27: =SUM(C28:C36) -> 2540.2226 | D27: =SUM(D28:D36) -> 1061.4337 | H27: =SUM(B27:G27) -> 3616.3785
A28: A. Fermentación entérica | C28: 1873.7031 | H28: =SUM(B28:G28) -> 1873.7031
A29: B. Gestión del estiércol | C29: 628.41222 | D29: 202.06431 | H29: =SUM(B29:G29) -> 830.47653
A30: C. Cultivo de arroz | H30: =SUM(B30:G30) -> 0
A31: D. Suelos agrícolas | D31: 847.5928 | H31: =SUM(B31:G31) -> 847.5928
A32: E. Quemas planificadas de sabanas | H32: =SUM(B32:G32) -> 0
A33: F. Quema en el campo de residuos agrícolas | C33: 38.107339 | D33: 11.776579 | H33: =SUM(B33:G33) -> 49.883918
A34: G. Enmiendas calizas | H34: =SUM(B34:G34) -> 0
A35: H. Fertilización con urea | B35: 11.40992
A36: I. Aplicación fertilizante con carbono | B36: 3.312216 | H36: =SUM(B36:G36) -> 3.312216
A37: 4. Cambios de uso del suelo y silvicultura | H37: =SUM(B37:G37) -> 0
A38: 5. Tratamiento y eliminación de residuos | B38: =SUM(B39:B43) -> 5.403974 | C38: =SUM(C39:C43) -> 631.63889 | D38: =SUM(D39:D43) -> 60.889645 | H38: =SUM(B38:G38) -> 697.93251
A39: A. Depósito en vertederos | C39: 388.88146 | H39: =SUM(B39:G39) -> 388.88146
A40: B. Tratmiento biológico de residuos sólidos | H40: =SUM(B40:G40) -> 0
A41: C. Incineración de residuos | B41: 5.403974 | C41: 4.0434493 | D41: 2.4553433 | H41: =SUM(B41:G41) -> 11.902767
A42: D. Tratmiento de aguas residuales | C42: 238.59928 | D42: 58.434301 | H42: =SUM(B42:G42) -> 297.03358
...

Sheet Galicia 1996
A1: EMISIONES DE CO2 EQUIVALENTE | H1: Galicia
H2: Año 1996
A5: GASES DE EFECTO INVERNADERO | B5: CO2 | C5: CH4 | D5: N2O | E5: HFCs | F5: PFCs | G5: SF6 | H5: Total
A6: CATEGORÍAS DE ACTIVIDAD | B6: CO2 equivalente (Kilotoneladas)
A7: Total Emisiones | B7: =SUM(B8,B18,B27,B37,B38,B44) -> 25142.027 | C7: =SUM(C8,C18,C27,C37,C38,C44) -> 3450.3838 | D7: =SUM(D8,D18,D27,D37,D38,D44) -> 1389.7018 | E7: =SUM(E8,E18,E27,E37,E38,E44) -> 31.396581 | F7: =SUM(F8,F18,F27,F37,F38,F44) -> 862.22704 | G7: =SUM(G8,G18,G27,G37,G38,G44) -> 9.0195352 | H7: =SUM(B7:G7) -> 30884.756
A8: 1. Procesado de la energía | B8: =SUM(B9,B15) -> 23990.029 | C8: =SUM(C9,C15) -> 162.53792 | D8: =SUM(D9,D15) -> 169.14075 | H8: =SUM(B8:G8) -> 24321.708
A9: A. Actividades de combustión | B9: =SUM(B10:B14) -> 23692.009 | C9: =SUM(C10:C14) -> 162.17747 | D9: =SUM(D10:D14) -> 169.14075 | H9: =SUM(B9:G9) -> 24023.327
A10: 1. Industrias del Sector Energético | B10: 14402.339 | C10: 4.0431894 | D10: 56.497432 | H10: =SUM(B10:G10) -> 14462.879
A11: 2. Industrias manufactureras y de la construcción | B11: 2669.3299 | C11: 13.273889 | D11: 14.046839 | H11: =SUM(B11:G11) -> 2696.6506
A12: 3. Transporte | B12: 3934.1526 | C12: 17.222075 | D12: 63.237248 | H12: =SUM(B12:G12) -> 4014.6119
A13: 4. Otros Sectores | B13: 2672.4219 | C13: 127.62468 | D13: 35.243727 | H13: =SUM(B13:G13) -> 2835.2903
A14: 5. Otros | B14: 13.765543 | C14: 0.01363815 | D14: 0.11550331 | H14: =SUM(B14:G14) -> 13.894684
A15: B. Emisiones fugitivas de los combustibles | B15: =SUM(B16:B17) -> 298.02052 | C15: =SUM(C16:C17) -> 0.36044687 | D15: =SUM(D16:D17) -> 0 | H15: =SUM(B15:G15) -> 298.38096
A16: 1. Combustibles sólidos | H16: =SUM(B16:G16) -> 0
A17: 2. Petróleo y gas natural | B17: 298.02052 | C17: 0.36044687 | H17: =SUM(B17:G17) -> 298.38096
A18: 2.. Procesos Industriales | B18: =SUM(B19:B26) -> 1131.6985 | C18: =SUM(C19:C26) -> 1.25996 | D18: =SUM(D19:D26) -> 51.531468 | E18: =SUM(E19:E26) -> 31.396581 | F18: =SUM(F19:F26) -> 862.22704 | G18: =SUM(G19:G26) -> 9.0195352 | H18: =SUM(B18:G18) -> 2087.1331
A19: A. Productos Minerales | B19: 286.69818 | H19: =SUM(B19:G19) -> 286.69818
A20: B. Industria química | B20: 12.881995 | H20: =SUM(B20:G20) -> 12.881995
A21: C. Producción metalúrgica | B21: 769.75629 | C21: 1.25996 | F21: 862.20991 | H21: =SUM(B21:G21) -> 1633.2262
A22: D. Productos no energéticos y uso de disolventes | B22: 62.36205 | H22: =SUM(B22:G22) -> 62.36205
A23: E. Industria electrónica | H23: =SUM(B23:G23) -> 0
A24: F. Uso de sustitutivos de los GEIs | E24: 31.396581 | F24: 0.017126833 | H24: =SUM(B24:G24) -> 31.413708
A25: G. producción y uso de otros productos | D25: 51.531468 | G25: 9.0195352 | H25: =SUM(B25:G25) -> 60.551003
A26: H. Otros | H26: =SUM(B26:G26) -> 0
A27: 3. Agricultura | B27: =SUM(B28:B36) -> 16.846321 | C27: =SUM(C28:C36) -> 2645.4971 | D27: =SUM(D28:D36) -> 1108.0881 | H27: =SUM(B27:G27) -> 3770.4315
A28: A. Fermentación entérica | C28: 2011.8841 | H28: =SUM(B28:G28) -> 2011.8841
A29: B. Gestión del estiércol | C29: 605.19534 | D29: 203.13962 | H29: =SUM(B29:G29) -> 808.33496
A30: C. Cultivo de arroz | H30: =SUM(B30:G30) -> 0
A31: D. Suelos agrícolas | D31: 896.16633 | H31: =SUM(B31:G31) -> 896.16633
A32: E. Quemas planificadas de sabanas | H32: =SUM(B32:G32) -> 0
A33: F. Quema en el campo de residuos agrícolas | C33: 28.417734 | D33: 8.7821318 | H33: =SUM(B33:G33) -> 37.199865
A34: G. Enmiendas calizas | H34: =SUM(B34:G34) -> 0
A35: H. Fertilización con urea | B35: 13.767695
A36: I. Aplicación fertilizante con carbono | B36: 3.078626 | H36: =SUM(B36:G36) -> 3.078626
A37: 4. Cambios de uso del suelo y silvicultura | H37: =SUM(B37:G37) -> 0
A38: 5. Tratamiento y eliminación de residuos | B38: =SUM(B39:B43) -> 3.452787 | C38: =SUM(C39:C43) -> 641.08879 | D38: =SUM(D39:D43) -> 60.941521 | H38: =SUM(B38:G38) -> 705.48309
A39: A. Depósito en vertederos | C39: 408.77913 | H39: =SUM(B39:G39) -> 408.77913
A40: B. Tratmiento biológico de residuos sólidos | H40: =SUM(B40:G40) -> 0
A41: C. Incineración de residuos | B41: 3.452787 | C41: 3.3243028 | D41: 2.9522675 | H41: =SUM(B41:G41) -> 9.7293573
A42: D. Tratmiento de aguas residuales | C42: 228.88969 | D42: 57.989253 | H42: =SUM(B42:G42) -> 286.87895
...

Sheet Galicia 1997
A1: EMISIONES DE CO2 EQUIVALENTE | H1: Galicia
H2: Año 1997
A5: GASES DE EFECTO INVERNADERO | B5: CO2 | C5: CH4 | D5: N2O | E5: HFCs | F5: PFCs | G5: SF6 | H5: Total
A6: CATEGORÍAS DE ACTIVIDAD | B6: CO2 equivalente (Kilotoneladas)
A7: Total Emisiones | B7: =SUM(B8,B18,B27,B37,B38,B44) -> 24051.302 | C7: =SUM(C8,C18,C27,C37,C38,C44) -> 3432.9007 | D7: =SUM(D8,D18,D27,D37,D38,D44) -> 1289.4102 | E7: =SUM(E8,E18,E27,E37,E38,E44) -> 64.116928 | F7: =SUM(F8,F18,F27,F37,F38,F44) -> 882.36574 | G7: =SUM(G8,G18,G27,G37,G38,G44) -> 11.980466 | H7: =SUM(B7:G7) -> 29732.076
A8: 1. Procesado de la energía | B8: =SUM(B9,B15) -> 22885.957 | C8: =SUM(C9,C15) -> 165.78738 | D8: =SUM(D9,D15) -> 169.71064 | H8: =SUM(B8:G8) -> 23221.455
A9: A. Actividades de combustión | B9: =SUM(B10:B14) -> 22591.854 | C9: =SUM(C10:C14) -> 165.41387 | D9: =SUM(D10:D14) -> 169.71064 | H9: =SUM(B9:G9) -> 22926.978
A10: 1. Industrias del Sector Energético | B10: 12990.353 | C10: 3.7768611 | D10: 51.299052 | H10: =SUM(B10:G10) -> 13045.429
A11: 2. Industrias manufactureras y de la construcción | B11: 2576.797 | C11: 15.788406 | D11: 15.246747 | H11: =SUM(B11:G11) -> 2607.8321
A12: 3. Transporte | B12: 4403.1999 | C12: 17.887999 | D12: 68.067803 | H12: =SUM(B12:G12) -> 4489.1557
A13: 4. Otros Sectores | B13: 2606.8053 | C13: 127.94669 | D13: 34.974223 | H13: =SUM(B13:G13) -> 2769.7262
A14: 5. Otros | B14: 14.698772 | C14: 0.013916625 | D14: 0.12281534 | H14: =SUM(B14:G14) -> 14.835504
A15: B. Emisiones fugitivas de los combustibles | B15: =SUM(B16:B17) -> 294.10333 | C15: =SUM(C16:C17) -> 0.37351127 | D15: =SUM(D16:D17) -> 0 | H15: =SUM(B15:G15) -> 294.47684
A16: 1. Combustibles sólidos | H16: =SUM(B16:G16) -> 0
A17: 2. Petróleo y gas natural | B17: 294.10333 | C17: 0.37351127 | H17: =SUM(B17:G17) -> 294.47684
A18: 2.. Procesos Industriales | B18: =SUM(B19:B26) -> 1148.1652 | C18: =SUM(C19:C26) -> 1.378 | D18: =SUM(D19:D26) -> 51.965668 | E18: =SUM(E19:E26) -> 64.116928 | F18: =SUM(F19:F26) -> 882.36574 | G18: =SUM(G19:G26) -> 11.980466 | H18: =SUM(B18:G18) -> 2159.972
A19: A. Productos Minerales | B19: 283.46178 | H19: =SUM(B19:G19) -> 283.46178
A20: B. Industria química | B20: 11.777984 | H20: =SUM(B20:G20) -> 11.777984
A21: C. Producción metalúrgica | B21: 787.52361 | C21: 1.378 | F21: 882.34815 | H21: =SUM(B21:G21) -> 1671.2498
A22: D. Productos no energéticos y uso de disolventes | B22: 65.40178 | H22: =SUM(B22:G22) -> 65.40178
A23: E. Industria electrónica | H23: =SUM(B23:G23) -> 0
A24: F. Uso de sustitutivos de los GEIs | E24: 64.116928 | F24: 0.017585962 | H24: =SUM(B24:G24) -> 64.134514
A25: G. producción y uso de otros productos | D25: 51.965668 | G25: 11.980466 | H25: =SUM(B25:G25) -> 63.946134
A26: H. Otros | H26: =SUM(B26:G26) -> 0
A27: 3. Agricultura | B27: =SUM(B28:B36) -> 14.069615 | C27: =SUM(C28:C36) -> 2606.7608 | D27: =SUM(D28:D36) -> 1004.2608 | H27: =SUM(B27:G27) -> 3625.0911
A28: A. Fermentación entérica | C28: 1896.6212 | H28: =SUM(B28:G28) -> 1896.6212
A29: B. Gestión del estiércol | C29: 690.70716 | D29: 209.54662 | H29: =SUM(B29:G29) -> 900.25378
A30: C. Cultivo de arroz | H30: =SUM(B30:G30) -> 0
A31: D. Suelos agrícolas | D31: 788.70884 | H31: =SUM(B31:G31) -> 788.70884
A32: E. Quemas planificadas de sabanas | H32: =SUM(B32:G32) -> 0
A33: F. Quema en el campo de residuos agrícolas | C33: 19.43235 | D33: 6.0053157 | H33: =SUM(B33:G33) -> 25.437666
A34: G. Enmiendas calizas | H34: =SUM(B34:G34) -> 0
A35: H. Fertilización con urea | B35: 11.633641
A36: I. Aplicación fertilizante con carbono | B36: 2.435974 | H36: =SUM(B36:G36) -> 2.435974
A37: 4. Cambios de uso del suelo y silvicultura | H37: =SUM(B37:G37) -> 0
A38: 5. Tratamiento y eliminación de residuos | B38: =SUM(B39:B43) -> 3.110221 | C38: =SUM(C39:C43) -> 658.97452 | D38: =SUM(D39:D43) -> 63.473085 | H38: =SUM(B38:G38) -> 725.55782
A39: A. Depósito en vertederos | C39: 437.13933 | H39: =SUM(B39:G39) -> 437.13933
A40: B. Tratmiento biológico de residuos sólidos | H40: =SUM(B40:G40) -> 0
A41: C. Incineración de residuos | B41: 3.110221 | C41: 2.8894903 | D41: 2.9923637 | H41: =SUM(B41:G41) -> 8.992075
A42: D. Tratmiento de aguas residuales | C42: 218.87462 | D42: 60.480721 | H42: =SUM(B42:G42) -> 279.35534
...

Sheet Galicia 1998
A1: EMISIONES DE CO2 EQUIVALENTE | H1: Galicia
H2: Año 1998
A5: GASES DE EFECTO INVERNADERO | B5: CO2 | C5: CH4 | D5: N2O | E5: HFCs | F5: PFCs | G5: SF6 | H5: Total
A6: CATEGORÍAS DE ACTIVIDAD | B6: CO2 equivalente (Kilotoneladas)
A7: Total Emisiones | B7: =SUM(B8,B18,B27,B37,B38,B44) -> 26970.449 | C7: =SUM(C8,C18,C27,C37,C38,C44) -> 3458.8222 | D7: =SUM(D8,D18,D27,D37,D38,D44) -> 1333.3681 | E7: =SUM(E8,E18,E27,E37,E38,E44) -> 146.34556 | F7: =SUM(F8,F18,F27,F37,F38,F44) -> 809.58962 | G7: =SUM(G8,G18,G27,G37,G38,G44) -> 12.255082 | H7: =SUM(B7:G7) -> 32730.83
A8: 1. Procesado de la energía | B8: =SUM(B9,B15) -> 25760.399 | C8: =SUM(C9,C15) -> 169.98275 | D8: =SUM(D9,D15) -> 182.2278 | H8: =SUM(B8:G8) -> 26112.61
A9: A. Actividades de combustión | B9: =SUM(B10:B14) -> 25490.405 | C9: =SUM(C10:C14) -> 169.24477 | D9: =SUM(D10:D14) -> 182.2278 | H9: =SUM(B9:G9) -> 25841.877
A10: 1. Industrias del Sector Energético | B10: 15535.866 | C10: 4.7406482 | D10: 63.090466 | H10: =SUM(B10:G10) -> 15603.697
A11: 2. Industrias manufactureras y de la construcción | B11: 2591.4379 | C11: 19.408762 | D11: 16.555962 | H11: =SUM(B11:G11) -> 2627.4026
A12: 3. Transporte | B12: 4721.0789 | C12: 17.065893 | D12: 67.453896 | H12: =SUM(B12:G12) -> 4805.5987
A13: 4. Otros Sectores | B13: 2626.4752 | C13: 128.01607 | D13: 34.997852 | H13: =SUM(B13:G13) -> 2789.4891
A14: 5. Otros | B14: 15.547139 | C14: 0.013391275 | D14: 0.12961987 | H14: =SUM(B14:G14) -> 15.69015
A15: B. Emisiones fugitivas de los combustibles | B15: =SUM(B16:B17) -> 269.99447 | C15: =SUM(C16:C17) -> 0.73798735 | D15: =SUM(D16:D17) -> 0 | H15: =SUM(B15:G15) -> 270.73246
A16: 1. Combustibles sólidos | H16: =SUM(B16:G16) -> 0
A17: 2. Petróleo y gas natural | B17: 269.99447 | C17: 0.73798735 | H17: =SUM(B17:G17) -> 270.73246
A18: 2.. Procesos Industriales | B18: =SUM(B19:B26) -> 1192.3736 | C18: =SUM(C19:C26) -> 1.4127425 | D18: =SUM(D19:D26) -> 48.902363 | E18: =SUM(E19:E26) -> 146.34556 | F18: =SUM(F19:F26) -> 809.58962 | G18: =SUM(G19:G26) -> 12.255082 | H18: =SUM(B18:G18) -> 2210.8789
A19: A. Productos Minerales | B19: 300.18958 | H19: =SUM(B19:G19) -> 300.18958
A20: B. Industria química | B20: 11.777984 | H20: =SUM(B20:G20) -> 11.777984
A21: C. Producción metalúrgica | B21: 809.37656 | C21: 1.4127425 | F21: 809.5732 | H21: =SUM(B21:G21) -> 1620.3625
A22: D. Productos no energéticos y uso de disolventes | B22: 71.029446 | H22: =SUM(B22:G22) -> 71.029446
A23: E. Industria electrónica | H23: =SUM(B23:G23) -> 0
A24: F. Uso de sustitutivos de los GEIs | E24: 146.34556 | F24: 0.016423002 | H24: =SUM(B24:G24) -> 146.36198
A25: G. producción y uso de otros productos | D25: 48.902363 | G25: 12.255082 | H25: =SUM(B25:G25) -> 61.157445
A26: H. Otros | H26: =SUM(B26:G26) -> 0
A27: 3. Agricultura | B27: =SUM(B28:B36) -> 15.38812 | C27: =SUM(C28:C36) -> 2626.0953 | D27: =SUM(D28:D36) -> 1039.422 | H27: =SUM(B27:G27) -> 3680.9054
A28: A. Fermentación entérica | C28: 1959.0051 | H28: =SUM(B28:G28) -> 1959.0051
A29: B. Gestión del estiércol | C29: 653.66324 | D29: 223.69608 | H29: =SUM(B29:G29) -> 877.35932
A30: C. Cultivo de arroz | H30: =SUM(B30:G30) -> 0
A31: D. Suelos agrícolas | D31: 811.57648 | H31: =SUM(B31:G31) -> 811.57648
A32: E. Quemas planificadas de sabanas | H32: =SUM(B32:G32) -> 0
A33: F. Quema en el campo de residuos agrícolas | C33: 13.427014 | D33: 4.1494432 | H33: =SUM(B33:G33) -> 17.576457
A34: G. Enmiendas calizas | H34: =SUM(B34:G34) -> 0
A35: H. Fertilización con urea | B35: 12.797346
A36: I. Aplicación fertilizante con carbono | B36: 2.590774 | H36: =SUM(B36:G36) -> 2.590774
A37: 4. Cambios de uso del suelo y silvicultura | H37: =SUM(B37:G37) -> 0
A38: 5. Tratamiento y eliminación de residuos | B38: =SUM(B39:B43) -> 2.288601 | C38: =SUM(C39:C43) -> 661.33144 | D38: =SUM(D39:D43) -> 62.8159 | H38: =SUM(B38:G38) -> 726.43594
A39: A. Depósito en vertederos | C39: 465.36632 | H39: =SUM(B39:G39) -> 465.36632
A40: B. Tratmiento biológico de residuos sólidos | H40: =SUM(B40:G40) -> 0
A41: C. Incineración de residuos | B41: 2.288601 | C41: 2.3133 | D41: 2.9054318 | H41: =SUM(B41:G41) -> 7.5073328
A42: D. Tratmiento de aguas residuales | C42: 193.40223 | D42: 59.910468 | H42: =SUM(B42:G42) -> 253.3127
...

Sheet Galicia 1999
A1: EMISIONES DE CO2 EQUIVALENTE | H1: Galicia
H2: Año 1999
A5: GASES DE EFECTO INVERNADERO | B5: CO2 | C5: CH4 | D5: N2O | E5: HFCs | F5: PFCs | G5: SF6 | H5: Total
A6: CATEGORÍAS DE ACTIVIDAD | B6: CO2 equivalente (Kilotoneladas)
A7: Total Emisiones | B7: =SUM(B8,B18,B27,B37,B38,B44) -> 27373.191 | C7: =SUM(C8,C18,C27,C37,C38,C44) -> 3491.9801 | D7: =SUM(D8,D18,D27,D37,D38,D44) -> 1387.5648 | E7: =SUM(E8,E18,E27,E37,E38,E44) -> 209.18032 | F7: =SUM(F8,F18,F27,F37,F38,F44) -> 737.57782 | G7: =SUM(G8,G18,G27,G37,G38,G44) -> 12.698947 | H7: =SUM(B7:G7) -> 33212.193
A8: 1. Procesado de la energía | B8: =SUM(B9,B15) -> 26104.217 | C8: =SUM(C9,C15) -> 174.58018 | D8: =SUM(D9,D15) -> 179.36034 | H8: =SUM(B8:G8) -> 26458.157
A9: A. Actividades de combustión | B9: =SUM(B10:B14) -> 25808.37 | C9: =SUM(C10:C14) -> 172.71648 | D9: =SUM(D10:D14) -> 179.36034 | H9: =SUM(B9:G9) -> 26160.447
A10: 1. Industrias del Sector Energético | B10: 15765.715 | C10: 5.0418307 | D10: 63.32876 | H10: =SUM(B10:G10) -> 15834.085
A11: 2. Industrias manufactureras y de la construcción | B11: 2644.9575 | C11: 23.877801 | D11: 17.639705 | H11: =SUM(B11:G11) -> 2686.475
A12: 3. Transporte | B12: 4656.8853 | C12: 14.989369 | D12: 62.932433 | H12: =SUM(B12:G12) -> 4734.8071
A13: 4. Otros Sectores | B13: 2725.0948 | C13: 128.79555 | D13: 35.329512 | H13: =SUM(B13:G13) -> 2889.2199
A14: 5. Otros | B14: 15.717591 | C14: 0.011926225 | D14: 0.12993336 | H14: =SUM(B14:G14) -> 15.859451
A15: B. Emisiones fugitivas de los combustibles | B15: =SUM(B16:B17) -> 295.84699 | C15: =SUM(C16:C17) -> 1.8636975 | D15: =SUM(D16:D17) -> 0 | H15: =SUM(B15:G15) -> 297.71068
A16: 1. Combustibles sólidos | H16: =SUM(B16:G16) -> 0
A17: 2. Petróleo y gas natural | B17: 295.84699 | C17: 1.8636975 | H17: =SUM(B17:G17) -> 297.71068
A18: 2.. Procesos Industriales | B18: =SUM(B19:B26) -> 1251.0509 | C18: =SUM(C19:C26) -> 1.4321125 | D18: =SUM(D19:D26) -> 45.974272 | E18: =SUM(E19:E26) -> 209.18032 | F18: =SUM(F19:F26) -> 737.57782 | G18: =SUM(G19:G26) -> 12.698947 | H18: =SUM(B18:G18) -> 2257.9144
A19: A. Productos Minerales | B19: 306.41561 | H19: =SUM(B19:G19) -> 306.41561
A20: B. Industria química | B20: 12.144181 | H20: =SUM(B20:G20) -> 12.144181
A21: C. Producción metalúrgica | B21: 852.4924 | C21: 1.4321125 | F21: 737.55913 | H21: =SUM(B21:G21) -> 1591.4836
A22: D. Productos no energéticos y uso de disolventes | B22: 79.998744 | H22: =SUM(B22:G22) -> 79.998744
A23: E. Industria electrónica | H23: =SUM(B23:G23) -> 0
A24: F. Uso de sustitutivos de los GEIs | E24: 209.18032 | F24: 0.018685433 | H24: =SUM(B24:G24) -> 209.199
A25: G. producción y uso de otros productos | D25: 45.974272 | G25: 12.698947 | H25: =SUM(B25:G25) -> 58.673218
A26: H. Otros | H26: =SUM(B26:G26) -> 0
A27: 3. Agricultura | B27: =SUM(B28:B36) -> 16.263509 | C27: =SUM(C28:C36) -> 2653.9823 | D27: =SUM(D28:D36) -> 1099.7358 | H27: =SUM(B27:G27) -> 3769.9817
A28: A. Fermentación entérica | C28: 2045.0733 | H28: =SUM(B28:G28) -> 2045.0733
A29: B. Gestión del estiércol | C29: 594.2151 | D29: 199.4877 | H29: =SUM(B29:G29) -> 793.7028
A30: C. Cultivo de arroz | H30: =SUM(B30:G30) -> 0
A31: D. Suelos agrícolas | D31: 895.70719 | H31: =SUM(B31:G31) -> 895.70719
A32: E. Quemas planificadas de sabanas | H32: =SUM(B32:G32) -> 0
A33: F. Quema en el campo de residuos agrícolas | C33: 14.693909 | D33: 4.5409624 | H33: =SUM(B33:G33) -> 19.234872
A34: G. Enmiendas calizas | H34: =SUM(B34:G34) -> 0
A35: H. Fertilización con urea | B35: 13.004227
A36: I. Aplicación fertilizante con carbono | B36: 3.259282 | H36: =SUM(B36:G36) -> 3.259282
A37: 4. Cambios de uso del suelo y silvicultura | H37: =SUM(B37:G37) -> 0
A38: 5. Tratamiento y eliminación de residuos | B38: =SUM(B39:B43) -> 1.6598 | C38: =SUM(C39:C43) -> 661.98549 | D38: =SUM(D39:D43) -> 62.494333 | H38: =SUM(B38:G38) -> 726.13963
A39: A. Depósito en vertederos | C39: 484.7897 | H39: =SUM(B39:G39) -> 484.7897
A40: B. Tratmiento biológico de residuos sólidos | H40: =SUM(B40:G40) -> 0
A41: C. Incineración de residuos | B41: 1.6598 | C41: 1.9615415 | D41: 3.0681502 | H41: =SUM(B41:G41) -> 6.6894917
A42: D. Tratmiento de aguas residuales | C42: 174.90607 | D42: 59.426183 | H42: =SUM(B42:G42) -> 234.33226
...

Sheet Galicia 2000
A1: EMISIONES DE CO2 EQUIVALENTE | H1: Galicia
H2: Año 2000
A5: GASES DE EFECTO INVERNADERO | B5: CO2 | C5: CH4 | D5: N2O | E5: HFCs | F5: PFCs | G5: SF6 | H5: Total
A6: CATEGORÍAS DE ACTIVIDAD | B6: CO2 equivalente (Kilotoneladas)
A7: Total Emisiones | B7: =SUM(B8,B18,B27,B37,B38,B44) -> 28631.144 | C7: =SUM(C8,C18,C27,C37,C38,C44) -> 3558.0163 | D7: =SUM(D8,D18,D27,D37,D38,D44) -> 1362.5493 | E7: =SUM(E8,E18,E27,E37,E38,E44) -> 284.81185 | F7: =SUM(F8,F18,F27,F37,F38,F44) -> 374.04897 | G7: =SUM(G8,G18,G27,G37,G38,G44) -> 14.297233 | H7: =SUM(B7:G7) -> 34224.868
A8: 1. Procesado de la energía | B8: =SUM(B9,B15) -> 27323.749 | C8: =SUM(C9,C15) -> 182.80307 | D8: =SUM(D9,D15) -> 169.3749 | H8: =SUM(B8:G8) -> 27675.927
A9: A. Actividades de combustión | B9: =SUM(B10:B14) -> 27019.763 | C9: =SUM(C10:C14) -> 180.01332 | D9: =SUM(D10:D14) -> 169.3749 | H9: =SUM(B9:G9) -> 27369.151
A10: 1. Industrias del Sector Energético | B10: 16387.223 | C10: 5.1276888 | D10: 64.971859 | H10: =SUM(B10:G10) -> 16457.322
A11: 2. Industrias manufactureras y de la construcción | B11: 2930.2035 | C11: 31.043665 | D11: 17.445573 | H11: =SUM(B11:G11) -> 2978.6927
A12: 3. Transporte | B12: 4655.524 | C12: 13.307677 | D12: 49.926365 | H12: =SUM(B12:G12) -> 4718.7581
A13: 4. Otros Sectores | B13: 3030.266 | C13: 130.52264 | D13: 36.894758 | H13: =SUM(B13:G13) -> 3197.6834
A14: 5. Otros | B14: 16.546506 | C14: 0.01164885 | D14: 0.1363502 | H14: =SUM(B14:G14) -> 16.694505
A15: B. Emisiones fugitivas de los combustibles | B15: =SUM(B16:B17) -> 303.98682 | C15: =SUM(C16:C17) -> 2.789748 | D15: =SUM(D16:D17) -> 0 | H15: =SUM(B15:G15) -> 306.77657
A16: 1. Combustibles sólidos | H16: =SUM(B16:G16) -> 0
A17: 2. Petróleo y gas natural | B17: 303.98682 | C17: 2.789748 | H17: =SUM(B17:G17) -> 306.77657
A18: 2.. Procesos Industriales | B18: =SUM(B19:B26) -> 1290.8178 | C18: =SUM(C19:C26) -> 1.6237325 | D18: =SUM(D19:D26) -> 44.71576 | E18: =SUM(E19:E26) -> 284.81185 | F18: =SUM(F19:F26) -> 374.04897 | G18: =SUM(G19:G26) -> 14.297233 | H18: =SUM(B18:G18) -> 2010.3154
A19: A. Productos Minerales | B19: 313.53153 | H19: =SUM(B19:G19) -> 313.53153
A20: B. Industria química | B20: 9.797731 | H20: =SUM(B20:G20) -> 9.797731
A21: C. Producción metalúrgica | B21: 882.92375 | C21: 1.6237325 | F21: 374.03112 | H21: =SUM(B21:G21) -> 1258.5786
A22: D. Productos no energéticos y uso de disolventes | B22: 84.564822 | H22: =SUM(B22:G22) -> 84.564822
A23: E. Industria electrónica | H23: =SUM(B23:G23) -> 0
A24: F. Uso de sustitutivos de los GEIs | E24: 284.81185 | F24: 0.01784734 | H24: =SUM(B24:G24) -> 284.8297
A25: G. producción y uso de otros productos | D25: 44.71576 | G25: 14.297233 | H25: =SUM(B25:G25) -> 59.012993
A26: H. Otros | H26: =SUM(B26:G26) -> 0
A27: 3. Agricultura | B27: =SUM(B28:B36) -> 15.969608 | C27: =SUM(C28:C36) -> 2699.843 | D27: =SUM(D28:D36) -> 1089.166 | H27: =SUM(B27:G27) -> 3804.9786
A28: A. Fermentación entérica | C28: 2063.1345 | H28: =SUM(B28:G28) -> 2063.1345
A29: B. Gestión del estiércol | C29: 631.32318 | D29: 213.23658 | H29: =SUM(B29:G29) -> 844.55976
A30: C. Cultivo de arroz | H30: =SUM(B30:G30) -> 0
A31: D. Suelos agrícolas | D31: 874.26517 | H31: =SUM(B31:G31) -> 874.26517
A32: E. Quemas planificadas de sabanas | H32: =SUM(B32:G32) -> 0
A33: F. Quema en el campo de residuos agrícolas | C33: 5.3852742 | D33: 1.6642483 | H33: =SUM(B33:G33) -> 7.0495225
A34: G. Enmiendas calizas | H34: =SUM(B34:G34) -> 0
A35: H. Fertilización con urea | B35: 12.960188
A36: I. Aplicación fertilizante con carbono | B36: 3.00942 | H36: =SUM(B36:G36) -> 3.00942
A37: 4. Cambios de uso del suelo y silvicultura | H37: =SUM(B37:G37) -> 0
A38: 5. Tratamiento y eliminación de residuos | B38: =SUM(B39:B43) -> 0.607201 | C38: =SUM(C39:C43) -> 673.74652 | D38: =SUM(D39:D43) -> 59.292668 | H38: =SUM(B38:G38) -> 733.64639
A39: A. Depósito en vertederos | C39: 508.32924 | H39: =SUM(B39:G39) -> 508.32924
A40: B. Tratmiento biológico de residuos sólidos | H40: =SUM(B40:G40) -> 0
A41: C. Incineración de residuos | B41: 0.607201 | C41: 1.1212609 | D41: 2.8853182 | H41: =SUM(B41:G41) -> 4.6137801
A42: D. Tratmiento de aguas residuales | C42: 163.95554 | D42: 56.40735 | H42: =SUM(B42:G42) -> 220.36289
...

Sheet Galicia 2001
A1: EMISIONES DE CO2 EQUIVALENTE | H1: Galicia
H2: Año 2001
A5: GASES DE EFECTO INVERNADERO | B5: CO2 | C5: CH4 | D5: N2O | E5: HFCs | F5: PFCs | G5: SF6 | H5: Total
A6: CATEGORÍAS DE ACTIVIDAD | B6: CO2 equivalente (Kilotoneladas)
A7: Total Emisiones | B7: =SUM(B8,B18,B27,B37,B38,B44) -> 29322.96 | C7: =SUM(C8,C18,C27,C37,C38,C44) -> 3571.9485 | D7: =SUM(D8,D18,D27,D37,D38,D44) -> 1384.0273 | E7: =SUM(E8,E18,E27,E37,E38,E44) -> 356.63145 | F7: =SUM(F8,F18,F27,F37,F38,F44) -> 171.88295 | G7: =SUM(G8,G18,G27,G37,G38,G44) -> 12.579791 | H7: =SUM(B7:G7) -> 34820.03
A8: 1. Procesado de la energía | B8: =SUM(B9,B15) -> 27982.754 | C8: =SUM(C9,C15) -> 184.34626 | D8: =SUM(D9,D15) -> 169.932 | H8: =SUM(B8:G8) -> 28337.032
A9: A. Actividades de combustión | B9: =SUM(B10:B14) -> 27694.887 | C9: =SUM(C10:C14) -> 181.02225 | D9: =SUM(D10:D14) -> 169.932 | H9: =SUM(B9:G9) -> 28045.841
A10: 1. Industrias del Sector Energético | B10: 16775.653 | C10: 5.3968773 | D10: 66.179143 | H10: =SUM(B10:G10) -> 16847.229
A11: 2. Industrias manufactureras y de la construcción | B11: 3012.4946 | C11: 32.929488 | D11: 18.835134 | H11: =SUM(B11:G11) -> 3064.2592
A12: 3. Transporte | B12: 4990.3249 | C12: 12.959781 | D12: 48.200898 | H12: =SUM(B12:G12) -> 5051.4856
A13: 4. Otros Sectores | B13: 2899.6165 | C13: 129.72464 | D13: 36.579222 | H13: =SUM(B13:G13) -> 3065.9204
A14: 5. Otros | B14: 16.798171 | C14: 0.011461175 | D14: 0.1376009 | H14: =SUM(B14:G14) -> 16.947233
A15: B. Emisiones fugitivas de los combustibles | B15: =SUM(B16:B17) -> 287.86681 | C15: =SUM(C16:C17) -> 3.3240144 | D15: =SUM(D16:D17) -> 0 | H15: =SUM(B15:G15) -> 291.19083
A16: 1. Combustibles sólidos | H16: =SUM(B16:G16) -> 0
A17: 2. Petróleo y gas natural | B17: 287.86681 | C17: 3.3240144 | H17: =SUM(B17:G17) -> 291.19083
A18: 2.. Procesos Industriales | B18: =SUM(B19:B26) -> 1323.6232 | C18: =SUM(C19:C26) -> 1.74525 | D18: =SUM(D19:D26) -> 48.092079 | E18: =SUM(E19:E26) -> 356.63145 | F18: =SUM(F19:F26) -> 171.88295 | G18: =SUM(G19:G26) -> 12.579791 | H18: =SUM(B18:G18) -> 1914.5547
A19: A. Productos Minerales | B19: 320.14496 | H19: =SUM(B19:G19) -> 320.14496
A20: B. Industria química | B20: 11.735597 | H20: =SUM(B20:G20) -> 11.735597
A21: C. Producción metalúrgica | B21: 910.68731 | C21: 1.74525 | F21: 171.86557 | H21: =SUM(B21:G21) -> 1084.2981
A22: D. Productos no energéticos y uso de disolventes | B22: 81.055356 | H22: =SUM(B22:G22) -> 81.055356
A23: E. Industria electrónica | H23: =SUM(B23:G23) -> 0
A24: F. Uso de sustitutivos de los GEIs | E24: 356.63145 | F24: 0.017376255 | H24: =SUM(B24:G24) -> 356.64882
A25: G. producción y uso de otros productos | D25: 48.092079 | G25: 12.579791 | H25: =SUM(B25:G25) -> 60.671869
A26: H. Otros | H26: =SUM(B26:G26) -> 0
A27: 3. Agricultura | B27: =SUM(B28:B36) -> 16.34921 | C27: =SUM(C28:C36) -> 2718.3918 | D27: =SUM(D28:D36) -> 1104.8168 | H27: =SUM(B27:G27) -> 3839.5577
A28: A. Fermentación entérica | C28: 2133.6409 | H28: =SUM(B28:G28) -> 2133.6409
A29: B. Gestión del estiércol | C29: 584.56232 | D29: 207.01355 | H29: =SUM(B29:G29) -> 791.57587
A30: C. Cultivo de arroz | H30: =SUM(B30:G30) -> 0
A31: D. Suelos agrícolas | D31: 897.74495 | H31: =SUM(B31:G31) -> 897.74495
A32: E. Quemas planificadas de sabanas | H32: =SUM(B32:G32) -> 0
A33: F. Quema en el campo de residuos agrícolas | C33: 0.18854798 | D33: 0.058268238 | H33: =SUM(B33:G33) -> 0.24681621
A34: G. Enmiendas calizas | H34: =SUM(B34:G34) -> 0
A35: H. Fertilización con urea | B35: 14.04116
A36: I. Aplicación fertilizante con carbono | B36: 2.30805 | H36: =SUM(B36:G36) -> 2.30805
A37: 4. Cambios de uso del suelo y silvicultura | H37: =SUM(B37:G37) -> 0
A38: 5. Tratamiento y eliminación de residuos | B38: =SUM(B39:B43) -> 0.233948 | C38: =SUM(C39:C43) -> 667.4652 | D38: =SUM(D39:D43) -> 61.186439 | H38: =SUM(B38:G38) -> 728.88558
A39: A. Depósito en vertederos | C39: 524.01215 | H39: =SUM(B39:G39) -> 524.01215
A40: B. Tratmiento biológico de residuos sólidos | H40: =SUM(B40:G40) -> 0
A41: C. Incineración de residuos | B41: 0.233948 | C41: 1.1489674 | D41: 3.6986005 | H41: =SUM(B41:G41) -> 5.0815159
A42: D. Tratmiento de aguas residuales | C42: 141.96099 | D42: 57.487839 | H42: =SUM(B42:G42) -> 199.44883
...

Sheet Galicia 2002
A1: EMISIONES DE CO2 EQUIVALENTE | H1: Galicia
H2: Año 2002
A5: GASES DE EFECTO INVERNADERO | B5: CO2 | C5: CH4 | D5: N2O | E5: HFCs | F5: PFCs | G5: SF6 | H5: Total
A6: CATEGORÍAS DE ACTIVIDAD | B6: CO2 equivalente (Kilotoneladas)
A7: Total Emisiones | B7: =SUM(B8,B18,B27,B37,B38,B44) -> 31280.668 | C7: =SUM(C8,C18,C27,C37,C38,C44) -> 3619.6216 | D7: =SUM(D8,D18,D27,D37,D38,D44) -> 1436.4242 | E7: =SUM(E8,E18,E27,E37,E38,E44) -> 417.33638 | F7: =SUM(F8,F18,F27,F37,F38,F44) -> 195.47762 | G7: =SUM(G8,G18,G27,G37,G38,G44) -> 12.992748 | H7: =SUM(B7:G7) -> 36962.521
A8: 1. Procesado de la energía | B8: =SUM(B9,B15) -> 29873.464 | C8: =SUM(C9,C15) -> 187.18266 | D8: =SUM(D9,D15) -> 180.63065 | H8: =SUM(B8:G8) -> 30241.277
A9: A. Actividades de combustión | B9: =SUM(B10:B14) -> 29562.452 | C9: =SUM(C10:C14) -> 183.24001 | D9: =SUM(D10:D14) -> 180.63065 | H9: =SUM(B9:G9) -> 29926.323
A10: 1. Industrias del Sector Energético | B10: 18216.215 | C10: 5.8154648 | D10: 75.969752 | H10: =SUM(B10:G10) -> 18298
A11: 2. Industrias manufactureras y de la construcción | B11: 3168.0231 | C11: 35.15599 | D11: 18.949191 | H11: =SUM(B11:G11) -> 3222.1282
A12: 3. Transporte | B12: 5247.8206 | C12: 11.912304 | D12: 48.843289 | H12: =SUM(B12:G12) -> 5308.5762
A13: 4. Otros Sectores | B13: 2914.3471 | C13: 130.34578 | D13: 36.736418 | H13: =SUM(B13:G13) -> 3081.4293
A14: 5. Otros | B14: 16.046019 | C14: 0.0104717 | D14: 0.13200506 | H14: =SUM(B14:G14) -> 16.188496
A15: B. Emisiones fugitivas de los combustibles | B15: =SUM(B16:B17) -> 311.01163 | C15: =SUM(C16:C17) -> 3.9426428 | D15: =SUM(D16:D17) -> 0 | H15: =SUM(B15:G15) -> 314.95427
A16: 1. Combustibles sólidos | H16: =SUM(B16:G16) -> 0
A17: 2. Petróleo y gas natural | B17: 311.01163 | C17: 3.9426428 | H17: =SUM(B17:G17) -> 314.95427
A18: 2.. Procesos Industriales | B18: =SUM(B19:B26) -> 1389.4738 | C18: =SUM(C19:C26) -> 1.9091475 | D18: =SUM(D19:D26) -> 43.117618 | E18: =SUM(E19:E26) -> 417.33638 | F18: =SUM(F19:F26) -> 195.47762 | G18: =SUM(G19:G26) -> 12.992748 | H18: =SUM(B18:G18) -> 2060.3073
A19: A. Productos Minerales | B19: 360.80793 | H19: =SUM(B19:G19) -> 360.80793
A20: B. Industria química | B20: 12.583032 | H20: =SUM(B20:G20) -> 12.583032
A21: C. Producción metalúrgica | B21: 941.49852 | C21: 1.9091475 | F21: 195.46075 | H21: =SUM(B21:G21) -> 1138.8684
A22: D. Productos no energéticos y uso de disolventes | B22: 74.584347 | H22: =SUM(B22:G22) -> 74.584347
A23: E. Industria electrónica | H23: =SUM(B23:G23) -> 0
A24: F. Uso de sustitutivos de los GEIs | E24: 417.33638 | F24: 0.016867557 | H24: =SUM(B24:G24) -> 417.35324
A25: G. producción y uso de otros productos | D25: 43.117618 | G25: 12.992748 | H25: =SUM(B25:G25) -> 56.110366
A26: H. Otros | H26: =SUM(B26:G26) -> 0
A27: 3. Agricultura | B27: =SUM(B28:B36) -> 17.555063 | C27: =SUM(C28:C36) -> 2832.4882 | D27: =SUM(D28:D36) -> 1145.0589 | H27: =SUM(B27:G27) -> 3995.1022
A28: A. Fermentación entérica | C28: 2225.2246 | H28: =SUM(B28:G28) -> 2225.2246
A29: B. Gestión del estiércol | C29: 606.59993 | D29: 212.24407 | H29: =SUM(B29:G29) -> 818.844
A30: C. Cultivo de arroz | H30: =SUM(B30:G30) -> 0
A31: D. Suelos agrícolas | D31: 932.60975 | H31: =SUM(B31:G31) -> 932.60975
A32: E. Quemas planificadas de sabanas | H32: =SUM(B32:G32) -> 0
A33: F. Quema en el campo de residuos agrícolas | C33: 0.663717 | D33: 0.2051134 | H33: =SUM(B33:G33) -> 0.8688304
A34: G. Enmiendas calizas | H34: =SUM(B34:G34) -> 0
A35: H. Fertilización con urea | B35: 15.285343
A36: I. Aplicación fertilizante con carbono | B36: 2.26972 | H36: =SUM(B36:G36) -> 2.26972
A37: 4. Cambios de uso del suelo y silvicultura | H37: =SUM(B37:G37) -> 0
A38: 5. Tratamiento y eliminación de residuos | B38: =SUM(B39:B43) -> 0.175604 | C38: =SUM(C39:C43) -> 598.04156 | D38: =SUM(D39:D43) -> 67.616966 | H38: =SUM(B38:G38) -> 665.83413
A39: A. Depósito en vertederos | C39: 452.56273 | H39: =SUM(B39:G39) -> 452.56273
A40: B. Tratmiento biológico de residuos sólidos | C40: 7.9309753 | D40: 5.6722336 | H40: =SUM(B40:G40) -> 13.603209
A41: C. Incineración de residuos | B41: 0.175604 | C41: 1.5270036 | D41: 3.815893 | H41: =SUM(B41:G41) -> 5.5185006
A42: D. Tratmiento de aguas residuales | C42: 135.49294 | D42: 58.12884 | H42: =SUM(B42:G42) -> 193.62178
...

Sheet Galicia 2003
A1: EMISIONES DE CO2 EQUIVALENTE | H1: Galicia
H2: Año 2003
A5: GASES DE EFECTO INVERNADERO | B5: CO2 | C5: CH4 | D5: N2O | E5: HFCs | F5: PFCs | G5: SF6 | H5: Total
A6: CATEGORÍAS DE ACTIVIDAD | B6: CO2 equivalente (Kilotoneladas)
A7: Total Emisiones | B7: =SUM(B8,B18,B27,B37,B38,B44) -> 30312.894 | C7: =SUM(C8,C18,C27,C37,C38,C44) -> 3495.2297 | D7: =SUM(D8,D18,D27,D37,D38,D44) -> 1402.1154 | E7: =SUM(E8,E18,E27,E37,E38,E44) -> 500.40577 | F7: =SUM(F8,F18,F27,F37,F38,F44) -> 187.98879 | G7: =SUM(G8,G18,G27,G37,G38,G44) -> 12.985455 | H7: =SUM(B7:G7) -> 35911.619
A8: 1. Procesado de la energía | B8: =SUM(B9,B15) -> 28850.135 | C8: =SUM(C9,C15) -> 197.13861 | D8: =SUM(D9,D15) -> 179.42074 | H8: =SUM(B8:G8) -> 29226.694
A9: A. Actividades de combustión | B9: =SUM(B10:B14) -> 28585.159 | C9: =SUM(C10:C14) -> 192.98063 | D9: =SUM(D10:D14) -> 179.42074 | H9: =SUM(B9:G9) -> 28957.56
A10: 1. Industrias del Sector Energético | B10: 16547.912 | C10: 5.5049174 | D10: 71.033436 | H10: =SUM(B10:G10) -> 16624.451
A11: 2. Industrias manufactureras y de la construcción | B11: 3519.6287 | C11: 44.886395 | D11: 20.742024 | H11: =SUM(B11:G11) -> 3585.2571
A12: 3. Transporte | B12: 5387.9647 | C12: 11.425052 | D12: 49.935506 | H12: =SUM(B12:G12) -> 5449.3252
A13: 4. Otros Sectores | B13: 3113.1039 | C13: 131.15414 | D13: 37.573142 | H13: =SUM(B13:G13) -> 3281.8312
A14: 5. Otros | B14: 16.549367 | C14: 0.010123425 | D14: 0.13662734 | H14: =SUM(B14:G14) -> 16.696118
A15: B. Emisiones fugitivas de los combustibles | B15: =SUM(B16:B17) -> 264.97574 | C15: =SUM(C16:C17) -> 4.1579754 | D15: =SUM(D16:D17) -> 0 | H15: =SUM(B15:G15) -> 269.13371
A16: 1. Combustibles sólidos | H16: =SUM(B16:G16) -> 0
A17: 2. Petróleo y gas natural | B17: 264.97574 | C17: 4.1579754 | H17: =SUM(B17:G17) -> 269.13371
A18: 2.. Procesos Industriales | B18: =SUM(B19:B26) -> 1445.6943 | C18: =SUM(C19:C26) -> 2.1607625 | D18: =SUM(D19:D26) -> 36.627474 | E18: =SUM(E19:E26) -> 500.40577 | F18: =SUM(F19:F26) -> 187.98879 | G18: =SUM(G19:G26) -> 12.985455 | H18: =SUM(B18:G18) -> 2185.8626
A19: A. Productos Minerales | B19: 387.36115 | H19: =SUM(B19:G19) -> 387.36115
A20: B. Industria química | B20: 15.077517 | H20: =SUM(B20:G20) -> 15.077517
A21: C. Producción metalúrgica | B21: 973.88346 | C21: 2.1607625 | F21: 187.9722 | H21: =SUM(B21:G21) -> 1164.0164
A22: D. Productos no energéticos y uso de disolventes | B22: 69.372222 | H22: =SUM(B22:G22) -> 69.372222
A23: E. Industria electrónica | H23: =SUM(B23:G23) -> 0
A24: F. Uso de sustitutivos de los GEIs | E24: 500.40577 | F24: 0.01658262 | H24: =SUM(B24:G24) -> 500.42235
A25: G. producción y uso de otros productos | D25: 36.627474 | G25: 12.985455 | H25: =SUM(B25:G25) -> 49.612929
A26: H. Otros | H26: =SUM(B26:G26) -> 0
A27: 3. Agricultura | B27: =SUM(B28:B36) -> 16.948019 | C27: =SUM(C28:C36) -> 2742.9672 | D27: =SUM(D28:D36) -> 1118.3855 | H27: =SUM(B27:G27) -> 3878.3007
A28: A. Fermentación entérica | C28: 2150.3368 | H28: =SUM(B28:G28) -> 2150.3368
A29: B. Gestión del estiércol | C29: 591.97973 | D29: 207.38324 | H29: =SUM(B29:G29) -> 799.36296
A30: C. Cultivo de arroz | H30: =SUM(B30:G30) -> 0
A31: D. Suelos agrícolas | D31: 910.80113 | H31: =SUM(B31:G31) -> 910.80113
A32: E. Quemas planificadas de sabanas | H32: =SUM(B32:G32) -> 0
A33: F. Quema en el campo de residuos agrícolas | C33: 0.65073285 | D33: 0.20110053 | H33: =SUM(B33:G33) -> 0.85183338
A34: G. Enmiendas calizas | H34: =SUM(B34:G34) -> 0
A35: H. Fertilización con urea | B35: 14.348139
A36: I. Aplicación fertilizante con carbono | B36: 2.59988 | H36: =SUM(B36:G36) -> 2.59988
A37: 4. Cambios de uso del suelo y silvicultura | H37: =SUM(B37:G37) -> 0
A38: 5. Tratamiento y eliminación de residuos | B38: =SUM(B39:B43) -> 0.11726 | C38: =SUM(C39:C43) -> 552.96305 | D38: =SUM(D39:D43) -> 67.681712 | H38: =SUM(B38:G38) -> 620.76202
A39: A. Depósito en vertederos | C39: 417.96681 | H39: =SUM(B39:G39) -> 417.96681
A40: B. Tratmiento biológico de residuos sólidos | C40: 8.675492 | D40: 6.2047119 | H40: =SUM(B40:G40) -> 14.880204
A41: C. Incineración de residuos | B41: 0.11726 | C41: 1.6839285 | D41: 4.0214114 | H41: =SUM(B41:G41) -> 5.8225999
A42: D. Tratmiento de aguas residuales | C42: 123.99194 | D42: 57.455589 | H42: =SUM(B42:G42) -> 181.44753
...

Sheet Galicia 2004
A1: EMISIONES DE CO2 EQUIVALENTE | H1: Galicia
H2: Año 2004
A5: GASES DE EFECTO INVERNADERO | B5: CO2 | C5: CH4 | D5: N2O | E5: HFCs | F5: PFCs | G5: SF6 | H5: Total
A6: CATEGORÍAS DE ACTIVIDAD | B6: CO2 equivalente (Kilotoneladas)
A7: Total Emisiones | B7: =SUM(B8,B18,B27,B37,B38,B44) -> 31500.445 | C7: =SUM(C8,C18,C27,C37,C38,C44) -> 3369.0142 | D7: =SUM(D8,D18,D27,D37,D38,D44) -> 1362.9588 | E7: =SUM(E8,E18,E27,E37,E38,E44) -> 590.90678 | F7: =SUM(F8,F18,F27,F37,F38,F44) -> 179.30385 | G7: =SUM(G8,G18,G27,G37,G38,G44) -> 14.773772 | H7: =SUM(B7:G7) -> 37017.402
