Workbook

Sheet Galicia 1990
A1: EMISIONES DE CO2 EQUIVALENTE | H1: Galicia
H2: Año 1990
A5: GASES DE EFECTO INVERNADERO | B5: CO2 | C5: CH4 | D5: N2O | E5: HFCs | F5: PFCs | G5: SF6 | H5: Total
A6: CATEGORÍAS DE ACTIVIDAD | B6: CO2 equivalente (Kilotoneladas)
A7: Total Emisiones | B7: =SUM(B8,B18,B27,B37,B38,B44) -> 24020.574 | C7: =SUM(C8,C18,C27,C37,C38,C44) -> 2851.2124 | D7: =SUM(D8,D18,D27,D37,D38,D44) -> 1171.3303 | E7: =SUM(E8,E18,E27,E37,E38,E44) -> 0 | F7: =SUM(F8,F18,F27,F37,F38,F44) -> 965.03713 | G7: =SUM(G8,G18,G27,G37,G38,G44) -> 5.3299749 | H7: =SUM(B7:G7) -> 29013.483
A8: 1. Procesado de la energía | B8: =SUM(B9,B15) -> 22879.967 | C8: =SUM(C9,C15) -> 143.19745 | D8: =SUM(D9,D15) -> 125.80139 | H8: =SUM(B8:G8) -> 23148.966
A9: A. Actividades de combustión | B9: =SUM(B10:B14) -> 22558.632 | C9: =SUM(C10:C14) -> 142.81668 | D9: =SUM(D10:D14) -> 125.80139 | H9: =SUM(B9:G9) -> 22827.25
A10: 1. Industrias del Sector Energético | B10: 14827.102 | C10: 3.7077671 | D10: 56.074052 | H10: =SUM(B10:G10) -> 14886.883
A11: 2. Industrias manufactureras y de la construcción | B11: 2190.2349 | C11: 5.6393516 | D11: 12.878538 | H11: =SUM(B11:G11) -> 2208.7528
A12: 3. Transporte | B12: 3192.8469 | C12: 19.179671 | D12: 25.497869 | H12: =SUM(B12:G12) -> 3237.5244
A13: 4. Otros Sectores | B13: 2333.3747 | C13: 114.26693 | D13: 31.228857 | H13: =SUM(B13:G13) -> 2478.8704
A14: 5. Otros | B14: 15.073487 | C14: 0.02296285 | D14: 0.12207123 | H14: =SUM(B14:G14) -> 15.218521
A15: B. Emisiones fugitivas de los combustibles | B15: =SUM(B16:B17) -> 321.33532 | C15: =SUM(C16:C17) -> 0.38076227 | D15: =SUM(D16:D17) -> 0 | H15: =SUM(B15:G15) -> 321.71608
A16: 1. Combustibles sólidos | H16: =SUM(B16:G16) -> 0
A17: 2. Petróleo y gas natural | B17: 321.33532 | C17: 0.38076227 | H17: =SUM(B17:G17) -> 321.71608
A18: 2.. Procesos Industriales | B18: =SUM(B19:B26) -> 1091.8468 | C18: =SUM(C19:C26) -> 1.2216425 | D18: =SUM(D19:D26) -> 28.516131 | E18: =SUM(E19:E26) -> 0 | F18: =SUM(F19:F26) -> 965.03713 | G18: =SUM(G19:G26) -> 5.3299749 | H18: =SUM(B18:G18) -> 2091.9517
A19: A. Productos Minerales | B19: 295.99794 | H19: 295.99794
A20: B. Industria química | B20: 15.390672 | H20: 15.390672
A21: C. Producción metalúrgica | B21: 716.47617 | C21: 1.2216425 | F21: 965.03713 | H21: 1682.735
A22: D. Productos no energéticos y uso de disolventes | B22: 63.982047 | H22: 63.982047
A23: E. Industria electrónica | H23: =SUM(B23:G23) -> 0
A24: F. Uso de sustitutivos de los GEIs | H24: =SUM(B24:G24) -> 0
A25: G. producción y uso de otros productos | D25: 28.516131 | G25: 5.3299749 | H25: =SUM(B25:G25) -> 33.846106
A26: H. Otros | H26: =SUM(B26:G26) -> 0
A27: 3. Agricultura | B27: =SUM(B28:B36) -> 20.662246 | C27: =SUM(C28:C36) -> 2126.8965 | D27: =SUM(D28:D36) -> 948.43912 | H27: =SUM(B27:G27) -> 3095.9978
A28: A. Fermentación entérica | C28: 1442.0096 | H28: =SUM(B28:G28) -> 1442.0096
A29: B. Gestión del estiércol | C29: 637.34643 | D29: 184.63753 | H29: =SUM(B29:G29) -> 821.98396
A30: C. Cultivo de arroz | H30: =SUM(B30:G30) -> 0
A31: D. Suelos agrícolas | D31: 749.10985 | H31: =SUM(B31:G31) -> 749.10985
A32: E. Quemas planificadas de sabanas | H32: =SUM(B32:G32) -> 0
A33: F. Quema en el campo de residuos agrícolas | C33: 47.540397 | D33: 14.691744 | H33: =SUM(B33:G33) -> 62.232141
A34: G. Enmiendas calizas | H34: =SUM(B34:G34) -> 0
A35: H. Fertilización con urea | B35: 17.566659
A36: I. Aplicación fertilizante con carbono | B36: 3.095587 | H36: =SUM(B36:G36) -> 3.095587
A37: 4. Cambios de uso del suelo y silvicultura | H37: =SUM(B37:G37) -> 0
A38: 5. Tratamiento y eliminación de residuos | B38: =SUM(B39:B43) -> 28.097537 | C38: =SUM(C39:C43) -> 579.89688 | D38: =SUM(D39:D43) -> 68.573659 | H38: =SUM(B38:G38) -> 676.56808
A39: A. Depósito en vertederos | C39: 291.13596 | H39: =SUM(B39:G39) -> 291.13596
A40: B. Tratmiento biológico de residuos sólidos | H40: =SUM(B40:G40) -> 0
A41: C. Incineración de residuos | B41: 28.097537 | C41: 6.8499737 | D41: 5.1507217 | H41: =SUM(B41:G41) -> 40.098232
A42: D. Tratmiento de aguas residuales | C42: 281.72218 | D42: 63.422938 | H42: =SUM(B42:G42) -> 345.14512
A43: E. Otros | C43: 0.1887674 | H43: =SUM(B43:G43) -> 0.1887674
A44: 6. Otros | H44: =SUM(B44:G44) -> 0

Sheet Galicia 1991
A1: EMISIONES DE CO2 EQUIVALENTE | H1: Galicia
H2: Año 1991
A5: GASES DE EFECTO INVERNADERO | B5: CO2 | C5: CH4 | D5: N2O | E5: HFCs | F5: PFCs | G5: SF6 | H5: Total
A6: CATEGORÍAS DE ACTIVIDAD | B6: CO2 equivalente (Kilotoneladas)
A7: Total Emisiones | B7: =SUM(B8,B18,B27,B37,B38,B44) -> 23558.154 | C7: =SUM(C8,C18,C27,C37,C38,C44) -> 3014.1599 | D7: =SUM(D8,D18,D27,D37,D38,D44) -> 1244.7252 | E7: =SUM(E8,E18,E27,E37,E38,E44) -> 0 | F7: =SUM(F8,F18,F27,F37,F38,F44) -> 896.03391 | G7: =SUM(G8,G18,G27,G37,G38,G44) -> 5.5997513 | H7: =SUM(B7:G7) -> 28718.673
A8: 1. Procesado de la energía | B8: =SUM(B9,B15) -> 22461.482 | C8: =SUM(C9,C15) -> 149.52659 | D8: =SUM(D9,D15) -> 129.93905 | H8: =SUM(B8:G8) -> 22740.947
A9: A. Actividades de combustión | B9: =SUM(B10:B14) -> 22158.907 | C9: =SUM(C10:C14) -> 149.13319 | D9: =SUM(D10:D14) -> 129.93905 | H9: =SUM(B9:G9) -> 22437.979
A10: 1. Industrias del Sector Energético | B10: 13761.888 | C10: 4.0600949 | D10: 57.08302 | H10: =SUM(B10:G10) -> 13823.031
A11: 2. Industrias manufactureras y de la construcción | B11: 2427.158 | C11: 6.4721106 | D11: 13.144491 | H11: =SUM(B11:G11) -> 2446.7746
A12: 3. Transporte | B12: 3450.0136 | C12: 20.483369 | D12: 27.063495 | H12: =SUM(B12:G12) -> 3497.5605
A13: 4. Otros Sectores | B13: 2504.6164 | C13: 118.0943 | D13: 32.525081 | H13: =SUM(B13:G13) -> 2655.2358
A14: 5. Otros | B14: 15.231132 | C14: 0.0233214 | D14: 0.12296106 | H14: =SUM(B14:G14) -> 15.377414
A15: B. Emisiones fugitivas de los combustibles | B15: =SUM(B16:B17) -> 302.57462 | C15: =SUM(C16:C17) -> 0.39339861 | D15: =SUM(D16:D17) -> 0 | H15: =SUM(B15:G15) -> 302.96802
A16: 1. Combustibles sólidos | H16: =SUM(B16:G16) -> 0
A17: 2. Petróleo y gas natural | B17: 302.57462 | C17: 0.39339861 | H17: =SUM(B17:G17) -> 302.96802
A18: 2.. Procesos Industriales | B18: =SUM(B19:B26) -> 1049.1696 | C18: =SUM(C19:C26) -> 1.4237275 | D18: =SUM(D19:D26) -> 34.13098 | E18: =SUM(E19:E26) -> 0 | F18: =SUM(F19:F26) -> 896.03391 | G18: =SUM(G19:G26) -> 5.5997513 | H18: =SUM(B18:G18) -> 1986.358
A19: A. Productos Minerales | B19: 286.80937 | H19: =SUM(B19:G19) -> 286.80937
A20: B. Industria química | B20: 13.367395 | H20: =SUM(B20:G20) -> 13.367395
A21: C. Producción metalúrgica | B21: 688.04151 | C21: 1.4237275 | F21: 896.03391 | H21: =SUM(B21:G21) -> 1585.4991
A22: D. Productos no energéticos y uso de disolventes | B22: 60.951331 | H22: =SUM(B22:G22) -> 60.951331
A23: E. Industria electrónica | H23: =SUM(B23:G23) -> 0
A24: F. Uso de sustitutivos de los GEIs | H24: =SUM(B24:G24) -> 0
A25: G. producción y uso de otros productos | D25: 34.13098 | G25: 5.5997513 | H25: =SUM(B25:G25) -> 39.730731
A26: H. Otros | H26: =SUM(B26:G26) -> 0
A27: 3. Agricultura | B27: =SUM(B28:B36) -> 18.952592 | C27: =SUM(C28:C36) -> 2273.2919 | D27: =SUM(D28:D36) -> 1015.3704 | H27: =SUM(B27:G27) -> 3307.6148
A28: A. Fermentación entérica | C28: 1634.6677 | H28: =SUM(B28:G28) -> 1634.6677
A29: B. Gestión del estiércol | C29: 587.22525 | D29: 195.09805 | H29: =SUM(B29:G29) -> 782.3233
A30: C. Cultivo de arroz | H30: =SUM(B30:G30) -> 0
A31: D. Suelos agrícolas | D31: 804.38818 | H31: =SUM(B31:G31) -> 804.38818
A32: E. Quemas planificadas de sabanas | H32: =SUM(B32:G32) -> 0
A33: F. Quema en el campo de residuos agrícolas | C33: 51.39889 | D33: 15.88416 | H33: =SUM(B33:G33) -> 67.283051
A34: G. Enmiendas calizas | H34: =SUM(B34:G34) -> 0
A35: H. Fertilización con urea | B35: 15.201277
A36: I. Aplicación fertilizante con carbono | B36: 3.751315 | H36: =SUM(B36:G36) -> 3.751315
A37: 4. Cambios de uso del suelo y silvicultura | H37: =SUM(B37:G37) -> 0
A38: 5. Tratamiento y eliminación de residuos | B38: =SUM(B39:B43) -> 28.550138 | C38: =SUM(C39:C43) -> 589.91774 | D38: =SUM(D39:D43) -> 65.284821 | H38: =SUM(B38:G38) -> 683.7527
A39: A. Depósito en vertederos | C39: 311.70601 | H39: =SUM(B39:G39) -> 311.70601
A40: B. Tratmiento biológico de residuos sólidos | H40: =SUM(B40:G40) -> 0
A41: C. Incineración de residuos | B41: 28.550138 | C41: 7.0851935 | D41: 4.6259202 | H41: =SUM(B41:G41) -> 40.261252
A42: D. Tratmiento de aguas residuales | C42: 270.94595 | D42: 60.658901 | H42: =SUM(B42:G42) -> 331.60486
A43: E. Otros | C43: 0.1805828 | H43: =SUM(B43:G43) -> 0.1805828
A44: 6. Otros | H44: =SUM(B44:G44) -> 0

Sheet Galicia 1992
A1: EMISIONES DE CO2 EQUIVALENTE | H1: Galicia
H2: Año 1992
A5: GASES DE EFECTO INVERNADERO | B5: CO2 | C5: CH4 | D5: N2O | E5: HFCs | F5: PFCs | G5: SF6 | H5: Total
A6: CATEGORÍAS DE ACTIVIDAD | B6: CO2 equivalente (Kilotoneladas)
A7: Total Emisiones | B7: =SUM(B8,B18,B27,B37,B38,B44) -> 25445.306 | C7: =SUM(C8,C18,C27,C37,C38,C44) -> 3042.4472 | D7: =SUM(D8,D18,D27,D37,D38,D44) -> 1260.534 | E7: =SUM(E8,E18,E27,E37,E38,E44) -> 0 | F7: =SUM(F8,F18,F27,F37,F38,F44) -> 869.38979 | G7: =SUM(G8,G18,G27,G37,G38,G44) -> 5.7998589 | H7: =SUM(B7:G7) -> 30623.477
A8: 1. Procesado de la energía | B8: =SUM(B9,B15) -> 24453.09 | C8: =SUM(C9,C15) -> 154.73093 | D8: =SUM(D9,D15) -> 133.92414 | H8: =SUM(B8:G8) -> 24741.745
A9: A. Actividades de combustión | B9: =SUM(B10:B14) -> 24119.388 | C9: =SUM(C10:C14) -> 154.3138 | D9: =SUM(D10:D14) -> 133.92414 | H9: =SUM(B9:G9) -> 24407.626
A10: 1. Industrias del Sector Energético | B10: 15508.886 | C10: 4.6241136 | D10: 61.251095 | H10: =SUM(B10:G10) -> 15574.762
A11: 2. Industrias manufactureras y de la construcción | B11: 2412.3178 | C11: 6.7497891 | D11: 12.53896 | H11: =SUM(B11:G11) -> 2431.6066
A12: 3. Transporte | B12: 3574.5681 | C12: 20.645384 | D12: 25.816688 | H12: =SUM(B12:G12) -> 3621.0302
A13: 4. Otros Sectores | B13: 2606.825 | C13: 122.26923 | D13: 34.183103 | H13: =SUM(B13:G13) -> 2763.2773
A14: 5. Otros | B14: 16.791127 | C14: 0.02527815 | D14: 0.13428834 | H14: =SUM(B14:G14) -> 16.950693
A15: B. Emisiones fugitivas de los combustibles | B15: =SUM(B16:B17) -> 333.70171 | C15: =SUM(C16:C17) -> 0.41713271 | D15: =SUM(D16:D17) -> 0 | H15: =SUM(B15:G15) -> 334.11885
A16: 1. Combustibles sólidos | H16: =SUM(B16:G16) -> 0
A17: 2. Petróleo y gas natural | B17: 333.70171 | C17: 0.41713271 | H17: =SUM(B17:G17) -> 334.11885
A18: 2.. Procesos Industriales | B18: =SUM(B19:B26) -> 942.5118 | C18: =SUM(C19:C26) -> 0.655265 | D18: =SUM(D19:D26) -> 40.196935 | E18: =SUM(E19:E26) -> 0 | F18: =SUM(F19:F26) -> 869.38979 | G18: =SUM(G19:G26) -> 5.7998589 | H18: =SUM(B18:G18) -> 1858.5536
A19: A. Productos Minerales | B19: 273.34185 | H19: =SUM(B19:G19) -> 273.34185
A20: B. Industria química | B20: 12.849946 | H20: =SUM(B20:G20) -> 12.849946
A21: C. Producción metalúrgica | B21: 597.69211 | C21: 0.655265 | F21: 869.38979 | H21: =SUM(B21:G21) -> 1467.7372
A22: D. Productos no energéticos y uso de disolventes | B22: 58.627894 | H22: =SUM(B22:G22) -> 58.627894
A23: E. Industria electrónica | H23: =SUM(B23:G23) -> 0
A24: F. Uso de sustitutivos de los GEIs | H24: =SUM(B24:G24) -> 0
A25: G. producción y uso de otros productos | D25: 40.196935 | G25: 5.7998589 | H25: =SUM(B25:G25) -> 45.996794
A26: H. Otros | H26: =SUM(B26:G26) -> 0
A27: 3. Agricultura | B27: =SUM(B28:B36) -> 19.84544 | C27: =SUM(C28:C36) -> 2281.2307 | D27: =SUM(D28:D36) -> 1021.4669 | H27: =SUM(B27:G27) -> 3322.5431
A28: A. Fermentación entérica | C28: 1708.0576 | H28: =SUM(B28:G28) -> 1708.0576
A29: B. Gestión del estiércol | C29: 531.58279 | D29: 183.81469 | H29: =SUM(B29:G29) -> 715.39748
A30: C. Cultivo de arroz | H30: =SUM(B30:G30) -> 0
A31: D. Suelos agrícolas | D31: 824.79927 | H31: =SUM(B31:G31) -> 824.79927
A32: E. Quemas planificadas de sabanas | H32: =SUM(B32:G32) -> 0
A33: F. Quema en el campo de residuos agrícolas | C33: 41.590384 | D33: 12.852969 | H33: =SUM(B33:G33) -> 54.443352
A34: G. Enmiendas calizas | H34: =SUM(B34:G34) -> 0
A35: H. Fertilización con urea | B35: 16.57281
A36: I. Aplicación fertilizante con carbono | B36: 3.27263 | H36: =SUM(B36:G36) -> 3.27263
A37: 4. Cambios de uso del suelo y silvicultura | H37: =SUM(B37:G37) -> 0
A38: 5. Tratamiento y eliminación de residuos | B38: =SUM(B39:B43) -> 29.858434 | C38: =SUM(C39:C43) -> 605.83026 | D38: =SUM(D39:D43) -> 64.945993 | H38: =SUM(B38:G38) -> 700.63468
A39: A. Depósito en vertederos | C39: 334.86105 | H39: =SUM(B39:G39) -> 334.86105
A40: B. Tratmiento biológico de residuos sólidos | H40: =SUM(B40:G40) -> 0
A41: C. Incineración de residuos | B41: 29.858434 | C41: 7.1143674 | D41: 4.4841148 | H41: =SUM(B41:G41) -> 41.456916
A42: D. Tratmiento de aguas residuales | C42: 263.68536 | D42: 60.461879 | H42: =SUM(B42:G42) -> 324.14723
A43: E. Otros | C43: 0.1694879 | H43: =SUM(B43:G43) -> 0.1694879
A44: 6. Otros | H44: =SUM(B44:G44) -> 0

Sheet Galicia 1993
A1: EMISIONES DE CO2 EQUIVALENTE | H1: Galicia
H2: Año 1993
A5: GASES DE EFECTO INVERNADERO | B5: CO2 | C5: CH4 | D5: N2O | E5: HFCs | F5: PFCs | G5: SF6 | H5: Total
A6: CATEGORÍAS DE ACTIVIDAD | B6: CO2 equivalente (Kilotoneladas)
A7: Total Emisiones | B7: =SUM(B8,B18,B27,B37,B38,B44) -> 25387.445 | C7: =SUM(C8,C18,C27,C37,C38,C44) -> 3039.0666 | D7: =SUM(D8,D18,D27,D37,D38,D44) -> 1240.5372 | E7: =SUM(E8,E18,E27,E37,E38,E44) -> 0 | F7: =SUM(F8,F18,F27,F37,F38,F44) -> 890.82856 | G7: =SUM(G8,G18,G27,G37,G38,G44) -> 6.2935312 | H7: =SUM(B7:G7) -> 30564.171
A8: 1. Procesado de la energía | B8: =SUM(B9,B15) -> 24386.753 | C8: =SUM(C9,C15) -> 157.56956 | D8: =SUM(D9,D15) -> 136.37505 | H8: =SUM(B8:G8) -> 24680.697
A9: A. Actividades de combustión | B9: =SUM(B10:B14) -> 24108.426 | C9: =SUM(C10:C14) -> 157.21716 | D9: =SUM(D10:D14) -> 136.37505 | H9: =SUM(B9:G9) -> 24402.018
A10: 1. Industrias del Sector Energético | B10: 15444.566 | C10: 4.1231408 | D10: 57.702503 | H10: =SUM(B10:G10) -> 15506.392
A11: 2. Industrias manufactureras y de la construcción | B11: 2353.2567 | C11: 7.1677772 | D11: 12.106322 | H11: =SUM(B11:G11) -> 2372.5308
A12: 3. Transporte | B12: 3690.2457 | C12: 19.911813 | D12: 31.595542 | H12: =SUM(B12:G12) -> 3741.753
A13: 4. Otros Sectores | B13: 2606.8274 | C13: 125.99689 | D13: 34.861591 | H13: =SUM(B13:G13) -> 2767.6859
A14: 5. Otros | B14: 13.530147 | C14: 0.01754175 | D14: 0.10908975 | H14: =SUM(B14:G14) -> 13.656779
A15: B. Emisiones fugitivas de los combustibles | B15: =SUM(B16:B17) -> 278.3267 | C15: =SUM(C16:C17) -> 0.35239626 | D15: =SUM(D16:D17) -> 0 | H15: =SUM(B15:G15) -> 278.6791
A16: 1. Combustibles sólidos | H16: =SUM(B16:G16) -> 0
A17: 2. Petróleo y gas natural | B17: 278.3267 | C17: 0.35239626 | H17: =SUM(B17:G17) -> 278.6791
A18: 2.. Procesos Industriales | B18: =SUM(B19:B26) -> 951.83641 | C18: =SUM(C19:C26) -> 1.0283325 | D18: =SUM(D19:D26) -> 44.579256 | E18: =SUM(E19:E26) -> 0 | F18: =SUM(F19:F26) -> 890.82856 | G18: =SUM(G19:G26) -> 6.2935312 | H18: =SUM(B18:G18) -> 1894.5661
A19: A. Productos Minerales | B19: 222.40016 | H19: =SUM(B19:G19) -> 222.40016
A20: B. Industria química | B20: 11.627688 | H20: =SUM(B20:G20) -> 11.627688
A21: C. Producción metalúrgica | B21: 665.65235 | C21: 1.0283325 | F21: 890.82856 | H21: =SUM(B21:G21) -> 1557.5092
A22: D. Productos no energéticos y uso de disolventes | B22: 52.156212 | H22: =SUM(B22:G22) -> 52.156212
A23: E. Industria electrónica | H23: =SUM(B23:G23) -> 0
A24: F. Uso de sustitutivos de los GEIs | H24: =SUM(B24:G24) -> 0
A25: G. producción y uso de otros productos | D25: 44.579256 | G25: 6.2935312 | H25: =SUM(B25:G25) -> 50.872788
A26: H. Otros | H26: =SUM(B26:G26) -> 0
A27: 3. Agricultura | B27: =SUM(B28:B36) -> 18.936755 | C27: =SUM(C28:C36) -> 2276.7102 | D27: =SUM(D28:D36) -> 994.76078 | H27: =SUM(B27:G27) -> 3290.4078
A28: A. Fermentación entérica | C28: 1692.3629 | H28: =SUM(B28:G28) -> 1692.3629
A29: B. Gestión del estiércol | C29: 552.18094 | D29: 190.40404 | H29: =SUM(B29:G29) -> 742.58497
A30: C. Cultivo de arroz | H30: =SUM(B30:G30) -> 0
A31: D. Suelos agrícolas | D31: 794.41613 | H31: =SUM(B31:G31) -> 794.41613
A32: E. Quemas planificadas de sabanas | H32: =SUM(B32:G32) -> 0
A33: F. Quema en el campo de residuos agrícolas | C33: 32.166381 | D33: 9.9406035 | H33: =SUM(B33:G33) -> 42.106984
A34: G. Enmiendas calizas | H34: =SUM(B34:G34) -> 0
A35: H. Fertilización con urea | B35: 15.126166
A36: I. Aplicación fertilizante con carbono | B36: 3.810589 | H36: =SUM(B36:G36) -> 3.810589
A37: 4. Cambios de uso del suelo y silvicultura | H37: =SUM(B37:G37) -> 0
A38: 5. Tratamiento y eliminación de residuos | B38: =SUM(B39:B43) -> 29.919436 | C38: =SUM(C39:C43) -> 603.75848 | D38: =SUM(D39:D43) -> 64.822152 | H38: =SUM(B38:G38) -> 698.50007
A39: A. Depósito en vertederos | C39: 351.58541 | H39: =SUM(B39:G39) -> 351.58541
A40: B. Tratmiento biológico de residuos sólidos | H40: =SUM(B40:G40) -> 0
A41: C. Incineración de residuos | B41: 29.919436 | C41: 5.7215416 | D41: 3.5425164 | H41: =SUM(B41:G41) -> 39.183494
A42: D. Tratmiento de aguas residuales | C42: 246.29478 | D42: 61.279635 | H42: =SUM(B42:G42) -> 307.57441
A43: E. Otros | C43: 0.1567585 | H43: =SUM(B43:G43) -> 0.1567585
A44: 6. Otros | H44: =SUM(B44:G44) -> 0

Sheet Galicia 1994
A1: EMISIONES DE CO2 EQUIVALENTE | H1: Galicia
H2: Año 1994
A5: GASES DE EFECTO INVERNADERO | B5: CO2 | C5: CH4 | D5: N2O | E5: HFCs | F5: PFCs | G5: SF6 | H5: Total
A6: CATEGORÍAS DE ACTIVIDAD | B6: CO2 equivalente (Kilotoneladas)
A7: Total Emisiones | B7: =SUM(B8,B18,B27,B37,B38,B44) -> 24764.967 | C7: =SUM(C8,C18,C27,C37,C38,C44) -> 3050.2698 | D7: =SUM(D8,D18,D27,D37,D38,D44) -> 1275.1968 | E7: =SUM(E8,E18,E27,E37,E38,E44) -> 0 | F7: =SUM(F8,F18,F27,F37,F38,F44) -> 899.82483 | G7: =SUM(G8,G18,G27,G37,G38,G44) -> 6.9180759 | H7: =SUM(B7:G7) -> 29997.177
A8: 1. Procesado de la energía | B8: =SUM(B9,B15) -> 23676.604 | C8: =SUM(C9,C15) -> 160.33167 | D8: =SUM(D9,D15) -> 148.40649 | H8: =SUM(B8:G8) -> 23985.342
A9: A. Actividades de combustión | B9: =SUM(B10:B14) -> 23392.274 | C9: =SUM(C10:C14) -> 159.94586 | D9: =SUM(D10:D14) -> 148.40649 | H9: =SUM(B9:G9) -> 23700.626
A10: 1. Industrias del Sector Energético | B10: 14425.876 | C10: 4.1422971 | D10: 55.533448 | H10: =SUM(B10:G10) -> 14485.551
A11: 2. Industrias manufactureras y de la construcción | B11: 2478.4404 | C11: 7.7684505 | D11: 11.704629 | H11: =SUM(B11:G11) -> 2497.9135
A12: 3. Transporte | B12: 3801.2315 | C12: 19.392837 | D12: 45.705771 | H12: =SUM(B12:G12) -> 3866.3301
A13: 4. Otros Sectores | B13: 2673.607 | C13: 128.62645 | D13: 35.353904 | H13: =SUM(B13:G13) -> 2837.5874
A14: 5. Otros | B14: 13.119449 | C14: 0.0158248 | D14: 0.10873573 | H14: =SUM(B14:G14) -> 13.24401
A15: B. Emisiones fugitivas de los combustibles | B15: =SUM(B16:B17) -> 284.33033 | C15: =SUM(C16:C17) -> 0.38580701 | D15: =SUM(D16:D17) -> 0 | H15: =SUM(B15:G15) -> 284.71613
A16: 1. Combustibles sólidos | H16: =SUM(B16:G16) -> 0
A17: 2. Petróleo y gas natural | B17: 284.33033 | C17: 0.38580701 | H17: =SUM(B17:G17) -> 284.71613
A18: 2.. Procesos Industriales | B18: =SUM(B19:B26) -> 1041.9047 | C18: =SUM(C19:C26) -> 1.15999 | D18: =SUM(D19:D26) -> 48.111017 | E18: =SUM(E19:E26) -> 0 | F18: =SUM(F19:F26) -> 899.82483 | G18: =SUM(G19:G26) -> 6.9180759 | H18: =SUM(B18:G18) -> 1997.9186
A19: A. Productos Minerales | B19: 267.85975 | H19: =SUM(B19:G19) -> 267.85975
A20: B. Industria química | B20: 11.630177 | H20: =SUM(B20:G20) -> 11.630177
A21: C. Producción metalúrgica | B21: 705.73247 | C21: 1.15999 | F21: 899.82483 | H21: =SUM(B21:G21) -> 1606.7173
A22: D. Productos no energéticos y uso de disolventes | B22: 56.68226 | H22: =SUM(B22:G22) -> 56.68226
A23: E. Industria electrónica | H23: =SUM(B23:G23) -> 0
A24: F. Uso de sustitutivos de los GEIs | H24: =SUM(B24:G24) -> 0
A25: G. producción y uso de otros productos | D25: 48.111017 | G25: 6.9180759 | H25: =SUM(B25:G25) -> 55.029093
A26: H. Otros | H26: =SUM(B26:G26) -> 0
A27: 3. Agricultura | B27: =SUM(B28:B36) -> 17.353521 | C27: =SUM(C28:C36) -> 2274.1452 | D27: =SUM(D28:D36) -> 1014.2724 | H27: =SUM(B27:G27) -> 3305.7711
A28: A. Fermentación entérica | C28: 1675.6065 | H28: =SUM(B28:G28) -> 1675.6065
A29: B. Gestión del estiércol | C29: 563.6847 | D29: 185.88644 | H29: =SUM(B29:G29) -> 749.57114
A30: C. Cultivo de arroz | H30: =SUM(B30:G30) -> 0
A31: D. Suelos agrícolas | D31: 817.61474 | H31: =SUM(B31:G31) -> 817.61474
A32: E. Quemas planificadas de sabanas | H32: =SUM(B32:G32) -> 0
A33: F. Quema en el campo de residuos agrícolas | C33: 34.854013 | D33: 10.77118 | H33: =SUM(B33:G33) -> 45.625192
A34: G. Enmiendas calizas | H34: =SUM(B34:G34) -> 0
A35: H. Fertilización con urea | B35: 13.448057
A36: I. Aplicación fertilizante con carbono | B36: 3.905464 | H36: =SUM(B36:G36) -> 3.905464
A37: 4. Cambios de uso del suelo y silvicultura | H37: =SUM(B37:G37) -> 0
A38: 5. Tratamiento y eliminación de residuos | B38: =SUM(B39:B43) -> 29.105066 | C38: =SUM(C39:C43) -> 614.63298 | D38: =SUM(D39:D43) -> 64.406964 | H38: =SUM(B38:G38) -> 708.14501
A39: A. Depósito en vertederos | C39: 368.00382 | H39: =SUM(B39:G39) -> 368.00382
A40: B. Tratmiento biológico de residuos sólidos | H40: =SUM(B40:G40) -> 0
A41: C. Incineración de residuos | B41: 29.105066 | C41: 5.2000113 | D41: 3.4607941 | H41: =SUM(B41:G41) -> 37.765871
A42: D. Tratmiento de aguas residuales | C42: 241.29494 | D42: 60.94617 | H42: =SUM(B42:G42) -> 302.24111
A43: E. Otros | C43: 0.1342021 | H43: =SUM(B43:G43) -> 0.1342021
A44: 6. Otros | H44: =SUM(B44:G44) -> 0

Sheet Galicia 1995
A1: EMISIONES DE CO2 EQUIVALENTE | H1: Galicia
H2: Año 1995
A5: GASES DE EFECTO INVERNADERO | B5: CO2 | C5: CH4 | D5: N2O | E5: HFCs | F5: PFCs | G5: SF6 | H5: Total
A6: CATEGORÍAS DE ACTIVIDAD | B6: CO2 equivalente (Kilotoneladas)
A7: Total Emisiones | B7: =SUM(B8,B18,B27,B37,B38,B44) -> 26779.944 | C7: =SUM(C8,C18,C27,C37,C38,C44) -> 3332.5356 | D7: =SUM(D8,D18,D27,D37,D38,D44) -> 1341.1197 | E7: =SUM(E8,E18,E27,E37,E38,E44) -> 0.063255275 | F7: =SUM(F8,F18,F27,F37,F38,F44) -> 923.88462 | G7: =SUM(G8,G18,G27,G37,G38,G44) -> 8.1152547 | H7: =SUM(B7:G7) -> 32385.663
A8: 1. Procesado de la energía | B8: =SUM(B9,B15) -> 25615.688 | C8: =SUM(C9,C15) -> 159.43476 | D8: =SUM(D9,D15) -> 168.44185 | H8: =SUM(B8:G8) -> 25943.564
A9: A. Actividades de combustión | B9: =SUM(B10:B14) -> 25332.384 | C9: =SUM(C10:C14) -> 159.0861 | D9: =SUM(D10:D14) -> 168.44185 | H9: =SUM(B9:G9) -> 25659.912
A10: 1. Industrias del Sector Energético | B10: 15768.186 | C10: 4.5107061 | D10: 61.395588 | H10: =SUM(B10:G10) -> 15834.092
A11: 2. Industrias manufactureras y de la construcción | B11: 2832.1681 | C11: 11.387944 | D11: 13.680355 | H11: =SUM(B11:G11) -> 2857.2364
A12: 3. Transporte | B12: 3968.0071 | C12: 18.570201 | D12: 57.505953 | H12: =SUM(B12:G12) -> 4044.0833
A13: 4. Otros Sectores | B13: 2750.5457 | C13: 124.60232 | D13: 35.747339 | H13: =SUM(B13:G13) -> 2910.8954
A14: 5. Otros | B14: 13.477226 | C14: 0.014929875 | D14: 0.11261241 | H14: =SUM(B14:G14) -> 13.604768
A15: B. Emisiones fugitivas de los combustibles | B15: =SUM(B16:B17) -> 283.30383 | C15: =SUM(C16:C17) -> 0.34866239 | D15: =SUM(D16:D17) -> 0 | H15: =SUM(B15:G15) -> 283.65249
A16: 1. Combustibles sólidos | H16: =SUM(B16:G16) -> 0
A17: 2. Petróleo y gas natural | B17: 283.30383 | C17: 0.34866239 | H17: =SUM(B17:G17) -> 283.65249
A18: 2.. Procesos Industriales | B18: =SUM(B19:B26) -> 1144.1305 | C18: =SUM(C19:C26) -> 1.2392575 | D18: =SUM(D19:D26) -> 50.354542 | E18: =SUM(E19:E26) -> 0.063255275 | F18: =SUM(F19:F26) -> 923.88462 | G18: =SUM(G19:G26) -> 8.1152547 | H18: =SUM(B18:G18) -> 2127.7874
A19: A. Productos Minerales | B19: 308.30241 | H19: =SUM(B19:G19) -> 308.30241
A20: B. Industria química | B20: 13.248198 | H20: =SUM(B20:G20) -> 13.248198
A21: C. Producción metalúrgica | B21: 765.4795 | C21: 1.2392575 | F21: 923.88024 | H21: =SUM(B21:G21) -> 1690.599
A22: D. Productos no energéticos y uso de disolventes | B22: 57.100354 | H22: =SUM(B22:G22) -> 57.100354
A23: E. Industria electrónica | H23: =SUM(B23:G23) -> 0
A24: F. Uso de sustitutivos de los GEIs | E24: 0.063255275 | F24: 0.0043797638 | H24: =SUM(B24:G24) -> 0.067635038
A25: G. producción y uso de otros productos | D25: 50.354542 | G25: 8.1152547 | H25: =SUM(B25:G25) -> 58.469797
A26: H. Otros | H26: =SUM(B26:G26) -> 0
A27: 3. Agricultura | B27: =SUM(B28:B36) -> 14.722136 | C27: =SUM(C28:C36) -> 2540.2226 | D27: =SUM(D28:D36) -> 1061.4337 | H27: =SUM(B27:G27) -> 3616.3785
A28: A. Fermentación entérica | C28: 1873.7031 | H28: =SUM(B28:G28) -> 1873.7031
A29: B. Gestión del estiércol | C29: 628.41222 | D29: 202.06431 | H29: =SUM(B29:G29) -> 830.47653
A30: C. Cultivo de arroz | H30: =SUM(B30:G30) -> 0
A31: D. Suelos agrícolas | D31: 847.5928 | H31: =SUM(B31:G31) -> 847.5928
A32: E. Quemas planificadas de sabanas | H32: =SUM(B32:G32) -> 0
A33: F. Quema en el campo de residuos agrícolas | C33: 38.107339 | D33: 11.776579 | H33: =SUM(B33:G33) -> 49.883918
A34: G. Enmiendas calizas | H34: =SUM(B34:G34) -> 0
A35: H. Fertilización con urea | B35: 11.40992
A36: I. Aplicación fertilizante con carbono | B36: 3.312216 | H36: =SUM(B36:G36) -> 3.312216
A37: 4. Cambios de uso del suelo y silvicultura | H37: =SUM(B37:G37) -> 0
A38: 5. Tratamiento y eliminación de residuos | B38: =SUM(B39:B43) -> 5.403974 | C38: =SUM(C39:C43) -> 631.63889 | D38: =SUM(D39:D43) -> 60.889645 | H38: =SUM(B38:G38) -> 697.93251
A39: A. Depósito en vertederos | C39: 388.88146 | H39: =SUM(B39:G39) -> 388.88146
A40: B. Tratmiento biológico de residuos sólidos | H40: =SUM(B40:G40) -> 0
A41: C. Incineración de residuos | B41: 5.403974 | C41: 4.0434493 | D41: 2.4553433 | H41: =SUM(B41:G41) -> 11.902767
A42: D. Tratmiento de aguas residuales | C42: 238.59928 | D42: 58.434301 | H42: =SUM(B42:G42) -> 297.03358
A43: E. Otros | C43: 0.11470785 | H43: =SUM(B43:G43) -> 0.11470785
A44: 6. Otros | H44: =SUM(B44:G44) -> 0

Sheet Galicia 1996
A1: EMISIONES DE CO2 EQUIVALENTE | H1: Galicia
H2: Año 1996
A5: GASES DE EFECTO INVERNADERO | B5: CO2 | C5: CH4 | D5: N2O | E5: HFCs | F5: PFCs | G5: SF6 | H5: Total
A6: CATEGORÍAS DE ACTIVIDAD | B6: CO2 equivalente (Kilotoneladas)
A7: Total Emisiones | B7: =SUM(B8,B18,B27,B37,B38,B44) -> 25142.027 | C7: =SUM(C8,C18,C27,C37,C38,C44) -> 3450.3838 | D7: =SUM(D8,D18,D27,D37,D38,D44) -> 1389.7018 | E7: =SUM(E8,E18,E27,E37,E38,E44) -> 31.396581 | F7: =SUM(F8,F18,F27,F37,F38,F44) -> 862.22704 | G7: =SUM(G8,G18,G27,G37,G38,G44) -> 9.0195352 | H7: =SUM(B7:G7) -> 30884.756
A8: 1. Procesado de la energía | B8: =SUM(B9,B15) -> 23990.029 | C8: =SUM(C9,C15) -> 162.53792 | D8: =SUM(D9,D15) -> 169.14075 | H8: =SUM(B8:G8) -> 24321.708
A9: A. Actividades de combustión | B9: =SUM(B10:B14) -> 23692.009 | C9: =SUM(C10:C14) -> 162.17747 | D9: =SUM(D10:D14) -> 169.14075 | H9: =SUM(B9:G9) -> 24023.327
A10: 1. Industrias del Sector Energético | B10: 14402.339 | C10: 4.0431894 | D10: 56.497432 | H10: =SUM(B10:G10) -> 14462.879
A11: 2. Industrias manufactureras y de la construcción | B11: 2669.3299 | C11: 13.273889 | D11: 14.046839 | H11: =SUM(B11:G11) -> 2696.6506
A12: 3. Transporte | B12: 3934.1526 | C12: 17.222075 | D12: 63.237248 | H12: =SUM(B12:G12) -> 4014.6119
A13: 4. Otros Sectores | B13: 2672.4219 | C13: 127.62468 | D13: 35.243727 | H13: =SUM(B13:G13) -> 2835.2903
A14: 5. Otros | B14: 13.765543 | C14: 0.01363815 | D14: 0.11550331 | H14: =SUM(B14:G14) -> 13.894684
A15: B. Emisiones fugitivas de los combustibles | B15: =SUM(B16:B17) -> 298.02052 | C15: =SUM(C16:C17) -> 0.36044687 | D15: =SUM(D16:D17) -> 0 | H15: =SUM(B15:G15) -> 298.38096
A16: 1. Combustibles sólidos | H16: =SUM(B16:G16) -> 0
A17: 2. Petróleo y gas natural | B17: 298.02052 | C17: 0.36044687 | H17: =SUM(B17:G17) -> 298.38096
A18: 2.. Procesos Industriales | B18: =SUM(B19:B26) -> 1131.6985 | C18: =SUM(C19:C26) -> 1.25996 | D18: =SUM(D19:D26) -> 51.531468 | E18: =SUM(E19:E26) -> 31.396581 | F18: =SUM(F19:F26) -> 862.22704 | G18: =SUM(G19:G26) -> 9.0195352 | H18: =SUM(B18:G18) -> 2087.1331
A19: A. Productos Minerales | B19: 286.69818 | H19: =SUM(B19:G19) -> 286.69818
A20: B. Industria química | B20: 12.881995 | H20: =SUM(B20:G20) -> 12.881995
A21: C. Producción metalúrgica | B21: 769.75629 | C21: 1.25996 | F21: 862.20991 | H21: =SUM(B21:G21) -> 1633.2262
A22: D. Productos no energéticos y uso de disolventes | B22: 62.36205 | H22: =SUM(B22:G22) -> 62.36205
A23: E. Industria electrónica | H23: =SUM(B23:G23) -> 0
A24: F. Uso de sustitutivos de los GEIs | E24: 31.396581 | F24: 0.017126833 | H24: =SUM(B24:G24) -> 31.413708
A25: G. producción y uso de otros productos | D25: 51.531468 | G25: 9.0195352 | H25: =SUM(B25:G25) -> 60.551003
A26: H. Otros | H26: =SUM(B26:G26) -> 0
A27: 3. Agricultura | B27: =SUM(B28:B36) -> 16.846321 | C27: =SUM(C28:C36) -> 2645.4971 | D27: =SUM(D28:D36) -> 1108.0881 | H27: =SUM(B27:G27) -> 3770.4315
A28: A. Fermentación entérica | C28: 2011.8841 | H28: =SUM(B28:G28) -> 2011.8841
A29: B. Gestión del estiércol | C29: 605.19534 | D29: 203.13962 | H29: =SUM(B29:G29) -> 808.33496
A30: C. Cultivo de arroz | H30: =SUM(B30:G30) -> 0
A31: D. Suelos agrícolas | D31: 896.16633 | H31: =SUM(B31:G31) -> 896.16633
A32: E. Quemas planificadas de sabanas | H32: =SUM(B32:G32) -> 0
A33: F. Quema en el campo de residuos agrícolas | C33: 28.417734 | D33: 8.7821318 | H33: =SUM(B33:G33) -> 37.199865
A34: G. Enmiendas calizas | H34: =SUM(B34:G34) -> 0
A35: H. Fertilización con urea | B35: 13.767695
A36: I. Aplicación fertilizante con carbono | B36: 3.078626 | H36: =SUM(B36:G36) -> 3.078626
A37: 4. Cambios de uso del suelo y silvicultura | H37: =SUM(B37:G37) -> 0
A38: 5. Tratamiento y eliminación de residuos | B38: =SUM(B39:B43) -> 3.452787 | C38: =SUM(C39:C43) -> 641.08879 | D38: =SUM(D39:D43) -> 60.941521 | H38: =SUM(B38:G38) -> 705.48309
A39: A. Depósito en vertederos | C39: 408.77913 | H39: =SUM(B39:G39) -> 408.77913
A40: B. Tratmiento biológico de residuos sólidos | H40: =SUM(B40:G40) -> 0
A41: C. Incineración de residuos | B41: 3.452787 | C41: 3.3243028 | D41: 2.9522675 | H41: =SUM(B41:G41) -> 9.7293573
A42: D. Tratmiento de aguas residuales | C42: 228.88969 | D42: 57.989253 | H42: =SUM(B42:G42) -> 286.87895
A43: E. Otros | C43: 0.09565855 | H43: =SUM(B43:G43) -> 0.09565855
A44: 6. Otros | H44: =SUM(B44:G44) -> 0

Sheet Galicia 1997
A1: EMISIONES DE CO2 EQUIVALENTE | H1: Galicia
H2: Año 1997
A5: GASES DE EFECTO INVERNADERO | B5: CO2 | C5: CH4 | D5: N2O | E5: HFCs | F5: PFCs | G5: SF6 | H5: Total
A6: CATEGORÍAS DE ACTIVIDAD | B6: CO2 equivalente (Kilotoneladas)
A7: Total Emisiones | B7: =SUM(B8,B18,B27,B37,B38,B44) -> 24051.302 | C7: =SUM(C8,C18,C27,C37,C38,C44) -> 3432.9007 | D7: =SUM(D8,D18,D27,D37,D38,D44) -> 1289.4102 | E7: =SUM(E8,E18,E27,E37,E38,E44) -> 64.116928 | F7: =SUM(F8,F18,F27,F37,F38,F44) -> 882.36574 | G7: =SUM(G8,G18,G27,G37,G38,G44) -> 11.980466 | H7: =SUM(B7:G7) -> 29732.076
A8: 1. Procesado de la energía | B8: =SUM(B9,B15) -> 22885.957 | C8: =SUM(C9,C15) -> 165.78738 | D8: =SUM(D9,D15) -> 169.71064 | H8: =SUM(B8:G8) -> 23221.455
A9: A. Actividades de combustión | B9: =SUM(B10:B14) -> 22591.854 | C9: =SUM(C10:C14) -> 165.41387 | D9: =SUM(D10:D14) -> 169.71064 | H9: =SUM(B9:G9) -> 22926.978
A10: 1. Industrias del Sector Energético | B10: 12990.353 | C10: 3.7768611 | D10: 51.299052 | H10: =SUM(B10:G10) -> 13045.429
A11: 2. Industrias manufactureras y de la construcción | B11: 2576.797 | C11: 15.788406 | D11: 15.246747 | H11: =SUM(B11:G11) -> 2607.8321
A12: 3. Transporte | B12: 4403.1999 | C12: 17.887999 | D12: 68.067803 | H12: =SUM(B12:G12) -> 4489.1557
A13: 4. Otros Sectores | B13: 2606.8053 | C13: 127.94669 | D13: 34.974223 | H13: =SUM(B13:G13) -> 2769.7262
A14: 5. Otros | B14: 14.698772 | C14: 0.013916625 | D14: 0.12281534 | H14: =SUM(B14:G14) -> 14.835504
A15: B. Emisiones fugitivas de los combustibles | B15: =SUM(B16:B17) -> 294.10333 | C15: =SUM(C16:C17) -> 0.37351127 | D15: =SUM(D16:D17) -> 0 | H15: =SUM(B15:G15) -> 294.47684
A16: 1. Combustibles sólidos | H16: =SUM(B16:G16) -> 0
A17: 2. Petróleo y gas natural | B17: 294.10333 | C17: 0.37351127 | H17: =SUM(B17:G17) -> 294.47684
A18: 2.. Procesos Industriales | B18: =SUM(B19:B26) -> 1148.1652 | C18: =SUM(C19:C26) -> 1.378 | D18: =SUM(D19:D26) -> 51.965668 | E18: =SUM(E19:E26) -> 64.116928 | F18: =SUM(F19:F26) -> 882.36574 | G18: =SUM(G19:G26) -> 11.980466 | H18: =SUM(B18:G18) -> 2159.972
A19: A. Productos Minerales | B19: 283.46178 | H19: =SUM(B19:G19) -> 283.46178
A20: B. Industria química | B20: 11.777984 | H20: =SUM(B20:G20) -> 11.777984
A21: C. Producción metalúrgica | B21: 787.52361 | C21: 1.378 | F21: 882.34815 | H21: =SUM(B21:G21) -> 1671.2498
A22: D. Productos no energéticos y uso de disolventes | B22: 65.40178 | H22: =SUM(B22:G22) -> 65.40178
A23: E. Industria electrónica | H23: =SUM(B23:G23) -> 0
A24: F. Uso de sustitutivos de los GEIs | E24: 64.116928 | F24: 0.017585962 | H24: =SUM(B24:G24) -> 64.134514
A25: G. producción y uso de otros productos | D25: 51.965668 | G25: 11.980466 | H25: =SUM(B25:G25) -> 63.946134
A26: H. Otros | H26: =SUM(B26:G26) -> 0
A27: 3. Agricultura | B27: =SUM(B28:B36) -> 14.069615 | C27: =SUM(C28:C36) -> 2606.7608 | D27: =SUM(D28:D36) -> 1004.2608 | H27: =SUM(B27:G27) -> 3625.0911
A28: A. Fermentación entérica | C28: 1896.6212 | H28: =SUM(B28:G28) -> 1896.6212
A29: B. Gestión del estiércol | C29: 690.70716 | D29: 209.54662 | H29: =SUM(B29:G29) -> 900.25378
A30: C. Cultivo de arroz | H30: =SUM(B30:G30) -> 0
A31: D. Suelos agrícolas | D31: 788.70884 | H31: =SUM(B31:G31) -> 788.70884
A32: E. Quemas planificadas de sabanas | H32: =SUM(B32:G32) -> 0
A33: F. Quema en el campo de residuos agrícolas | C33: 19.43235 | D33: 6.0053157 | H33: =SUM(B33:G33) -> 25.437666
A34: G. Enmiendas calizas | H34: =SUM(B34:G34) -> 0
A35: H. Fertilización con urea | B35: 11.633641
A36: I. Aplicación fertilizante con carbono | B36: 2.435974 | H36: =SUM(B36:G36) -> 2.435974
A37: 4. Cambios de uso del suelo y silvicultura | H37: =SUM(B37:G37) -> 0
A38: 5. Tratamiento y eliminación de residuos | B38: =SUM(B39:B43) -> 3.110221 | C38: =SUM(C39:C43) -> 658.97452 | D38: =SUM(D39:D43) -> 63.473085 | H38: =SUM(B38:G38) -> 725.55782
A39: A. Depósito en vertederos | C39: 437.13933 | H39: =SUM(B39:G39) -> 437.13933
A40: B. Tratmiento biológico de residuos sólidos | H40: =SUM(B40:G40) -> 0
A41: C. Incineración de residuos | B41: 3.110221 | C41: 2.8894903 | D41: 2.9923637 | H41: =SUM(B41:G41) -> 8.992075
A42: D. Tratmiento de aguas residuales | C42: 218.87462 | D42: 60.480721 | H42: =SUM(B42:G42) -> 279.35534
A43: E. Otros | C43: 0.071075525 | H43: =SUM(B43:G43) -> 0.071075525
A44: 6. Otros | H44: =SUM(B44:G44) -> 0

Sheet Galicia 1998
A1: EMISIONES DE CO2 EQUIVALENTE | H1: Galicia
H2: Año 1998
A5: GASES DE EFECTO INVERNADERO | B5: CO2 | C5: CH4 | D5: N2O | E5: HFCs | F5: PFCs | G5: SF6 | H5: Total
A6: CATEGORÍAS DE ACTIVIDAD | B6: CO2 equivalente (Kilotoneladas)
A7: Total Emisiones | B7: =SUM(B8,B18,B27,B37,B38,B44) -> 26970.449 | C7: =SUM(C8,C18,C27,C37,C38,C44) -> 3458.8222 | D7: =SUM(D8,D18,D27,D37,D38,D44) -> 1333.3681 | E7: =SUM(E8,E18,E27,E37,E38,E44) -> 146.34556 | F7: =SUM(F8,F18,F27,F37,F38,F44) -> 809.58962 | G7: =SUM(G8,G18,G27,G37,G38,G44) -> 12.255082 | H7: =SUM(B7:G7) -> 32730.83
A8: 1. Procesado de la energía | B8: =SUM(B9,B15) -> 25760.399 | C8: =SUM(C9,C15) -> 169.98275 | D8: =SUM(D9,D15) -> 182.2278 | H8: =SUM(B8:G8) -> 26112.61
A9: A. Actividades de combustión | B9: =SUM(B10:B14) -> 25490.405 | C9: =SUM(C10:C14) -> 169.24477 | D9: =SUM(D10:D14) -> 182.2278 | H9: =SUM(B9:G9) -> 25841.877
A10: 1. Industrias del Sector Energético | B10: 15535.866 | C10: 4.7406482 | D10: 63.090466 | H10: =SUM(B10:G10) -> 15603.697
A11: 2. Industrias manufactureras y de la construcción | B11: 2591.4379 | C11: 19.408762 | D11: 16.555962 | H11: =SUM(B11:G11) -> 2627.4026
A12: 3. Transporte | B12: 4721.0789 | C12: 17.065893 | D12: 67.453896 | H12: =SUM(B12:G12) -> 4805.5987
A13: 4. Otros Sectores | B13: 2626.4752 | C13: 128.01607 | D13: 34.997852 | H13: =SUM(B13:G13) -> 2789.4891
A14: 5. Otros | B14: 15.547139 | C14: 0.013391275 | D14: 0.12961987 | H14: =SUM(B14:G14) -> 15.69015
A15: B. Emisiones fugitivas de los combustibles | B15: =SUM(B16:B17) -> 269.99447 | C15: =SUM(C16:C17) -> 0.73798735 | D15: =SUM(D16:D17) -> 0 | H15: =SUM(B15:G15) -> 270.73246
A16: 1. Combustibles sólidos | H16: =SUM(B16:G16) -> 0
A17: 2. Petróleo y gas natural | B17: 269.99447 | C17: 0.73798735 | H17: =SUM(B17:G17) -> 270.73246
A18: 2.. Procesos Industriales | B18: =SUM(B19:B26) -> 1192.3736 | C18: =SUM(C19:C26) -> 1.4127425 | D18: =SUM(D19:D26) -> 48.902363 | E18: =SUM(E19:E26) -> 146.34556 | F18: =SUM(F19:F26) -> 809.58962 | G18: =SUM(G19:G26) -> 12.255082 | H18: =SUM(B18:G18) -> 2210.8789
A19: A. Productos Minerales | B19: 300.18958 | H19: =SUM(B19:G19) -> 300.18958
A20: B. Industria química | B20: 11.777984 | H20: =SUM(B20:G20) -> 11.777984
A21: C. Producción metalúrgica | B21: 809.37656 | C21: 1.4127425 | F21: 809.5732 | H21: =SUM(B21:G21) -> 1620.3625
A22: D. Productos no energéticos y uso de disolventes | B22: 71.029446 | H22: =SUM(B22:G22) -> 71.029446
A23: E. Industria electrónica | H23: =SUM(B23:G23) -> 0
A24: F. Uso de sustitutivos de los GEIs | E24: 146.34556 | F24: 0.016423002 | H24: =SUM(B24:G24) -> 146.36198
A25: G. producción y uso de otros productos | D25: 48.902363 | G25: 12.255082 | H25: =SUM(B25:G25) -> 61.157445
A26: H. Otros | H26: =SUM(B26:G26) -> 0
A27: 3. Agricultura | B27: =SUM(B28:B36) -> 15.38812 | C27: =SUM(C28:C36) -> 2626.0953 | D27: =SUM(D28:D36) -> 1039.422 | H27: =SUM(B27:G27) -> 3680.9054
A28: A. Fermentación entérica | C28: 1959.0051 | H28: =SUM(B28:G28) -> 1959.0051
A29: B. Gestión del estiércol | C29: 653.66324 | D29: 223.69608 | H29: =SUM(B29:G29) -> 877.35932
A30: C. Cultivo de arroz | H30: =SUM(B30:G30) -> 0
A31: D. Suelos agrícolas | D31: 811.57648 | H31: =SUM(B31:G31) -> 811.57648
A32: E. Quemas planificadas de sabanas | H32: =SUM(B32:G32) -> 0
A33: F. Quema en el campo de residuos agrícolas | C33: 13.427014 | D33: 4.1494432 | H33: =SUM(B33:G33) -> 17.576457
A34: G. Enmiendas calizas | H34: =SUM(B34:G34) -> 0
A35: H. Fertilización con urea | B35: 12.797346
A36: I. Aplicación fertilizante con carbono | B36: 2.590774 | H36: =SUM(B36:G36) -> 2.590774
A37: 4. Cambios de uso del suelo y silvicultura | H37: =SUM(B37:G37) -> 0
A38: 5. Tratamiento y eliminación de residuos | B38: =SUM(B39:B43) -> 2.288601 | C38: =SUM(C39:C43) -> 661.33144 | D38: =SUM(D39:D43) -> 62.8159 | H38: =SUM(B38:G38) -> 726.43594
A39: A. Depósito en vertederos | C39: 465.36632 | H39: =SUM(B39:G39) -> 465.36632
A40: B. Tratmiento biológico de residuos sólidos | H40: =SUM(B40:G40) -> 0
A41: C. Incineración de residuos | B41: 2.288601 | C41: 2.3133 | D41: 2.9054318 | H41: =SUM(B41:G41) -> 7.5073328
A42: D. Tratmiento de aguas residuales | C42: 193.40223 | D42: 59.910468 | H42: =SUM(B42:G42) -> 253.3127
A43: E. Otros | C43: 0.24959202 | H43: =SUM(B43:G43) -> 0.24959202
A44: 6. Otros | H44: =SUM(B44:G44) -> 0

Sheet Galicia 1999
A1: EMISIONES DE CO2 EQUIVALENTE | H1: Galicia
H2: Año 1999
A5: GASES DE EFECTO INVERNADERO | B5: CO2 | C5: CH4 | D5: N2O | E5: HFCs | F5: PFCs | G5: SF6 | H5: Total
A6: CATEGORÍAS DE ACTIVIDAD | B6: CO2 equivalente (Kilotoneladas)
A7: Total Emisiones | B7: =SUM(B8,B18,B27,B37,B38,B44) -> 27373.191 | C7: =SUM(C8,C18,C27,C37,C38,C44) -> 3491.9801 | D7: =SUM(D8,D18,D27,D37,D38,D44) -> 1387.5648 | E7: =SUM(E8,E18,E27,E37,E38,E44) -> 209.18032 | F7: =SUM(F8,F18,F27,F37,F38,F44) -> 737.57782 | G7: =SUM(G8,G18,G27,G37,G38,G44) -> 12.698947 | H7: =SUM(B7:G7) -> 33212.193
A8: 1. Procesado de la energía | B8: =SUM(B9,B15) -> 26104.217 | C8: =SUM(C9,C15) -> 174.58018 | D8: =SUM(D9,D15) -> 179.36034 | H8: =SUM(B8:G8) -> 26458.157
A9: A. Actividades de combustión | B9: =SUM(B10:B14) -> 25808.37 | C9: =SUM(C10:C14) -> 172.71648 | D9: =SUM(D10:D14) -> 179.36034 | H9: =SUM(B9:G9) -> 26160.447
A10: 1. Industrias del Sector Energético | B10: 15765.715 | C10: 5.0418307 | D10: 63.32876 | H10: =SUM(B10:G10) -> 15834.085
A11: 2. Industrias manufactureras y de la construcción | B11: 2644.9575 | C11: 23.877801 | D11: 17.639705 | H11: =SUM(B11:G11) -> 2686.475
A12: 3. Transporte | B12: 4656.8853 | C12: 14.989369 | D12: 62.932433 | H12: =SUM(B12:G12) -> 4734.8071
A13: 4. Otros Sectores | B13: 2725.0948 | C13: 128.79555 | D13: 35.329512 | H13: =SUM(B13:G13) -> 2889.2199
A14: 5. Otros | B14: 15.717591 | C14: 0.011926225 | D14: 0.12993336 | H14: =SUM(B14:G14) -> 15.859451
A15: B. Emisiones fugitivas de los combustibles | B15: =SUM(B16:B17) -> 295.84699 | C15: =SUM(C16:C17) -> 1.8636975 | D15: =SUM(D16:D17) -> 0 | H15: =SUM(B15:G15) -> 297.71068
A16: 1. Combustibles sólidos | H16: =SUM(B16:G16) -> 0
A17: 2. Petróleo y gas natural | B17: 295.84699 | C17: 1.8636975 | H17: =SUM(B17:G17) -> 297.71068
A18: 2.. Procesos Industriales | B18: =SUM(B19:B26) -> 1251.0509 | C18: =SUM(C19:C26) -> 1.4321125 | D18: =SUM(D19:D26) -> 45.974272 | E18: =SUM(E19:E26) -> 209.18032 | F18: =SUM(F19:F26) -> 737.57782 | G18: =SUM(G19:G26) -> 12.698947 | H18: =SUM(B18:G18) -> 2257.9144
A19: A. Productos Minerales | B19: 306.41561 | H19: =SUM(B19:G19) -> 306.41561
A20: B. Industria química | B20: 12.144181 | H20: =SUM(B20:G20) -> 12.144181
A21: C. Producción metalúrgica | B21: 852.4924 | C21: 1.4321125 | F21: 737.55913 | H21: =SUM(B21:G21) -> 1591.4836
A22: D. Productos no energéticos y uso de disolventes | B22: 79.998744 | H22: =SUM(B22:G22) -> 79.998744
A23: E. Industria electrónica | H23: =SUM(B23:G23) -> 0
A24: F. Uso de sustitutivos de los GEIs | E24: 209.18032 | F24: 0.018685433 | H24: =SUM(B24:G24) -> 209.199
A25: G. producción y uso de otros productos | D25: 45.974272 | G25: 12.698947 | H25: =SUM(B25:G25) -> 58.673218
A26: H. Otros | H26: =SUM(B26:G26) -> 0
A27: 3. Agricultura | B27: =SUM(B28:B36) -> 16.263509 | C27: =SUM(C28:C36) -> 2653.9823 | D27: =SUM(D28:D36) -> 1099.7358 | H27: =SUM(B27:G27) -> 3769.9817
A28: A. Fermentación entérica | C28: 2045.0733 | H28: =SUM(B28:G28) -> 2045.0733
A29: B. Gestión del estiércol | C29: 594.2151 | D29: 199.4877 | H29: =SUM(B29:G29) -> 793.7028
A30: C. Cultivo de arroz | H30: =SUM(B30:G30) -> 0
A31: D. Suelos agrícolas | D31: 895.70719 | H31: =SUM(B31:G31) -> 895.70719
A32: E. Quemas planificadas de sabanas | H32: =SUM(B32:G32) -> 0
A33: F. Quema en el campo de residuos agrícolas | C33: 14.693909 | D33: 4.5409624 | H33: =SUM(B33:G33) -> 19.234872
A34: G. Enmiendas calizas | H34: =SUM(B34:G34) -> 0
A35: H. Fertilización con urea | B35: 13.004227
A36: I. Aplicación fertilizante con carbono | B36: 3.259282 | H36: =SUM(B36:G36) -> 3.259282
A37: 4. Cambios de uso del suelo y silvicultura | H37: =SUM(B37:G37) -> 0
A38: 5. Tratamiento y eliminación de residuos | B38: =SUM(B39:B43) -> 1.6598 | C38: =SUM(C39:C43) -> 661.98549 | D38: =SUM(D39:D43) -> 62.494333 | H38: =SUM(B38:G38) -> 726.13963
A39: A. Depósito en vertederos | C39: 484.7897 | H39: =SUM(B39:G39) -> 484.7897
A40: B. Tratmiento biológico de residuos sólidos | H40: =SUM(B40:G40) -> 0
A41: C. Incineración de residuos | B41: 1.6598 | C41: 1.9615415 | D41: 3.0681502 | H41: =SUM(B41:G41) -> 6.6894917
A42: D. Tratmiento de aguas residuales | C42: 174.90607 | D42: 59.426183 | H42: =SUM(B42:G42) -> 234.33226
A43: E. Otros | C43: 0.32818453 | H43: =SUM(B43:G43) -> 0.32818453
A44: 6. Otros | H44: =SUM(B44:G44) -> 0

Sheet Galicia 2000
A1: EMISIONES DE CO2 EQUIVALENTE | H1: Galicia
H2: Año 2000
A5: GASES DE EFECTO INVERNADERO | B5: CO2 | C5: CH4 | D5: N2O | E5: HFCs | F5: PFCs | G5: SF6 | H5: Total
A6: CATEGORÍAS DE ACTIVIDAD | B6: CO2 equivalente (Kilotoneladas)
A7: Total Emisiones | B7: =SUM(B8,B18,B27,B37,B38,B44) -> 28631.144 | C7: =SUM(C8,C18,C27,C37,C38,C44) -> 3558.0163 | D7: =SUM(D8,D18,D27,D37,D38,D44) -> 1362.5493 | E7: =SUM(E8,E18,E27,E37,E38,E44) -> 284.81185 | F7: =SUM(F8,F18,F27,F37,F38,F44) -> 374.04897 | G7: =SUM(G8,G18,G27,G37,G38,G44) -> 14.297233 | H7: =SUM(B7:G7) -> 34224.868
A8: 1. Procesado de la energía | B8: =SUM(B9,B15) -> 27323.749 | C8: =SUM(C9,C15) -> 182.80307 | D8: =SUM(D9,D15) -> 169.3749 | H8: =SUM(B8:G8) -> 27675.927
A9: A. Actividades de combustión | B9: =SUM(B10:B14) -> 27019.763 | C9: =SUM(C10:C14) -> 180.01332 | D9: =SUM(D10:D14) -> 169.3749 | H9: =SUM(B9:G9) -> 27369.151
A10: 1. Industrias del Sector Energético | B10: 16387.223 | C10: 5.1276888 | D10: 64.971859 | H10: =SUM(B10:G10) -> 16457.322
A11: 2. Industrias manufactureras y de la construcción | B11: 2930.2035 | C11: 31.043665 | D11: 17.445573 | H11: =SUM(B11:G11) -> 2978.6927
A12: 3. Transporte | B12: 4655.524 | C12: 13.307677 | D12: 49.926365 | H12: =SUM(B12:G12) -> 4718.7581
A13: 4. Otros Sectores | B13: 3030.266 | C13: 130.52264 | D13: 36.894758 | H13: =SUM(B13:G13) -> 3197.6834
A14: 5. Otros | B14: 16.546506 | C14: 0.01164885 | D14: 0.1363502 | H14: =SUM(B14:G14) -> 16.694505
A15: B. Emisiones fugitivas de los combustibles | B15: =SUM(B16:B17) -> 303.98682 | C15: =SUM(C16:C17) -> 2.789748 | D15: =SUM(D16:D17) -> 0 | H15: =SUM(B15:G15) -> 306.77657
A16: 1. Combustibles sólidos | H16: =SUM(B16:G16) -> 0
A17: 2. Petróleo y gas natural | B17: 303.98682 | C17: 2.789748 | H17: =SUM(B17:G17) -> 306.77657
A18: 2.. Procesos Industriales | B18: =SUM(B19:B26) -> 1290.8178 | C18: =SUM(C19:C26) -> 1.6237325 | D18: =SUM(D19:D26) -> 44.71576 | E18: =SUM(E19:E26) -> 284.81185 | F18: =SUM(F19:F26) -> 374.04897 | G18: =SUM(G19:G26) -> 14.297233 | H18: =SUM(B18:G18) -> 2010.3154
A19: A. Productos Minerales | B19: 313.53153 | H19: =SUM(B19:G19) -> 313.53153
A20: B. Industria química | B20: 9.797731 | H20: =SUM(B20:G20) -> 9.797731
A21: C. Producción metalúrgica | B21: 882.92375 | C21: 1.6237325 | F21: 374.03112 | H21: =SUM(B21:G21) -> 1258.5786
A22: D. Productos no energéticos y uso de disolventes | B22: 84.564822 | H22: =SUM(B22:G22) -> 84.564822
A23: E. Industria electrónica | H23: =SUM(B23:G23) -> 0
A24: F. Uso de sustitutivos de los GEIs | E24: 284.81185 | F24: 0.01784734 | H24: =SUM(B24:G24) -> 284.8297
A25: G. producción y uso de otros productos | D25: 44.71576 | G25: 14.297233 | H25: =SUM(B25:G25) -> 59.012993
A26: H. Otros | H26: =SUM(B26:G26) -> 0
A27: 3. Agricultura | B27: =SUM(B28:B36) -> 15.969608 | C27: =SUM(C28:C36) -> 2699.843 | D27: =SUM(D28:D36) -> 1089.166 | H27: =SUM(B27:G27) -> 3804.9786
A28: A. Fermentación entérica | C28: 2063.1345 | H28: =SUM(B28:G28) -> 2063.1345
A29: B. Gestión del estiércol | C29: 631.32318 | D29: 213.23658 | H29: =SUM(B29:G29) -> 844.55976
A30: C. Cultivo de arroz | H30: =SUM(B30:G30) -> 0
A31: D. Suelos agrícolas | D31: 874.26517 | H31: =SUM(B31:G31) -> 874.26517
A32: E. Quemas planificadas de sabanas | H32: =SUM(B32:G32) -> 0
A33: F. Quema en el campo de residuos agrícolas | C33: 5.3852742 | D33: 1.6642483 | H33: =SUM(B33:G33) -> 7.0495225
A34: G. Enmiendas calizas | H34: =SUM(B34:G34) -> 0
A35: H. Fertilización con urea | B35: 12.960188
A36: I. Aplicación fertilizante con carbono | B36: 3.00942 | H36: =SUM(B36:G36) -> 3.00942
A37: 4. Cambios de uso del suelo y silvicultura | H37: =SUM(B37:G37) -> 0
A38: 5. Tratamiento y eliminación de residuos | B38: =SUM(B39:B43) -> 0.607201 | C38: =SUM(C39:C43) -> 673.74652 | D38: =SUM(D39:D43) -> 59.292668 | H38: =SUM(B38:G38) -> 733.64639
A39: A. Depósito en vertederos | C39: 508.32924 | H39: =SUM(B39:G39) -> 508.32924
A40: B. Tratmiento biológico de residuos sólidos | H40: =SUM(B40:G40) -> 0
A41: C. Incineración de residuos | B41: 0.607201 | C41: 1.1212609 | D41: 2.8853182 | H41: =SUM(B41:G41) -> 4.6137801
A42: D. Tratmiento de aguas residuales | C42: 163.95554 | D42: 56.40735 | H42: =SUM(B42:G42) -> 220.36289
A43: E. Otros | C43: 0.3404788 | H43: =SUM(B43:G43) -> 0.3404788
A44: 6. Otros | H44: =SUM(B44:G44) -> 0

Sheet Galicia 2001
A1: EMISIONES DE CO2 EQUIVALENTE | H1: Galicia
H2: Año 2001
A5: GASES DE EFECTO INVERNADERO | B5: CO2 | C5: CH4 | D5: N2O | E5: HFCs | F5: PFCs | G5: SF6 | H5: Total
A6: CATEGORÍAS DE ACTIVIDAD | B6: CO2 equivalente (Kilotoneladas)
A7: Total Emisiones | B7: =SUM(B8,B18,B27,B37,B38,B44) -> 29322.96 | C7: =SUM(C8,C18,C27,C37,C38,C44) -> 3571.9485 | D7: =SUM(D8,D18,D27,D37,D38,D44) -> 1384.0273 | E7: =SUM(E8,E18,E27,E37,E38,E44) -> 356.63145 | F7: =SUM(F8,F18,F27,F37,F38,F44) -> 171.88295 | G7: =SUM(G8,G18,G27,G37,G38,G44) -> 12.579791 | H7: =SUM(B7:G7) -> 34820.03
A8: 1. Procesado de la energía | B8: =SUM(B9,B15) -> 27982.754 | C8: =SUM(C9,C15) -> 184.34626 | D8: =SUM(D9,D15) -> 169.932 | H8: =SUM(B8:G8) -> 28337.032
A9: A. Actividades de combustión | B9: =SUM(B10:B14) -> 27694.887 | C9: =SUM(C10:C14) -> 181.02225 | D9: =SUM(D10:D14) -> 169.932 | H9: =SUM(B9:G9) -> 28045.841
A10: 1. Industrias del Sector Energético | B10: 16775.653 | C10: 5.3968773 | D10: 66.179143 | H10: =SUM(B10:G10) -> 16847.229
A11: 2. Industrias manufactureras y de la construcción | B11: 3012.4946 | C11: 32.929488 | D11: 18.835134 | H11: =SUM(B11:G11) -> 3064.2592
A12: 3. Transporte | B12: 4990.3249 | C12: 12.959781 | D12: 48.200898 | H12: =SUM(B12:G12) -> 5051.4856
A13: 4. Otros Sectores | B13: 2899.6165 | C13: 129.72464 | D13: 36.579222 | H13: =SUM(B13:G13) -> 3065.9204
A14: 5. Otros | B14: 16.798171 | C14: 0.011461175 | D14: 0.1376009 | H14: =SUM(B14:G14) -> 16.947233
A15: B. Emisiones fugitivas de los combustibles | B15: =SUM(B16:B17) -> 287.86681 | C15: =SUM(C16:C17) -> 3.3240144 | D15: =SUM(D16:D17) -> 0 | H15: =SUM(B15:G15) -> 291.19083
A16: 1. Combustibles sólidos | H16: =SUM(B16:G16) -> 0
A17: 2. Petróleo y gas natural | B17: 287.86681 | C17: 3.3240144 | H17: =SUM(B17:G17) -> 291.19083
A18: 2.. Procesos Industriales | B18: =SUM(B19:B26) -> 1323.6232 | C18: =SUM(C19:C26) -> 1.74525 | D18: =SUM(D19:D26) -> 48.092079 | E18: =SUM(E19:E26) -> 356.63145 | F18: =SUM(F19:F26) -> 171.88295 | G18: =SUM(G19:G26) -> 12.579791 | H18: =SUM(B18:G18) -> 1914.5547
A19: A. Productos Minerales | B19: 320.14496 | H19: =SUM(B19:G19) -> 320.14496
A20: B. Industria química | B20: 11.735597 | H20: =SUM(B20:G20) -> 11.735597
A21: C. Producción metalúrgica | B21: 910.68731 | C21: 1.74525 | F21: 171.86557 | H21: =SUM(B21:G21) -> 1084.2981
A22: D. Productos no energéticos y uso de disolventes | B22: 81.055356 | H22: =SUM(B22:G22) -> 81.055356
A23: E. Industria electrónica | H23: =SUM(B23:G23) -> 0
A24: F. Uso de sustitutivos de los GEIs | E24: 356.63145 | F24: 0.017376255 | H24: =SUM(B24:G24) -> 356.64882
A25: G. producción y uso de otros productos | D25: 48.092079 | G25: 12.579791 | H25: =SUM(B25:G25) -> 60.671869
A26: H. Otros | H26: =SUM(B26:G26) -> 0
A27: 3. Agricultura | B27: =SUM(B28:B36) -> 16.34921 | C27: =SUM(C28:C36) -> 2718.3918 | D27: =SUM(D28:D36) -> 1104.8168 | H27: =SUM(B27:G27) -> 3839.5577
A28: A. Fermentación entérica | C28: 2133.6409 | H28: =SUM(B28:G28) -> 2133.6409
A29: B. Gestión del estiércol | C29: 584.56232 | D29: 207.01355 | H29: =SUM(B29:G29) -> 791.57587
A30: C. Cultivo de arroz | H30: =SUM(B30:G30) -> 0
A31: D. Suelos agrícolas | D31: 897.74495 | H31: =SUM(B31:G31) -> 897.74495
A32: E. Quemas planificadas de sabanas | H32: =SUM(B32:G32) -> 0
A33: F. Quema en el campo de residuos agrícolas | C33: 0.18854798 | D33: 0.058268238 | H33: =SUM(B33:G33) -> 0.24681621
A34: G. Enmiendas calizas | H34: =SUM(B34:G34) -> 0
A35: H. Fertilización con urea | B35: 14.04116
A36: I. Aplicación fertilizante con carbono | B36: 2.30805 | H36: =SUM(B36:G36) -> 2.30805
A37: 4. Cambios de uso del suelo y silvicultura | H37: =SUM(B37:G37) -> 0
A38: 5. Tratamiento y eliminación de residuos | B38: =SUM(B39:B43) -> 0.233948 | C38: =SUM(C39:C43) -> 667.4652 | D38: =SUM(D39:D43) -> 61.186439 | H38: =SUM(B38:G38) -> 728.88558
A39: A. Depósito en vertederos | C39: 524.01215 | H39: =SUM(B39:G39) -> 524.01215
A40: B. Tratmiento biológico de residuos sólidos | H40: =SUM(B40:G40) -> 0
A41: C. Incineración de residuos | B41: 0.233948 | C41: 1.1489674 | D41: 3.6986005 | H41: =SUM(B41:G41) -> 5.0815159
A42: D. Tratmiento de aguas residuales | C42: 141.96099 | D42: 57.487839 | H42: =SUM(B42:G42) -> 199.44883
A43: E. Otros | C43: 0.34309028 | H43: =SUM(B43:G43) -> 0.34309028
A44: 6. Otros | H44: =SUM(B44:G44) -> 0

Sheet Galicia 2002
A1: EMISIONES DE CO2 EQUIVALENTE | H1: Galicia
H2: Año 2002
A5: GASES DE EFECTO INVERNADERO | B5: CO2 | C5: CH4 | D5: N2O | E5: HFCs | F5: PFCs | G5: SF6 | H5: Total
A6: CATEGORÍAS DE ACTIVIDAD | B6: CO2 equivalente (Kilotoneladas)
A7: Total Emisiones | B7: =SUM(B8,B18,B27,B37,B38,B44) -> 31280.668 | C7: =SUM(C8,C18,C27,C37,C38,C44) -> 3619.6216 | D7: =SUM(D8,D18,D27,D37,D38,D44) -> 1436.4242 | E7: =SUM(E8,E18,E27,E37,E38,E44) -> 417.33638 | F7: =SUM(F8,F18,F27,F37,F38,F44) -> 195.47762 | G7: =SUM(G8,G18,G27,G37,G38,G44) -> 12.992748 | H7: =SUM(B7:G7) -> 36962.521
A8: 1. Procesado de la energía | B8: =SUM(B9,B15) -> 29873.464 | C8: =SUM(C9,C15) -> 187.18266 | D8: =SUM(D9,D15) -> 180.63065 | H8: =SUM(B8:G8) -> 30241.277
A9: A. Actividades de combustión | B9: =SUM(B10:B14) -> 29562.452 | C9: =SUM(C10:C14) -> 183.24001 | D9: =SUM(D10:D14) -> 180.63065 | H9: =SUM(B9:G9) -> 29926.323
A10: 1. Industrias del Sector Energético | B10: 18216.215 | C10: 5.8154648 | D10: 75.969752 | H10: =SUM(B10:G10) -> 18298
A11: 2. Industrias manufactureras y de la construcción | B11: 3168.0231 | C11: 35.15599 | D11: 18.949191 | H11: =SUM(B11:G11) -> 3222.1282
A12: 3. Transporte | B12: 5247.8206 | C12: 11.912304 | D12: 48.843289 | H12: =SUM(B12:G12) -> 5308.5762
A13: 4. Otros Sectores | B13: 2914.3471 | C13: 130.34578 | D13: 36.736418 | H13: =SUM(B13:G13) -> 3081.4293
A14: 5. Otros | B14: 16.046019 | C14: 0.0104717 | D14: 0.13200506 | H14: =SUM(B14:G14) -> 16.188496
A15: B. Emisiones fugitivas de los combustibles | B15: =SUM(B16:B17) -> 311.01163 | C15: =SUM(C16:C17) -> 3.9426428 | D15: =SUM(D16:D17) -> 0 | H15: =SUM(B15:G15) -> 314.95427
A16: 1. Combustibles sólidos | H16: =SUM(B16:G16) -> 0
A17: 2. Petróleo y gas natural | B17: 311.01163 | C17: 3.9426428 | H17: =SUM(B17:G17) -> 314.95427
A18: 2.. Procesos Industriales | B18: =SUM(B19:B26) -> 1389.4738 | C18: =SUM(C19:C26) -> 1.9091475 | D18: =SUM(D19:D26) -> 43.117618 | E18: =SUM(E19:E26) -> 417.33638 | F18: =SUM(F19:F26) -> 195.47762 | G18: =SUM(G19:G26) -> 12.992748 | H18: =SUM(B18:G18) -> 2060.3073
A19: A. Productos Minerales | B19: 360.80793 | H19: =SUM(B19:G19) -> 360.80793
A20: B. Industria química | B20: 12.583032 | H20: =SUM(B20:G20) -> 12.583032
A21: C. Producción metalúrgica | B21: 941.49852 | C21: 1.9091475 | F21: 195.46075 | H21: =SUM(B21:G21) -> 1138.8684
A22: D. Productos no energéticos y uso de disolventes | B22: 74.584347 | H22: =SUM(B22:G22) -> 74.584347
A23: E. Industria electrónica | H23: =SUM(B23:G23) -> 0
A24: F. Uso de sustitutivos de los GEIs | E24: 417.33638 | F24: 0.016867557 | H24: =SUM(B24:G24) -> 417.35324
A25: G. producción y uso de otros productos | D25: 43.117618 | G25: 12.992748 | H25: =SUM(B25:G25) -> 56.110366
A26: H. Otros | H26: =SUM(B26:G26) -> 0
A27: 3. Agricultura | B27: =SUM(B28:B36) -> 17.555063 | C27: =SUM(C28:C36) -> 2832.4882 | D27: =SUM(D28:D36) -> 1145.0589 | H27: =SUM(B27:G27) -> 3995.1022
A28: A. Fermentación entérica | C28: 2225.2246 | H28: =SUM(B28:G28) -> 2225.2246
A29: B. Gestión del estiércol | C29: 606.59993 | D29: 212.24407 | H29: =SUM(B29:G29) -> 818.844
A30: C. Cultivo de arroz | H30: =SUM(B30:G30) -> 0
A31: D. Suelos agrícolas | D31: 932.60975 | H31: =SUM(B31:G31) -> 932.60975
A32: E. Quemas planificadas de sabanas | H32: =SUM(B32:G32) -> 0
A33: F. Quema en el campo de residuos agrícolas | C33: 0.663717 | D33: 0.2051134 | H33: =SUM(B33:G33) -> 0.8688304
A34: G. Enmiendas calizas | H34: =SUM(B34:G34) -> 0
A35: H. Fertilización con urea | B35: 15.285343
A36: I. Aplicación fertilizante con carbono | B36: 2.26972 | H36: =SUM(B36:G36) -> 2.26972
A37: 4. Cambios de uso del suelo y silvicultura | H37: =SUM(B37:G37) -> 0
A38: 5. Tratamiento y eliminación de residuos | B38: =SUM(B39:B43) -> 0.175604 | C38: =SUM(C39:C43) -> 598.04156 | D38: =SUM(D39:D43) -> 67.616966 | H38: =SUM(B38:G38) -> 665.83413
A39: A. Depósito en vertederos | C39: 452.56273 | H39: =SUM(B39:G39) -> 452.56273
A40: B. Tratmiento biológico de residuos sólidos | C40: 7.9309753 | D40: 5.6722336 | H40: =SUM(B40:G40) -> 13.603209
A41: C. Incineración de residuos | B41: 0.175604 | C41: 1.5270036 | D41: 3.815893 | H41: =SUM(B41:G41) -> 5.5185006
A42: D. Tratmiento de aguas residuales | C42: 135.49294 | D42: 58.12884 | H42: =SUM(B42:G42) -> 193.62178
A43: E. Otros | C43: 0.52790535 | H43: =SUM(B43:G43) -> 0.52790535
A44: 6. Otros | H44: =SUM(B44:G44) -> 0

Sheet Galicia 2003
A1: EMISIONES DE CO2 EQUIVALENTE | H1: Galicia
H2: Año 2003
A5: GASES DE EFECTO INVERNADERO | B5: CO2 | C5: CH4 | D5: N2O | E5: HFCs | F5: PFCs | G5: SF6 | H5: Total
A6: CATEGORÍAS DE ACTIVIDAD | B6: CO2 equivalente (Kilotoneladas)
A7: Total Emisiones | B7: =SUM(B8,B18,B27,B37,B38,B44) -> 30312.894 | C7: =SUM(C8,C18,C27,C37,C38,C44) -> 3495.2297 | D7: =SUM(D8,D18,D27,D37,D38,D44) -> 1402.1154 | E7: =SUM(E8,E18,E27,E37,E38,E44) -> 500.40577 | F7: =SUM(F8,F18,F27,F37,F38,F44) -> 187.98879 | G7: =SUM(G8,G18,G27,G37,G38,G44) -> 12.985455 | H7: =SUM(B7:G7) -> 35911.619
A8: 1. Procesado de la energía | B8: =SUM(B9,B15) -> 28850.135 | C8: =SUM(C9,C15) -> 197.13861 | D8: =SUM(D9,D15) -> 179.42074 | H8: =SUM(B8:G8) -> 29226.694
A9: A. Actividades de combustión | B9: =SUM(B10:B14) -> 28585.159 | C9: =SUM(C10:C14) -> 192.98063 | D9: =SUM(D10:D14) -> 179.42074 | H9: =SUM(B9:G9) -> 28957.56
A10: 1. Industrias del Sector Energético | B10: 16547.912 | C10: 5.5049174 | D10: 71.033436 | H10: =SUM(B10:G10) -> 16624.451
A11: 2. Industrias manufactureras y de la construcción | B11: 3519.6287 | C11: 44.886395 | D11: 20.742024 | H11: =SUM(B11:G11) -> 3585.2571
A12: 3. Transporte | B12: 5387.9647 | C12: 11.425052 | D12: 49.935506 | H12: =SUM(B12:G12) -> 5449.3252
A13: 4. Otros Sectores | B13: 3113.1039 | C13: 131.15414 | D13: 37.573142 | H13: =SUM(B13:G13) -> 3281.8312
A14: 5. Otros | B14: 16.549367 | C14: 0.010123425 | D14: 0.13662734 | H14: =SUM(B14:G14) -> 16.696118
A15: B. Emisiones fugitivas de los combustibles | B15: =SUM(B16:B17) -> 264.97574 | C15: =SUM(C16:C17) -> 4.1579754 | D15: =SUM(D16:D17) -> 0 | H15: =SUM(B15:G15) -> 269.13371
A16: 1. Combustibles sólidos | H16: =SUM(B16:G16) -> 0
A17: 2. Petróleo y gas natural | B17: 264.97574 | C17: 4.1579754 | H17: =SUM(B17:G17) -> 269.13371
A18: 2.. Procesos Industriales | B18: =SUM(B19:B26) -> 1445.6943 | C18: =SUM(C19:C26) -> 2.1607625 | D18: =SUM(D19:D26) -> 36.627474 | E18: =SUM(E19:E26) -> 500.40577 | F18: =SUM(F19:F26) -> 187.98879 | G18: =SUM(G19:G26) -> 12.985455 | H18: =SUM(B18:G18) -> 2185.8626
A19: A. Productos Minerales | B19: 387.36115 | H19: =SUM(B19:G19) -> 387.36115
A20: B. Industria química | B20: 15.077517 | H20: =SUM(B20:G20) -> 15.077517
A21: C. Producción metalúrgica | B21: 973.88346 | C21: 2.1607625 | F21: 187.9722 | H21: =SUM(B21:G21) -> 1164.0164
A22: D. Productos no energéticos y uso de disolventes | B22: 69.372222 | H22: =SUM(B22:G22) -> 69.372222
A23: E. Industria electrónica | H23: =SUM(B23:G23) -> 0
A24: F. Uso de sustitutivos de los GEIs | E24: 500.40577 | F24: 0.01658262 | H24: =SUM(B24:G24) -> 500.42235
A25: G. producción y uso de otros productos | D25: 36.627474 | G25: 12.985455 | H25: =SUM(B25:G25) -> 49.612929
A26: H. Otros | H26: =SUM(B26:G26) -> 0
A27: 3. Agricultura | B27: =SUM(B28:B36) -> 16.948019 | C27: =SUM(C28:C36) -> 2742.9672 | D27: =SUM(D28:D36) -> 1118.3855 | H27: =SUM(B27:G27) -> 3878.3007
A28: A. Fermentación entérica | C28: 2150.3368 | H28: =SUM(B28:G28) -> 2150.3368
A29: B. Gestión del estiércol | C29: 591.97973 | D29: 207.38324 | H29: =SUM(B29:G29) -> 799.36296
A30: C. Cultivo de arroz | H30: =SUM(B30:G30) -> 0
A31: D. Suelos agrícolas | D31: 910.80113 | H31: =SUM(B31:G31) -> 910.80113
A32: E. Quemas planificadas de sabanas | H32: =SUM(B32:G32) -> 0
A33: F. Quema en el campo de residuos agrícolas | C33: 0.65073285 | D33: 0.20110053 | H33: =SUM(B33:G33) -> 0.85183338
A34: G. Enmiendas calizas | H34: =SUM(B34:G34) -> 0
A35: H. Fertilización con urea | B35: 14.348139
A36: I. Aplicación fertilizante con carbono | B36: 2.59988 | H36: =SUM(B36:G36) -> 2.59988
A37: 4. Cambios de uso del suelo y silvicultura | H37: =SUM(B37:G37) -> 0
A38: 5. Tratamiento y eliminación de residuos | B38: =SUM(B39:B43) -> 0.11726 | C38: =SUM(C39:C43) -> 552.96305 | D38: =SUM(D39:D43) -> 67.681712 | H38: =SUM(B38:G38) -> 620.76202
A39: A. Depósito en vertederos | C39: 417.96681 | H39: =SUM(B39:G39) -> 417.96681
A40: B. Tratmiento biológico de residuos sólidos | C40: 8.675492 | D40: 6.2047119 | H40: =SUM(B40:G40) -> 14.880204
A41: C. Incineración de residuos | B41: 0.11726 | C41: 1.6839285 | D41: 4.0214114 | H41: =SUM(B41:G41) -> 5.8225999
A42: D. Tratmiento de aguas residuales | C42: 123.99194 | D42: 57.455589 | H42: =SUM(B42:G42) -> 181.44753
A43: E. Otros | C43: 0.64488375 | H43: =SUM(B43:G43) -> 0.64488375
A44: 6. Otros | H44: =SUM(B44:G44) -> 0

Sheet Galicia 2004
A1: EMISIONES DE CO2 EQUIVALENTE | H1: Galicia
H2: Año 2004
A5: GASES DE EFECTO INVERNADERO | B5: CO2 | C5: CH4 | D5: N2O | E5: HFCs | F5: PFCs | G5: SF6 | H5: Total
A6: CATEGORÍAS DE ACTIVIDAD | B6: CO2 equivalente (Kilotoneladas)
A7: Total Emisiones | B7: =SUM(B8,B18,B27,B37,B38,B44) -> 31500.445 | C7: =SUM(C8,C18,C27,C37,C38,C44) -> 3369.0142 | D7: =SUM(D8,D18,D27,D37,D38,D44) -> 1362.9588 | E7: =SUM(E8,E18,E27,E37,E38,E44) -> 590.90678 | F7: =SUM(F8,F18,F27,F37,F38,F44) -> 179.30385 | G7: =SUM(G8,G18,G27,G37,G38,G44) -> 14.773772 | H7: =SUM(B7:G7) -> 37017.402
A8: 1. Procesado de la energía | B8: =SUM(B9,B15) -> 29969.939 | C8: =SUM(C9,C15) -> 202.11084 | D8: =SUM(D9,D15) -> 185.44804 | H8: =SUM(B8:G8) -> 30357.498
A9: A. Actividades de combustión | B9: =SUM(B10:B14) -> 29651.64 | C9: =SUM(C10:C14) -> 198.77816 | D9: =SUM(D10:D14) -> 185.44804 | H9: =SUM(B9:G9) -> 30035.866
A10: 1. Industrias del Sector Energético | B10: 17230.211 | C10: 5.3202231 | D10: 74.894389 | H10: =SUM(B10:G10) -> 17310.426
A11: 2. Industrias manufactureras y de la construcción | B11: 3508.9331 | C11: 48.828178 | D11: 20.971925 | H11: =SUM(B11:G11) -> 3578.7332
A12: 3. Transporte | B12: 5563.2448 | C12: 10.8312 | D12: 50.834098 | H12: =SUM(B12:G12) -> 5624.9101
A13: 4. Otros Sectores | B13: 3331.2844 | C13: 133.78819 | D13: 38.599571 | H13: =SUM(B13:G13) -> 3503.6722
A14: 5. Otros | B14: 17.966211 | C14: 0.010361825 | D14: 0.14805832 | H14: =SUM(B14:G14) -> 18.124631
A15: B. Emisiones fugitivas de los combustibles | B15: =SUM(B16:B17) -> 318.29904 | C15: =SUM(C16:C17) -> 3.3326871 | D15: =SUM(D16:D17) -> 0 | H15: =SUM(B15:G15) -> 321.63172
A16: 1. Combustibles sólidos | H16: =SUM(B16:G16) -> 0
A17: 2. Petróleo y gas natural | B17: 318.29904 | C17: 3.3326871 | H17: =SUM(B17:G17) -> 321.63172
A18: 2.. Procesos Industriales | B18: =SUM(B19:B26) -> 1513.7522 | C18: =SUM(C19:C26) -> 2.18855 | D18: =SUM(D19:D26) -> 31.159629 | E18: =SUM(E19:E26) -> 590.90678 | F18: =SUM(F19:F26) -> 179.30385 | G18: =SUM(G19:G26) -> 14.773772 | H18: =SUM(B18:G18) -> 2332.0848
A19: A. Productos Minerales | B19: 395.3211 | H19: =SUM(B19:G19) -> 395.3211
A20: B. Industria química | B20: 13.84463 | H20: =SUM(B20:G20) -> 13.84463
A21: C. Producción metalúrgica | B21: 1037.0407 | C21: 2.18855 | F21: 179.2873 | H21: =SUM(B21:G21) -> 1218.5166
A22: D. Productos no energéticos y uso de disolventes | B22: 67.545753 | H22: =SUM(B22:G22) -> 67.545753
A23: E. Industria electrónica | H23: =SUM(B23:G23) -> 0
A24: F. Uso de sustitutivos de los GEIs | E24: 590.90678 | F24: 0.016542517 | H24: =SUM(B24:G24) -> 590.92332
A25: G. producción y uso de otros productos | D25: 31.159629 | G25: 14.773772 | H25: =SUM(B25:G25) -> 45.933401
A26: H. Otros | H26: =SUM(B26:G26) -> 0
A27: 3. Agricultura | B27: =SUM(B28:B36) -> 16.695531 | C27: =SUM(C28:C36) -> 2657.062 | D27: =SUM(D28:D36) -> 1088.1057 | H27: =SUM(B27:G27) -> 3761.8633
A28: A. Fermentación entérica | C28: 2071.2966 | H28: =SUM(B28:G28) -> 2071.2966
A29: B. Gestión del estiércol | C29: 585.60577 | D29: 202.65524 | H29: =SUM(B29:G29) -> 788.261
A30: C. Cultivo de arroz | H30: =SUM(B30:G30) -> 0
A31: D. Suelos agrícolas | D31: 885.40116 | H31: =SUM(B31:G31) -> 885.40116
A32: E. Quemas planificadas de sabanas | H32: =SUM(B32:G32) -> 0
A33: F. Quema en el campo de residuos agrícolas | C33: 0.15964707 | D33: 0.04933688 | H33: =SUM(B33:G33) -> 0.20898395
A34: G. Enmiendas calizas | H34: =SUM(B34:G34) -> 0
A35: H. Fertilización con urea | B35: 14.161975
A36: I. Aplicación fertilizante con carbono | B36: 2.533556 | H36: =SUM(B36:G36) -> 2.533556
A37: 4. Cambios de uso del suelo y silvicultura | H37: =SUM(B37:G37) -> 0
A38: 5. Tratamiento y eliminación de residuos | B38: =SUM(B39:B43) -> 0.058344 | C38: =SUM(C39:C43) -> 507.6528 | D38: =SUM(D39:D43) -> 58.245391 | H38: =SUM(B38:G38) -> 565.95653
A39: A. Depósito en vertederos | C39: 393.61271 | H39: =SUM(B39:G39) -> 393.61271
A40: B. Tratmiento biológico de residuos sólidos | C40: 4.747815 | D40: 3.2277798 | H40: =SUM(B40:G40) -> 7.9755949
A41: C. Incineración de residuos | B41: 0.058344 | C41: 1.3520519 | D41: 3.6858413 | H41: =SUM(B41:G41) -> 5.0962372
A42: D. Tratmiento de aguas residuales | C42: 107.25693 | D42: 51.331769 | H42: =SUM(B42:G42) -> 158.5887
A43: E. Otros | C43: 0.6832861 | H43: =SUM(B43:G43) -> 0.6832861
A44: 6. Otros | H44: =SUM(B44:G44) -> 0

Sheet Galicia 2005
A1: EMISIONES DE CO2 EQUIVALENTE | H1: Galicia
H2: Año 2005
A5: GASES DE EFECTO INVERNADERO | B5: CO2 | C5: CH4 | D5: N2O | E5: HFCs | F5: PFCs | G5: SF6 | H5: Total
A6: CATEGORÍAS DE ACTIVIDAD | B6: CO2 equivalente (Kilotoneladas)
A7: Total Emisiones | B7: =SUM(B8,B18,B27,B37,B38,B44) -> 30228.878 | C7: =SUM(C8,C18,C27,C37,C38,C44) -> 3397.825 | D7: =SUM(D8,D18,D27,D37,D38,D44) -> 1372.4222 | E7: =SUM(E8,E18,E27,E37,E38,E44) -> 672.21382 | F7: =SUM(F8,F18,F27,F37,F38,F44) -> 110.77362 | G7: =SUM(G8,G18,G27,G37,G38,G44) -> 15.946486 | H7: =SUM(B7:G7) -> 35798.059
A8: 1. Procesado de la energía | B8: =SUM(B9,B15) -> 28694.324 | C8: =SUM(C9,C15) -> 208.99629 | D8: =SUM(D9,D15) -> 178.21286 | H8: =SUM(B8:G8) -> 29081.533
A9: A. Actividades de combustión | B9: =SUM(B10:B14) -> 28346.933 | C9: =SUM(C10:C14) -> 205.72582 | D9: =SUM(D10:D14) -> 178.21286 | H9: =SUM(B9:G9) -> 28730.872
A10: 1. Industrias del Sector Energético | B10: 15521.318 | C10: 4.9546087 | D10: 65.910056 | H10: =SUM(B10:G10) -> 15592.183
A11: 2. Industrias manufactureras y de la construcción | B11: 3644.525 | C11: 55.969237 | D11: 20.821978 | H11: =SUM(B11:G11) -> 3721.3163
A12: 3. Transporte | B12: 5678.3923 | C12: 9.9291323 | D12: 51.329466 | H12: =SUM(B12:G12) -> 5739.6509
A13: 4. Otros Sectores | B13: 3484.4615 | C13: 134.86415 | D13: 40.000134 | H13: =SUM(B13:G13) -> 3659.3258
A14: 5. Otros | B14: 18.236076 | C14: 0.0086837 | D14: 0.15122159 | H14: =SUM(B14:G14) -> 18.395981
A15: B. Emisiones fugitivas de los combustibles | B15: =SUM(B16:B17) -> 347.39099 | C15: =SUM(C16:C17) -> 3.2704771 | D15: =SUM(D16:D17) -> 0 | H15: =SUM(B15:G15) -> 350.66147
A16: 1. Combustibles sólidos | H16: =SUM(B16:G16) -> 0
A17: 2. Petróleo y gas natural | B17: 347.39099 | C17: 3.2704771 | H17: =SUM(B17:G17) -> 350.66147
A18: 2.. Procesos Industriales | B18: =SUM(B19:B26) -> 1518.0912 | C18: =SUM(C19:C26) -> 2.085395 | D18: =SUM(D19:D26) -> 39.71581 | E18: =SUM(E19:E26) -> 672.21382 | F18: =SUM(F19:F26) -> 110.77362 | G18: =SUM(G19:G26) -> 15.946486 | H18: =SUM(B18:G18) -> 2358.8263
A19: A. Productos Minerales | B19: 332.855 | H19: =SUM(B19:G19) -> 332.855
A20: B. Industria química | B20: 60.177772 | H20: =SUM(B20:G20) -> 60.177772
A21: C. Producción metalúrgica | B21: 1055.0272 | C21: 2.085395 | F21: 110.7482 | H21: =SUM(B21:G21) -> 1167.8608
A22: D. Productos no energéticos y uso de disolventes | B22: 70.031149 | H22: =SUM(B22:G22) -> 70.031149
A23: E. Industria electrónica | H23: =SUM(B23:G23) -> 0
A24: F. Uso de sustitutivos de los GEIs | E24: 672.21382 | F24: 0.025423323 | H24: =SUM(B24:G24) -> 672.23924
A25: G. producción y uso de otros productos | D25: 39.71581 | G25: 15.946486 | H25: =SUM(B25:G25) -> 55.662295
A26: H. Otros | H26: =SUM(B26:G26) -> 0
A27: 3. Agricultura | B27: =SUM(B28:B36) -> 16.462959 | C27: =SUM(C28:C36) -> 2677.5111 | D27: =SUM(D28:D36) -> 1097.8732 | H27: =SUM(B27:G27) -> 3791.8473
A28: A. Fermentación entérica | C28: 2098.5678 | H28: =SUM(B28:G28) -> 2098.5678
A29: B. Gestión del estiércol | C29: 578.74505 | D29: 202.81763 | H29: =SUM(B29:G29) -> 781.56269
A30: C. Cultivo de arroz | H30: =SUM(B30:G30) -> 0
A31: D. Suelos agrícolas | D31: 894.99435 | H31: =SUM(B31:G31) -> 894.99435
A32: E. Quemas planificadas de sabanas | H32: =SUM(B32:G32) -> 0
A33: F. Quema en el campo de residuos agrícolas | C33: 0.1982355 | D33: 0.061261946 | H33: =SUM(B33:G33) -> 0.25949745
A34: G. Enmiendas calizas | H34: =SUM(B34:G34) -> 0
A35: H. Fertilización con urea | B35: 13.151003
A36: I. Aplicación fertilizante con carbono | B36: 3.311956 | H36: =SUM(B36:G36) -> 3.311956
A37: 4. Cambios de uso del suelo y silvicultura | H37: =SUM(B37:G37) -> 0
A38: 5. Tratamiento y eliminación de residuos | B38: =SUM(B39:B43) -> 0 | C38: =SUM(C39:C43) -> 509.23215 | D38: =SUM(D39:D43) -> 56.620294 | H38: =SUM(B38:G38) -> 565.85244
A39: A. Depósito en vertederos | C39: 395.86247 | H39: =SUM(B39:G39) -> 395.86247
A40: B. Tratmiento biológico de residuos sólidos | C40: 4.9481243 | D40: 3.5264968 | H40: =SUM(B40:G40) -> 8.4746212
A41: C. Incineración de residuos | C41: 1.4608013 | D41: 3.9718498 | H41: =SUM(B41:G41) -> 5.4326511
A42: D. Tratmiento de aguas residuales | C42: 106.25628 | D42: 49.121947 | H42: =SUM(B42:G42) -> 155.37823
A43: E. Otros | C43: 0.70447852 | H43: =SUM(B43:G43) -> 0.70447852
A44: 6. Otros | H44: =SUM(B44:G44) -> 0

Sheet Galicia 2006
A1: EMISIONES DE CO2 EQUIVALENTE | H1: Galicia
H2: Año 2006
A5: GASES DE EFECTO INVERNADERO | B5: CO2 | C5: CH4 | D5: N2O | E5: HFCs | F5: PFCs | G5: SF6 | H5: Total
A6: CATEGORÍAS DE ACTIVIDAD | B6: CO2 equivalente (Kilotoneladas)
A7: Total Emisiones | B7: =SUM(B8,B18,B27,B37,B38,B44) -> 29304.066 | C7: =SUM(C8,C18,C27,C37,C38,C44) -> 3261.3721 | D7: =SUM(D8,D18,D27,D37,D38,D44) -> 1326.2494 | E7: =SUM(E8,E18,E27,E37,E38,E44) -> 812.90626 | F7: =SUM(F8,F18,F27,F37,F38,F44) -> 113.73214 | G7: =SUM(G8,G18,G27,G37,G38,G44) -> 16.813877 | H7: =SUM(B7:G7) -> 34835.14
A8: 1. Procesado de la energía | B8: =SUM(B9,B15) -> 27658.166 | C8: =SUM(C9,C15) -> 205.64816 | D8: =SUM(D9,D15) -> 177.8331 | H8: =SUM(B8:G8) -> 28041.647
A9: A. Actividades de combustión | B9: =SUM(B10:B14) -> 27288.308 | C9: =SUM(C10:C14) -> 201.60151 | D9: =SUM(D10:D14) -> 177.8331 | H9: =SUM(B9:G9) -> 27667.742
A10: 1. Industrias del Sector Energético | B10: 14863.666 | C10: 15.488393 | D10: 63.897114 | H10: =SUM(B10:G10) -> 14943.051
A11: 2. Industrias manufactureras y de la construcción | B11: 3208.9368 | C11: 40.652098 | D11: 20.1062 | H11: =SUM(B11:G11) -> 3269.6951
A12: 3. Transporte | B12: 5917.5011 | C12: 9.1565529 | D12: 54.707593 | H12: =SUM(B12:G12) -> 5981.3652
A13: 4. Otros Sectores | B13: 3279.7121 | C13: 136.29588 | D13: 38.967889 | H13: =SUM(B13:G13) -> 3454.9759
A14: 5. Otros | B14: 18.492065 | C14: 0.008589575 | D14: 0.15430827 | H14: =SUM(B14:G14) -> 18.654963
A15: B. Emisiones fugitivas de los combustibles | B15: =SUM(B16:B17) -> 369.85835 | C15: =SUM(C16:C17) -> 4.0466529 | D15: =SUM(D16:D17) -> 0 | H15: =SUM(B15:G15) -> 373.90501
A16: 1. Combustibles sólidos | H16: =SUM(B16:G16) -> 0
A17: 2. Petróleo y gas natural | B17: 369.85835 | C17: 4.0466529 | H17: =SUM(B17:G17) -> 373.90501
A18: 2.. Procesos Industriales | B18: =SUM(B19:B26) -> 1626.6954 | C18: =SUM(C19:C26) -> 2.02631 | D18: =SUM(D19:D26) -> 49.504765 | E18: =SUM(E19:E26) -> 812.90626 | F18: =SUM(F19:F26) -> 113.73214 | G18: =SUM(G19:G26) -> 16.813877 | H18: =SUM(B18:G18) -> 2621.6788
A19: A. Productos Minerales | B19: 327.16573 | H19: =SUM(B19:G19) -> 327.16573
A20: B. Industria química | B20: 161.36308 | H20: =SUM(B20:G20) -> 161.36308
A21: C. Producción metalúrgica | B21: 1070.6487 | C21: 2.02631 | F21: 113.69673 | H21: =SUM(B21:G21) -> 1186.3717
A22: D. Productos no energéticos y uso de disolventes | B22: 67.517946 | H22: =SUM(B22:G22) -> 67.517946
A23: E. Industria electrónica | H23: =SUM(B23:G23) -> 0
A24: F. Uso de sustitutivos de los GEIs | E24: 812.90626 | F24: 0.035406328 | H24: =SUM(B24:G24) -> 812.94166
A25: G. producción y uso de otros productos | D25: 49.504765 | G25: 16.813877 | H25: =SUM(B25:G25) -> 66.318642
A26: H. Otros | H26: =SUM(B26:G26) -> 0
A27: 3. Agricultura | B27: =SUM(B28:B36) -> 19.20404 | C27: =SUM(C28:C36) -> 2515.4519 | D27: =SUM(D28:D36) -> 1042.9179 | H27: =SUM(B27:G27) -> 3577.5739
A28: A. Fermentación entérica | C28: 1973.104 | H28: =SUM(B28:G28) -> 1973.104
A29: B. Gestión del estiércol | C29: 542.05319 | D29: 193.05823 | H29: =SUM(B29:G29) -> 735.11142
A30: C. Cultivo de arroz | H30: =SUM(B30:G30) -> 0
A31: D. Suelos agrícolas | D31: 849.76857 | H31: =SUM(B31:G31) -> 849.76857
A32: E. Quemas planificadas de sabanas | H32: =SUM(B32:G32) -> 0
A33: F. Quema en el campo de residuos agrícolas | C33: 0.29476497 | D33: 0.091093534 | H33: =SUM(B33:G33) -> 0.38585851
A34: G. Enmiendas calizas | H34: =SUM(B34:G34) -> 0
A35: H. Fertilización con urea | B35: 15.888074
A36: I. Aplicación fertilizante con carbono | B36: 3.315966 | H36: =SUM(B36:G36) -> 3.315966
A37: 4. Cambios de uso del suelo y silvicultura | H37: =SUM(B37:G37) -> 0
A38: 5. Tratamiento y eliminación de residuos | B38: =SUM(B39:B43) -> 0 | C38: =SUM(C39:C43) -> 538.24574 | D38: =SUM(D39:D43) -> 55.993683 | H38: =SUM(B38:G38) -> 594.23942
A39: A. Depósito en vertederos | C39: 413.82952 | H39: =SUM(B39:G39) -> 413.82952
A40: B. Tratmiento biológico de residuos sólidos | C40: 5.3552862 | D40: 3.8301007 | H40: =SUM(B40:G40) -> 9.1853869
A41: C. Incineración de residuos | C41: 1.50649 | D41: 4.0342462 | H41: =SUM(B41:G41) -> 5.5407362
A42: D. Tratmiento de aguas residuales | C42: 116.86891 | D42: 48.129336 | H42: =SUM(B42:G42) -> 164.99825
A43: E. Otros | C43: 0.68552928 | H43: =SUM(B43:G43) -> 0.68552928
A44: 6. Otros | H44: =SUM(B44:G44) -> 0

Sheet Galicia 2007
A1: EMISIONES DE CO2 EQUIVALENTE | H1: Galicia
H2: Año 2007
A5: GASES DE EFECTO INVERNADERO | B5: CO2 | C5: CH4 | D5: N2O | E5: HFCs | F5: PFCs | G5: SF6 | H5: Total
A6: CATEGORÍAS DE ACTIVIDAD | B6: CO2 equivalente (Kilotoneladas)
A7: Total Emisiones | B7: =SUM(B8,B18,B27,B37,B38,B44) -> 30451.257 | C7: =SUM(C8,C18,C27,C37,C38,C44) -> 3299.8904 | D7: =SUM(D8,D18,D27,D37,D38,D44) -> 1362.9388 | E7: =SUM(E8,E18,E27,E37,E38,E44) -> 939.14026 | F7: =SUM(F8,F18,F27,F37,F38,F44) -> 117.27665 | G7: =SUM(G8,G18,G27,G37,G38,G44) -> 17.411288 | H7: =SUM(B7:G7) -> 36187.914
A8: 1. Procesado de la energía | B8: =SUM(B9,B15) -> 28798.758 | C8: =SUM(C9,C15) -> 213.30665 | D8: =SUM(D9,D15) -> 186.78727 | H8: =SUM(B8:G8) -> 29198.852
A9: A. Actividades de combustión | B9: =SUM(B10:B14) -> 28445.276 | C9: =SUM(C10:C14) -> 207.8744 | D9: =SUM(D10:D14) -> 186.78727 | H9: =SUM(B9:G9) -> 28839.937
A10: 1. Industrias del Sector Energético | B10: 15593.006 | C10: 14.417616 | D10: 68.672169 | H10: =SUM(B10:G10) -> 15676.096
A11: 2. Industrias manufactureras y de la construcción | B11: 3371.3086 | C11: 47.591703 | D11: 20.733381 | H11: =SUM(B11:G11) -> 3439.6336
A12: 3. Transporte | B12: 6137.1845 | C12: 8.8662915 | D12: 57.644446 | H12: =SUM(B12:G12) -> 6203.6953
A13: 4. Otros Sectores | B13: 3324.1217 | C13: 136.98823 | D13: 39.57262 | H13: =SUM(B13:G13) -> 3500.6825
A14: 5. Otros | B14: 19.654711 | C14: 0.0105549 | D14: 0.16465007 | H14: =SUM(B14:G14) -> 19.829916
A15: B. Emisiones fugitivas de los combustibles | B15: =SUM(B16:B17) -> 353.48273 | C15: =SUM(C16:C17) -> 5.4322537 | D15: =SUM(D16:D17) -> 0 | H15: =SUM(B15:G15) -> 358.91498
A16: 1. Combustibles sólidos | H16: =SUM(B16:G16) -> 0
A17: 2. Petróleo y gas natural | B17: 353.48273 | C17: 5.4322537 | H17: =SUM(B17:G17) -> 358.91498
A18: 2.. Procesos Industriales | B18: =SUM(B19:B26) -> 1634.2157 | C18: =SUM(C19:C26) -> 2.1632325 | D18: =SUM(D19:D26) -> 45.359119 | E18: =SUM(E19:E26) -> 939.14026 | F18: =SUM(F19:F26) -> 117.27665 | G18: =SUM(G19:G26) -> 17.411288 | H18: =SUM(B18:G18) -> 2755.5663
A19: A. Productos Minerales | B19: 330.88041 | H19: =SUM(B19:G19) -> 330.88041
A20: B. Industria química | B20: 163.32427 | H20: =SUM(B20:G20) -> 163.32427
A21: C. Producción metalúrgica | B21: 1074.1136 | C21: 2.1632325 | F21: 117.23218 | H21: =SUM(B21:G21) -> 1193.509
A22: D. Productos no energéticos y uso de disolventes | B22: 65.897422 | H22: =SUM(B22:G22) -> 65.897422
A23: E. Industria electrónica | H23: =SUM(B23:G23) -> 0
A24: F. Uso de sustitutivos de los GEIs | E24: 939.14026 | F24: 0.044469321 | H24: =SUM(B24:G24) -> 939.18473
A25: G. producción y uso de otros productos | D25: 45.359119 | G25: 17.411288 | H25: =SUM(B25:G25) -> 62.770408
A26: H. Otros | H26: =SUM(B26:G26) -> 0
A27: 3. Agricultura | B27: =SUM(B28:B36) -> 18.282456 | C27: =SUM(C28:C36) -> 2527.3326 | D27: =SUM(D28:D36) -> 1073.2254 | H27: =SUM(B27:G27) -> 3618.8405
A28: A. Fermentación entérica | C28: 2016.7252 | H28: =SUM(B28:G28) -> 2016.7252
A29: B. Gestión del estiércol | C29: 510.15199 | D29: 191.79672 | H29: =SUM(B29:G29) -> 701.94871
A30: C. Cultivo de arroz | H30: =SUM(B30:G30) -> 0
A31: D. Suelos agrícolas | D31: 881.28798 | H31: =SUM(B31:G31) -> 881.28798
A32: E. Quemas planificadas de sabanas | H32: =SUM(B32:G32) -> 0
A33: F. Quema en el campo de residuos agrícolas | C33: 0.45537268 | D33: 0.14072692 | H33: =SUM(B33:G33) -> 0.5960996
A34: G. Enmiendas calizas | H34: =SUM(B34:G34) -> 0
A35: H. Fertilización con urea | B35: 15.457532
A36: I. Aplicación fertilizante con carbono | B36: 2.824924 | H36: =SUM(B36:G36) -> 2.824924
A37: 4. Cambios de uso del suelo y silvicultura | H37: =SUM(B37:G37) -> 0
A38: 5. Tratamiento y eliminación de residuos | B38: =SUM(B39:B43) -> 0 | C38: =SUM(C39:C43) -> 557.08793 | D38: =SUM(D39:D43) -> 57.567012 | H38: =SUM(B38:G38) -> 614.65495
A39: A. Depósito en vertederos | C39: 415.00304 | H39: =SUM(B39:G39) -> 415.00304
A40: B. Tratmiento biológico de residuos sólidos | C40: 7.4324309 | D40: 5.3156745 | H40: =SUM(B40:G40) -> 12.748105
A41: C. Incineración de residuos | C41: 1.5124524 | D41: 4.1763204 | H41: =SUM(B41:G41) -> 5.6887728
A42: D. Tratmiento de aguas residuales | C42: 132.34068 | D42: 48.075017 | H42: =SUM(B42:G42) -> 180.4157
A43: E. Otros | C43: 0.79932695 | H43: =SUM(B43:G43) -> 0.79932695
A44: 6. Otros | H44: =SUM(B44:G44) -> 0

Sheet Galicia 2008
A1: EMISIONES DE CO2 EQUIVALENTE | H1: Galicia
H2: Año 2008
A5: GASES DE EFECTO INVERNADERO | B5: CO2 | C5: CH4 | D5: N2O | E5: HFCs | F5: PFCs | G5: SF6 | H5: Total
A6: CATEGORÍAS DE ACTIVIDAD | B6: CO2 equivalente (Kilotoneladas)
A7: Total Emisiones | B7: =SUM(B8,B18,B27,B37,B38,B44) -> 24626.491 | C7: =SUM(C8,C18,C27,C37,C38,C44) -> 3336.7587 | D7: =SUM(D8,D18,D27,D37,D38,D44) -> 1274.2704 | E7: =SUM(E8,E18,E27,E37,E38,E44) -> 989.82384 | F7: =SUM(F8,F18,F27,F37,F38,F44) -> 123.84636 | G7: =SUM(G8,G18,G27,G37,G38,G44) -> 17.901894 | H7: =SUM(B7:G7) -> 30369.092
A8: 1. Procesado de la energía | B8: =SUM(B9,B15) -> 22979.303 | C8: =SUM(C9,C15) -> 223.60725 | D8: =SUM(D9,D15) -> 176.22922 | H8: =SUM(B8:G8) -> 23379.14
A9: A. Actividades de combustión | B9: =SUM(B10:B14) -> 22658.886 | C9: =SUM(C10:C14) -> 208.67106 | D9: =SUM(D10:D14) -> 176.22922 | H9: =SUM(B9:G9) -> 23043.786
A10: 1. Industrias del Sector Energético | B10: 10297.027 | C10: 13.015604 | D10: 61.427272 | H10: =SUM(B10:G10) -> 10371.469
A11: 2. Industrias manufactureras y de la construcción | B11: 3302.4119 | C11: 47.376745 | D11: 20.065673 | H11: =SUM(B11:G11) -> 3369.8543
A12: 3. Transporte | B12: 5928.6775 | C12: 7.8295494 | D12: 56.971191 | H12: =SUM(B12:G12) -> 5993.4783
A13: 4. Otros Sectores | B13: 3110.586 | C13: 140.43869 | D13: 37.59496 | H13: =SUM(B13:G13) -> 3288.6196
A14: 5. Otros | B14: 20.18359 | C14: 0.010465075 | D14: 0.17012731 | H14: =SUM(B14:G14) -> 20.364182
A15: B. Emisiones fugitivas de los combustibles | B15: =SUM(B16:B17) -> 320.41773 | C15: =SUM(C16:C17) -> 14.936188 | D15: =SUM(D16:D17) -> 0 | H15: =SUM(B15:G15) -> 335.35392
A16: 1. Combustibles sólidos | H16: =SUM(B16:G16) -> 0
A17: 2. Petróleo y gas natural | B17: 320.41773 | C17: 14.936188 | H17: =SUM(B17:G17) -> 335.35392
A18: 2.. Procesos Industriales | B18: =SUM(B19:B26) -> 1637.1601 | C18: =SUM(C19:C26) -> 2.2459125 | D18: =SUM(D19:D26) -> 44.424683 | E18: =SUM(E19:E26) -> 989.82384 | F18: =SUM(F19:F26) -> 123.84636 | G18: =SUM(G19:G26) -> 17.901894 | H18: =SUM(B18:G18) -> 2815.4028
A19: A. Productos Minerales | B19: 329.8054 | H19: =SUM(B19:G19) -> 329.8054
A20: B. Industria química | B20: 147.50381 | H20: =SUM(B20:G20) -> 147.50381
A21: C. Producción metalúrgica | B21: 1097.981 | C21: 2.2459125 | F21: 123.79809 | H21: =SUM(B21:G21) -> 1224.025
A22: D. Productos no energéticos y uso de disolventes | B22: 61.869917 | H22: =SUM(B22:G22) -> 61.869917
A23: E. Industria electrónica | H23: =SUM(B23:G23) -> 0
A24: F. Uso de sustitutivos de los GEIs | E24: 989.82384 | F24: 0.048269683 | H24: =SUM(B24:G24) -> 989.8721
A25: G. producción y uso de otros productos | D25: 44.424683 | G25: 17.901894 | H25: =SUM(B25:G25) -> 62.326578
A26: H. Otros | H26: =SUM(B26:G26) -> 0
A27: 3. Agricultura | B27: =SUM(B28:B36) -> 10.027684 | C27: =SUM(C28:C36) -> 2559.4515 | D27: =SUM(D28:D36) -> 998.78294 | H27: =SUM(B27:G27) -> 3568.2621
A28: A. Fermentación entérica | C28: 2042.3 | H28: =SUM(B28:G28) -> 2042.3
A29: B. Gestión del estiércol | C29: 516.7889 | D29: 193.24482 | H29: =SUM(B29:G29) -> 710.03372
A30: C. Cultivo de arroz | H30: =SUM(B30:G30) -> 0
A31: D. Suelos agrícolas | D31: 805.42605 | H31: =SUM(B31:G31) -> 805.42605
A32: E. Quemas planificadas de sabanas | H32: =SUM(B32:G32) -> 0
A33: F. Quema en el campo de residuos agrícolas | C33: 0.3626349 | D33: 0.11206767 | H33: =SUM(B33:G33) -> 0.47470257
A34: G. Enmiendas calizas | H34: =SUM(B34:G34) -> 0
A35: H. Fertilización con urea | B35: 8.354197
A36: I. Aplicación fertilizante con carbono | B36: 1.673487 | H36: =SUM(B36:G36) -> 1.673487
A37: 4. Cambios de uso del suelo y silvicultura | H37: =SUM(B37:G37) -> 0
A38: 5. Tratamiento y eliminación de residuos | B38: =SUM(B39:B43) -> 0 | C38: =SUM(C39:C43) -> 551.45403 | D38: =SUM(D39:D43) -> 54.833536 | H38: =SUM(B38:G38) -> 606.28757
A39: A. Depósito en vertederos | C39: 427.98257 | H39: =SUM(B39:G39) -> 427.98257
A40: B. Tratmiento biológico de residuos sólidos | C40: 1.4911926 | D40: 1.035404 | H40: =SUM(B40:G40) -> 2.5265965
A41: C. Incineración de residuos | C41: 0.97513206 | D41: 2.9148611 | H41: =SUM(B41:G41) -> 3.8899931
A42: D. Tratmiento de aguas residuales | C42: 119.95309 | D42: 50.883271 | H42: =SUM(B42:G42) -> 170.83636
A43: E. Otros | C43: 1.0520505 | H43: =SUM(B43:G43) -> 1.0520505
A44: 6. Otros | H44: =SUM(B44:G44) -> 0

Sheet Galicia 2009
A1: EMISIONES DE CO2 EQUIVALENTE | H1: Galicia
H2: Año 2009
A5: GASES DE EFECTO INVERNADERO | B5: CO2 | C5: CH4 | D5: N2O | E5: HFCs | F5: PFCs | G5: SF6 | H5: Total
A6: CATEGORÍAS DE ACTIVIDAD | B6: CO2 equivalente (Kilotoneladas)
A7: Total Emisiones | B7: =SUM(B8,B18,B27,B37,B38,B44) -> 22521.306 | C7: =SUM(C8,C18,C27,C37,C38,C44) -> 3332.1378 | D7: =SUM(D8,D18,D27,D37,D38,D44) -> 1270.4867 | E7: =SUM(E8,E18,E27,E37,E38,E44) -> 910.1448 | F7: =SUM(F8,F18,F27,F37,F38,F44) -> 100.43617 | G7: =SUM(G8,G18,G27,G37,G38,G44) -> 17.233062 | H7: =SUM(B7:G7) -> 28151.745
A8: 1. Procesado de la energía | B8: =SUM(B9,B15) -> 21274.17 | C8: =SUM(C9,C15) -> 234.90021 | D8: =SUM(D9,D15) -> 171.84779 | H8: =SUM(B8:G8) -> 21680.918
A9: A. Actividades de combustión | B9: =SUM(B10:B14) -> 20980.233 | C9: =SUM(C10:C14) -> 221.739 | D9: =SUM(D10:D14) -> 171.84779 | H9: =SUM(B9:G9) -> 21373.82
A10: 1. Industrias del Sector Energético | B10: 9140.2353 | C10: 10.798021 | D10: 54.996402 | H10: =SUM(B10:G10) -> 9206.0297
A11: 2. Industrias manufactureras y de la construcción | B11: 2905.3377 | C11: 38.208922 | D11: 17.811004 | H11: =SUM(B11:G11) -> 2961.3576
A12: 3. Transporte | B12: 5731.4797 | C12: 7.2480872 | D12: 56.580722 | H12: =SUM(B12:G12) -> 5795.3085
A13: 4. Otros Sectores | B13: 3184.7935 | C13: 165.47536 | D13: 42.302251 | H13: =SUM(B13:G13) -> 3392.5711
A14: 5. Otros | B14: 18.386714 | C14: 0.00860655 | D14: 0.15740896 | H14: =SUM(B14:G14) -> 18.55273
A15: B. Emisiones fugitivas de los combustibles | B15: =SUM(B16:B17) -> 293.93745 | C15: =SUM(C16:C17) -> 13.161212 | D15: =SUM(D16:D17) -> 0 | H15: =SUM(B15:G15) -> 307.09866
A16: 1. Combustibles sólidos | H16: =SUM(B16:G16) -> 0
A17: 2. Petróleo y gas natural | B17: 293.93745 | C17: 13.161212 | H17: =SUM(B17:G17) -> 307.09866
A18: 2.. Procesos Industriales | B18: =SUM(B19:B26) -> 1234.4463 | C18: =SUM(C19:C26) -> 1.0403575 | D18: =SUM(D19:D26) -> 42.642444 | E18: =SUM(E19:E26) -> 910.1448 | F18: =SUM(F19:F26) -> 100.43617 | G18: =SUM(G19:G26) -> 17.233062 | H18: =SUM(B18:G18) -> 2305.9432
A19: A. Productos Minerales | B19: 307.5655 | H19: =SUM(B19:G19) -> 307.5655
A20: B. Industria química | B20: 186.32789 | H20: =SUM(B20:G20) -> 186.32789
A21: C. Producción metalúrgica | B21: 686.37828 | C21: 1.0403575 | F21: 100.39384 | H21: =SUM(B21:G21) -> 787.81248
A22: D. Productos no energéticos y uso de disolventes | B22: 54.17465 | H22: =SUM(B22:G22) -> 54.17465
A23: E. Industria electrónica | H23: =SUM(B23:G23) -> 0
A24: F. Uso de sustitutivos de los GEIs | E24: 910.1448 | F24: 0.042331509 | H24: =SUM(B24:G24) -> 910.18713
A25: G. producción y uso de otros productos | D25: 42.642444 | G25: 17.233062 | H25: =SUM(B25:G25) -> 59.875506
A26: H. Otros | H26: =SUM(B26:G26) -> 0
A27: 3. Agricultura | B27: =SUM(B28:B36) -> 12.689793 | C27: =SUM(C28:C36) -> 2552.8987 | D27: =SUM(D28:D36) -> 1002.3435 | H27: =SUM(B27:G27) -> 3567.9321
A28: A. Fermentación entérica | C28: 1988.7623 | H28: =SUM(B28:G28) -> 1988.7623
A29: B. Gestión del estiércol | C29: 563.89987 | D29: 192.91911 | H29: =SUM(B29:G29) -> 756.81898
A30: C. Cultivo de arroz | H30: =SUM(B30:G30) -> 0
A31: D. Suelos agrícolas | D31: 809.3513 | H31: =SUM(B31:G31) -> 809.3513
A32: E. Quemas planificadas de sabanas | H32: =SUM(B32:G32) -> 0
A33: F. Quema en el campo de residuos agrícolas | C33: 0.23658973 | D33: 0.073114896 | H33: =SUM(B33:G33) -> 0.30970462
A34: G. Enmiendas calizas | H34: =SUM(B34:G34) -> 0
A35: H. Fertilización con urea | B35: 11.060886
A36: I. Aplicación fertilizante con carbono | B36: 1.628907 | H36: =SUM(B36:G36) -> 1.628907
A37: 4. Cambios de uso del suelo y silvicultura | H37: =SUM(B37:G37) -> 0
A38: 5. Tratamiento y eliminación de residuos | B38: =SUM(B39:B43) -> 0 | C38: =SUM(C39:C43) -> 543.29851 | D38: =SUM(D39:D43) -> 53.652976 | H38: =SUM(B38:G38) -> 596.95149
A39: A. Depósito en vertederos | C39: 429.19225 | H39: =SUM(B39:G39) -> 429.19225
A40: B. Tratmiento biológico de residuos sólidos | C40: 3.2051937 | D40: 1.6774056 | H40: =SUM(B40:G40) -> 4.8825993
A41: C. Incineración de residuos | C41: 0.95539273 | D41: 3.041995 | H41: =SUM(B41:G41) -> 3.9973878
A42: D. Tratmiento de aguas residuales | C42: 109.30612 | D42: 48.933576 | H42: =SUM(B42:G42) -> 158.23969
A43: E. Otros | C43: 0.63956215 | H43: =SUM(B43:G43) -> 0.63956215
A44: 6. Otros | H44: =SUM(B44:G44) -> 0

Sheet Galicia 2010
A1: EMISIONES DE CO2 EQUIVALENTE | H1: Galicia
H2: Año 2010
A5: GASES DE EFECTO INVERNADERO | B5: CO2 | C5: CH4 | D5: N2O | E5: HFCs | F5: PFCs | G5: SF6 | H5: Total
A6: CATEGORÍAS DE ACTIVIDAD | B6: CO2 equivalente (Kilotoneladas)
A7: Total Emisiones | B7: =SUM(B8,B18,B27,B37,B38,B44) -> 21155.704 | C7: =SUM(C8,C18,C27,C37,C38,C44) -> 3282.6743 | D7: =SUM(D8,D18,D27,D37,D38,D44) -> 1335.252 | E7: =SUM(E8,E18,E27,E37,E38,E44) -> 906.92294 | F7: =SUM(F8,F18,F27,F37,F38,F44) -> 84.820581 | G7: =SUM(G8,G18,G27,G37,G38,G44) -> 17.066346 | H7: =SUM(B7:G7) -> 26782.44
A8: 1. Procesado de la energía | B8: =SUM(B9,B15) -> 19570.484 | C8: =SUM(C9,C15) -> 233.99071 | D8: =SUM(D9,D15) -> 159.15956 | H8: =SUM(B8:G8) -> 19963.634
A9: A. Actividades de combustión | B9: =SUM(B10:B14) -> 19250.228 | C9: =SUM(C10:C14) -> 225.55364 | D9: =SUM(D10:D14) -> 159.15956 | H9: =SUM(B9:G9) -> 19634.941
A10: 1. Industrias del Sector Energético | B10: 7283.8853 | C10: 10.132601 | D10: 42.998984 | H10: =SUM(B10:G10) -> 7337.0169
A11: 2. Industrias manufactureras y de la construcción | B11: 2925.9673 | C11: 39.519846 | D11: 16.835144 | H11: =SUM(B11:G11) -> 2982.3223
A12: 3. Transporte | B12: 5568.2036 | C12: 6.7038897 | D12: 56.467554 | H12: =SUM(B12:G12) -> 5631.3751
A13: 4. Otros Sectores | B13: 3452.0655 | C13: 169.19045 | D13: 42.685164 | H13: =SUM(B13:G13) -> 3663.9412
A14: 5. Otros | B14: 20.106306 | C14: 0.0068511 | D14: 0.17271097 | H14: =SUM(B14:G14) -> 20.285868
A15: B. Emisiones fugitivas de los combustibles | B15: =SUM(B16:B17) -> 320.25547 | C15: =SUM(C16:C17) -> 8.4370769 | D15: =SUM(D16:D17) -> 0 | H15: =SUM(B15:G15) -> 328.69254
A16: 1. Combustibles sólidos | H16: =SUM(B16:G16) -> 0
A17: 2. Petróleo y gas natural | B17: 320.25547 | C17: 8.4370769 | H17: =SUM(B17:G17) -> 328.69254
A18: 2.. Procesos Industriales | B18: =SUM(B19:B26) -> 1564.3215 | C18: =SUM(C19:C26) -> 2.203305 | D18: =SUM(D19:D26) -> 40.35674 | E18: =SUM(E19:E26) -> 906.92294 | F18: =SUM(F19:F26) -> 84.820581 | G18: =SUM(G19:G26) -> 17.066346 | H18: =SUM(B18:G18) -> 2615.6914
A19: A. Productos Minerales | B19: 286.11307 | H19: =SUM(B19:G19) -> 286.11307
A20: B. Industria química | B20: 194.57557 | H20: =SUM(B20:G20) -> 194.57557
A21: C. Producción metalúrgica | B21: 1029.4169 | C21: 2.203305 | F21: 84.778619 | H21: =SUM(B21:G21) -> 1116.3988
A22: D. Productos no energéticos y uso de disolventes | B22: 54.215945 | H22: =SUM(B22:G22) -> 54.215945
A23: E. Industria electrónica | H23: =SUM(B23:G23) -> 0
A24: F. Uso de sustitutivos de los GEIs | E24: 906.92294 | F24: 0.041961992 | H24: =SUM(B24:G24) -> 906.9649
A25: G. producción y uso de otros productos | D25: 40.35674 | G25: 17.066346 | H25: =SUM(B25:G25) -> 57.423086
A26: H. Otros | H26: =SUM(B26:G26) -> 0
A27: 3. Agricultura | B27: =SUM(B28:B36) -> 20.898869 | C27: =SUM(C28:C36) -> 2540.5475 | D27: =SUM(D28:D36) -> 1082.5547 | H27: =SUM(B27:G27) -> 3644.001
A28: A. Fermentación entérica | C28: 2015.5816 | H28: =SUM(B28:G28) -> 2015.5816
A29: B. Gestión del estiércol | C29: 524.74666 | D29: 199.29024 | H29: =SUM(B29:G29) -> 724.0369
A30: C. Cultivo de arroz | H30: =SUM(B30:G30) -> 0
A31: D. Suelos agrícolas | D31: 883.1967 | H31: =SUM(B31:G31) -> 883.1967
A32: E. Quemas planificadas de sabanas | H32: =SUM(B32:G32) -> 0
A33: F. Quema en el campo de residuos agrícolas | C33: 0.2191583 | D33: 0.06772795 | H33: =SUM(B33:G33) -> 0.28688625
A34: G. Enmiendas calizas | H34: =SUM(B34:G34) -> 0
A35: H. Fertilización con urea | B35: 17.823512
A36: I. Aplicación fertilizante con carbono | B36: 3.075357 | H36: =SUM(B36:G36) -> 3.075357
A37: 4. Cambios de uso del suelo y silvicultura | H37: =SUM(B37:G37) -> 0
A38: 5. Tratamiento y eliminación de residuos | B38: =SUM(B39:B43) -> 0 | C38: =SUM(C39:C43) -> 505.93284 | D38: =SUM(D39:D43) -> 53.181012 | H38: =SUM(B38:G38) -> 559.11385
A39: A. Depósito en vertederos | C39: 402.7151 | H39: =SUM(B39:G39) -> 402.7151
A40: B. Tratmiento biológico de residuos sólidos | C40: 1.79804 | D40: 1.1215766 | H40: =SUM(B40:G40) -> 2.9196166
A41: C. Incineración de residuos | C41: 1.0354949 | D41: 3.6660446 | H41: =SUM(B41:G41) -> 4.7015395
A42: D. Tratmiento de aguas residuales | C42: 100.33475 | D42: 48.393391 | H42: =SUM(B42:G42) -> 148.72814
A43: E. Otros | C43: 0.04944535 | H43: =SUM(B43:G43) -> 0.04944535
A44: 6. Otros | H44: =SUM(B44:G44) -> 0

Sheet Galicia 2011
A1: EMISIONES DE CO2 EQUIVALENTE | H1: Galicia
H2: Año 2011
A5: GASES DE EFECTO INVERNADERO | B5: CO2 | C5: CH4 | D5: N2O | E5: HFCs | F5: PFCs | G5: SF6 | H5: Total
A6: CATEGORÍAS DE ACTIVIDAD | B6: CO2 equivalente (Kilotoneladas)
A7: Total Emisiones | B7: =SUM(B8,B18,B27,B37,B38,B44) -> 22702.619 | C7: =SUM(C8,C18,C27,C37,C38,C44) -> 3369.9982 | D7: =SUM(D8,D18,D27,D37,D38,D44) -> 1350.7298 | E7: =SUM(E8,E18,E27,E37,E38,E44) -> 909.34052 | F7: =SUM(F8,F18,F27,F37,F38,F44) -> 68.203921 | G7: =SUM(G8,G18,G27,G37,G38,G44) -> 17.820155 | H7: =SUM(B7:G7) -> 28418.712
A8: 1. Procesado de la energía | B8: =SUM(B9,B15) -> 21129.593 | C8: =SUM(C9,C15) -> 223.96107 | D8: =SUM(D9,D15) -> 168.14698 | H8: =SUM(B8:G8) -> 21521.701
A9: A. Actividades de combustión | B9: =SUM(B10:B14) -> 20840.992 | C9: =SUM(C10:C14) -> 216.61392 | D9: =SUM(D10:D14) -> 168.14698 | H9: =SUM(B9:G9) -> 21225.753
A10: 1. Industrias del Sector Energético | B10: 9511.8103 | C10: 7.2728082 | D10: 54.452052 | H10: =SUM(B10:G10) -> 9573.5352
A11: 2. Industrias manufactureras y de la construcción | B11: 2727.6118 | C11: 35.199893 | D11: 16.804535 | H11: =SUM(B11:G11) -> 2779.6163
A12: 3. Transporte | B12: 5254.8866 | C12: 5.858176 | D12: 54.656422 | H12: =SUM(B12:G12) -> 5315.4012
A13: 4. Otros Sectores | B13: 3327.8363 | C13: 168.27625 | D13: 42.07085 | H13: =SUM(B13:G13) -> 3538.1834
A14: 5. Otros | B14: 18.846733 | C14: 0.006797425 | D14: 0.1631255 | H14: =SUM(B14:G14) -> 19.016656
A15: B. Emisiones fugitivas de los combustibles | B15: =SUM(B16:B17) -> 288.60146 | C15: =SUM(C16:C17) -> 7.3471465 | D15: =SUM(D16:D17) -> 0 | H15: =SUM(B15:G15) -> 295.94861
A16: 1. Combustibles sólidos | H16: =SUM(B16:G16) -> 0
A17: 2. Petróleo y gas natural | B17: 288.60146 | C17: 7.3471465 | H17: =SUM(B17:G17) -> 295.94861
A18: 2.. Procesos Industriales | B18: =SUM(B19:B26) -> 1552.7955 | C18: =SUM(C19:C26) -> 2.2386 | D18: =SUM(D19:D26) -> 35.05461 | E18: =SUM(E19:E26) -> 909.34052 | F18: =SUM(F19:F26) -> 68.203921 | G18: =SUM(G19:G26) -> 17.820155 | H18: =SUM(B18:G18) -> 2585.4533
A19: A. Productos Minerales | B19: 239.07224 | H19: =SUM(B19:G19) -> 239.07224
A20: B. Industria química | B20: 192.134 | H20: =SUM(B20:G20) -> 192.134
A21: C. Producción metalúrgica | B21: 1071.2569 | C21: 2.2386 | F21: 68.164011 | H21: =SUM(B21:G21) -> 1141.6595
A22: D. Productos no energéticos y uso de disolventes | B22: 50.33231 | H22: =SUM(B22:G22) -> 50.33231
A23: E. Industria electrónica | H23: =SUM(B23:G23) -> 0
A24: F. Uso de sustitutivos de los GEIs | E24: 909.34052 | F24: 0.039909456 | H24: =SUM(B24:G24) -> 909.38043
A25: G. producción y uso de otros productos | D25: 35.05461 | G25: 17.820155 | H25: =SUM(B25:G25) -> 52.874765
A26: H. Otros | H26: =SUM(B26:G26) -> 0
A27: 3. Agricultura | B27: =SUM(B28:B36) -> 20.230769 | C27: =SUM(C28:C36) -> 2641.6016 | D27: =SUM(D28:D36) -> 1093.5564 | H27: =SUM(B27:G27) -> 3755.3888
A28: A. Fermentación entérica | C28: 2059.7531 | H28: =SUM(B28:G28) -> 2059.7531
A29: B. Gestión del estiércol | C29: 581.75194 | D29: 208.37193 | H29: =SUM(B29:G29) -> 790.12386
A30: C. Cultivo de arroz | H30: =SUM(B30:G30) -> 0
A31: D. Suelos agrícolas | D31: 885.15466 | H31: =SUM(B31:G31) -> 885.15466
A32: E. Quemas planificadas de sabanas | H32: =SUM(B32:G32) -> 0
A33: F. Quema en el campo de residuos agrícolas | C33: 0.0965339 | D33: 0.02983278 | H33: =SUM(B33:G33) -> 0.12636668
A34: G. Enmiendas calizas | H34: =SUM(B34:G34) -> 0
A35: H. Fertilización con urea | B35: 17.263134
A36: I. Aplicación fertilizante con carbono | B36: 2.967635 | H36: =SUM(B36:G36) -> 2.967635
A37: 4. Cambios de uso del suelo y silvicultura | H37: =SUM(B37:G37) -> 0
A38: 5. Tratamiento y eliminación de residuos | B38: =SUM(B39:B43) -> 0 | C38: =SUM(C39:C43) -> 502.19701 | D38: =SUM(D39:D43) -> 53.971829 | H38: =SUM(B38:G38) -> 556.16883
A39: A. Depósito en vertederos | C39: 394.04926 | H39: =SUM(B39:G39) -> 394.04926
A40: B. Tratmiento biológico de residuos sólidos | C40: 1.3321 | D40: 0.70454352 | H40: =SUM(B40:G40) -> 2.0366435
A41: C. Incineración de residuos | C41: 1.3119638 | D41: 4.4689329 | H41: =SUM(B41:G41) -> 5.7808966
A42: D. Tratmiento de aguas residuales | C42: 105.46007 | D42: 48.798352 | H42: =SUM(B42:G42) -> 154.25842
A43: E. Otros | C43: 0.043616725 | H43: =SUM(B43:G43) -> 0.043616725
A44: 6. Otros | H44: =SUM(B44:G44) -> 0

Sheet Galicia 2012
A1: EMISIONES DE CO2 EQUIVALENTE | H1: Galicia
H2: Año 2012
A5: GASES DE EFECTO INVERNADERO | B5: CO2 | C5: CH4 | D5: N2O | E5: HFCs | F5: PFCs | G5: SF6 | H5: Total
A6: CATEGORÍAS DE ACTIVIDAD | B6: CO2 equivalente (Kilotoneladas)
A7: Total Emisiones | B7: =SUM(B8,B18,B27,B37,B38,B44) -> 25531.517 | C7: =SUM(C8,C18,C27,C37,C38,C44) -> 3371.6276 | D7: =SUM(D8,D18,D27,D37,D38,D44) -> 1352.778 | E7: =SUM(E8,E18,E27,E37,E38,E44) -> 935.16807 | F7: =SUM(F8,F18,F27,F37,F38,F44) -> 41.263458 | G7: =SUM(G8,G18,G27,G37,G38,G44) -> 16.389808 | H7: =SUM(B7:G7) -> 31248.744
A8: 1. Procesado de la energía | B8: =SUM(B9,B15) -> 24067.707 | C8: =SUM(C9,C15) -> 234.34337 | D8: =SUM(D9,D15) -> 177.96237 | H8: =SUM(B8:G8) -> 24480.013
A9: A. Actividades de combustión | B9: =SUM(B10:B14) -> 23819.22 | C9: =SUM(C10:C14) -> 227.93941 | D9: =SUM(D10:D14) -> 177.96237 | H9: =SUM(B9:G9) -> 24225.122
A10: 1. Industrias del Sector Energético | B10: 13109.534 | C10: 8.360844 | D10: 67.216869 | H10: =SUM(B10:G10) -> 13185.112
A11: 2. Industrias manufactureras y de la construcción | B11: 2632.2846 | C11: 41.367206 | D11: 16.946794 | H11: =SUM(B11:G11) -> 2690.5986
A12: 3. Transporte | B12: 4741.7858 | C12: 5.2476941 | D12: 51.072327 | H12: =SUM(B12:G12) -> 4798.1058
A13: 4. Otros Sectores | B13: 3318.826 | C13: 172.95835 | D13: 42.579373 | H13: =SUM(B13:G13) -> 3534.3637
A14: 5. Otros | B14: 16.789742 | C14: 0.0053155 | D14: 0.14700966 | H14: =SUM(B14:G14) -> 16.942067
A15: B. Emisiones fugitivas de los combustibles | B15: =SUM(B16:B17) -> 248.48709 | C15: =SUM(C16:C17) -> 6.4039524 | D15: =SUM(D16:D17) -> 0 | H15: =SUM(B15:G15) -> 254.89104
A16: 1. Combustibles sólidos | H16: =SUM(B16:G16) -> 0
A17: 2. Petróleo y gas natural | B17: 248.48709 | C17: 6.4039524 | H17: =SUM(B17:G17) -> 254.89104
A18: 2.. Procesos Industriales | B18: =SUM(B19:B26) -> 1442.7523 | C18: =SUM(C19:C26) -> 2.1417175 | D18: =SUM(D19:D26) -> 28.055369 | E18: =SUM(E19:E26) -> 935.16807 | F18: =SUM(F19:F26) -> 41.263458 | G18: =SUM(G19:G26) -> 16.389808 | H18: =SUM(B18:G18) -> 2465.7707
A19: A. Productos Minerales | B19: 207.23291 | H19: =SUM(B19:G19) -> 207.23291
A20: B. Industria química | B20: 214.53248 | H20: =SUM(B20:G20) -> 214.53248
A21: C. Producción metalúrgica | B21: 974.69746 | C21: 2.1417175 | F21: 41.228255 | H21: =SUM(B21:G21) -> 1018.0674
A22: D. Productos no energéticos y uso de disolventes | B22: 46.289475 | H22: =SUM(B22:G22) -> 46.289475
A23: E. Industria electrónica | H23: =SUM(B23:G23) -> 0
A24: F. Uso de sustitutivos de los GEIs | E24: 935.16807 | F24: 0.035203855 | H24: =SUM(B24:G24) -> 935.20327
A25: G. producción y uso de otros productos | D25: 28.055369 | G25: 16.389808 | H25: =SUM(B25:G25) -> 44.445177
A26: H. Otros | H26: =SUM(B26:G26) -> 0
A27: 3. Agricultura | B27: =SUM(B28:B36) -> 21.057989 | C27: =SUM(C28:C36) -> 2578.5847 | D27: =SUM(D28:D36) -> 1093.578 | H27: =SUM(B27:G27) -> 3693.2207
A28: A. Fermentación entérica | C28: 2047.843 | H28: =SUM(B28:G28) -> 2047.843
A29: B. Gestión del estiércol | C29: 530.50397 | D29: 205.26959 | H29: =SUM(B29:G29) -> 735.77356
A30: C. Cultivo de arroz | H30: =SUM(B30:G30) -> 0
A31: D. Suelos agrícolas | D31: 888.23499 | H31: =SUM(B31:G31) -> 888.23499
A32: E. Quemas planificadas de sabanas | H32: =SUM(B32:G32) -> 0
A33: F. Quema en el campo de residuos agrícolas | C33: 0.23771158 | D33: 0.073461768 | H33: =SUM(B33:G33) -> 0.31117334
A34: G. Enmiendas calizas | H34: =SUM(B34:G34) -> 0
A35: H. Fertilización con urea | B35: 18.328882
A36: I. Aplicación fertilizante con carbono | B36: 2.729107 | H36: =SUM(B36:G36) -> 2.729107
A37: 4. Cambios de uso del suelo y silvicultura | H37: =SUM(B37:G37) -> 0
A38: 5. Tratamiento y eliminación de residuos | B38: =SUM(B39:B43) -> 0 | C38: =SUM(C39:C43) -> 556.55789 | D38: =SUM(D39:D43) -> 53.182163 | H38: =SUM(B38:G38) -> 609.74005
A39: A. Depósito en vertederos | C39: 451.9603 | H39: =SUM(B39:G39) -> 451.9603
A40: B. Tratmiento biológico de residuos sólidos | C40: 2.2882838 | D40: 0.7084056 | H40: =SUM(B40:G40) -> 2.9966894
A41: C. Incineración de residuos | C41: 0.84587076 | D41: 3.6677882 | H41: =SUM(B41:G41) -> 4.5136589
A42: D. Tratmiento de aguas residuales | C42: 101.41978 | D42: 48.805969 | H42: =SUM(B42:G42) -> 150.22575
A43: E. Otros | C43: 0.043646 | H43: =SUM(B43:G43) -> 0.043646
A44: 6. Otros | H44: =SUM(B44:G44) -> 0

Sheet Galicia 2013
A1: EMISIONES DE CO2 EQUIVALENTE | H1: Galicia
H2: Año 2013
A5: GASES DE EFECTO INVERNADERO | B5: CO2 | C5: CH4 | D5: N2O | E5: HFCs | F5: PFCs | G5: SF6 | H5: Total
A6: CATEGORÍAS DE ACTIVIDAD | B6: CO2 equivalente (Kilotoneladas)
A7: Total Emisiones | B7: =SUM(B8,B18,B27,B37,B38,B44) -> 22436.142 | C7: =SUM(C8,C18,C27,C37,C38,C44) -> 3291.658 | D7: =SUM(D8,D18,D27,D37,D38,D44) -> 1336.8255 | E7: =SUM(E8,E18,E27,E37,E38,E44) -> 946.43338 | F7: =SUM(F8,F18,F27,F37,F38,F44) -> 54.021013 | G7: =SUM(G8,G18,G27,G37,G38,G44) -> 15.929518 | H7: =SUM(B7:G7) -> 28081.009
A8: 1. Procesado de la energía | B8: =SUM(B9,B15) -> 21118.825 | C8: =SUM(C9,C15) -> 227.84649 | D8: =SUM(D9,D15) -> 161.54065 | H8: =SUM(B8:G8) -> 21508.213
A9: A. Actividades de combustión | B9: =SUM(B10:B14) -> 20844.189 | C9: =SUM(C10:C14) -> 220.53895 | D9: =SUM(D10:D14) -> 161.51029 | H9: =SUM(B9:G9) -> 21226.238
A10: 1. Industrias del Sector Energético | B10: 10381.597 | C10: 6.2700203 | D10: 54.633331 | H10: =SUM(B10:G10) -> 10442.501
A11: 2. Industrias manufactureras y de la construcción | B11: 2495.4108 | C11: 47.418222 | D11: 14.511833 | H11: =SUM(B11:G11) -> 2557.3409
A12: 3. Transporte | B12: 4860.1999 | C12: 4.8905696 | D12: 50.246405 | H12: =SUM(B12:G12) -> 4915.3368
A13: 4. Otros Sectores | B13: 3092.201 | C13: 161.9561 | D13: 41.989198 | H13: =SUM(B13:G13) -> 3296.1463
A14: 5. Otros | B14: 14.779614 | C14: 0.004038075 | D14: 0.12952361 | H14: =SUM(B14:G14) -> 14.913176
A15: B. Emisiones fugitivas de los combustibles | B15: =SUM(B16:B17) -> 274.63659 | C15: =SUM(C16:C17) -> 7.3075427 | D15: =SUM(D16:D17) -> 0.030356366 | H15: =SUM(B15:G15) -> 281.97449
A16: 1. Combustibles sólidos | H16: =SUM(B16:G16) -> 0
A17: 2. Petróleo y gas natural | B17: 274.63659 | C17: 7.3075427 | D17: 0.030356366 | H17: =SUM(B17:G17) -> 281.97449
A18: 2.. Procesos Industriales | B18: =SUM(B19:B26) -> 1296.1398 | C18: =SUM(C19:C26) -> 2.2967425 | D18: =SUM(D19:D26) -> 22.905593 | E18: =SUM(E19:E26) -> 946.43338 | F18: =SUM(F19:F26) -> 54.021013 | G18: =SUM(G19:G26) -> 15.929518 | H18: =SUM(B18:G18) -> 2337.726
A19: A. Productos Minerales | B19: 108.31778 | H19: =SUM(B19:G19) -> 108.31778
A20: B. Industria química | B20: 166.2346 | H20: =SUM(B20:G20) -> 166.2346
A21: C. Producción metalúrgica | B21: 974.63597 | C21: 2.2967425 | F21: 53.988143 | H21: =SUM(B21:G21) -> 1030.9209
A22: D. Productos no energéticos y uso de disolventes | B22: 46.951454 | H22: =SUM(B22:G22) -> 46.951454
A23: E. Industria electrónica | H23: =SUM(B23:G23) -> 0
A24: F. Uso de sustitutivos de los GEIs | E24: 946.43338 | F24: 0.032869784 | H24: =SUM(B24:G24) -> 946.46625
A25: G. producción y uso de otros productos | D25: 22.905593 | G25: 15.929518 | H25: =SUM(B25:G25) -> 38.835111
A26: H. Otros | H26: =SUM(B26:G26) -> 0
A27: 3. Agricultura | B27: =SUM(B28:B36) -> 21.17645 | C27: =SUM(C28:C36) -> 2617.7441 | D27: =SUM(D28:D36) -> 1091.7305 | H27: =SUM(B27:G27) -> 3730.6511
A28: A. Fermentación entérica | C28: 2053.5471 | H28: =SUM(B28:G28) -> 2053.5471
A29: B. Gestión del estiércol | C29: 563.96241 | D29: 207.16864 | H29: =SUM(B29:G29) -> 771.13105
A30: C. Cultivo de arroz | H30: =SUM(B30:G30) -> 0
A31: D. Suelos agrícolas | D31: 884.48935 | H31: =SUM(B31:G31) -> 884.48935
A32: E. Quemas planificadas de sabanas | H32: =SUM(B32:G32) -> 0
A33: F. Quema en el campo de residuos agrícolas | C33: 0.23462298 | D33: 0.072507274 | H33: =SUM(B33:G33) -> 0.30713025
A34: G. Enmiendas calizas | H34: =SUM(B34:G34) -> 0
A35: H. Fertilización con urea | B35: 18.446545
A36: I. Aplicación fertilizante con carbono | B36: 2.729905 | H36: =SUM(B36:G36) -> 2.729905
A37: 4. Cambios de uso del suelo y silvicultura | H37: =SUM(B37:G37) -> 0
A38: 5. Tratamiento y eliminación de residuos | B38: =SUM(B39:B43) -> 0 | C38: =SUM(C39:C43) -> 443.77063 | D38: =SUM(D39:D43) -> 60.648778 | H38: =SUM(B38:G38) -> 504.41941
A39: A. Depósito en vertederos | C39: 352.90096 | H39: =SUM(B39:G39) -> 352.90096
A40: B. Tratmiento biológico de residuos sólidos | C40: 6.4954554 | D40: 4.1615342 | H40: =SUM(B40:G40) -> 10.65699
A41: C. Incineración de residuos | C41: 1.0387418 | D41: 3.2952482 | H41: =SUM(B41:G41) -> 4.3339901
A42: D. Tratmiento de aguas residuales | C42: 83.320425 | D42: 53.191996 | H42: =SUM(B42:G42) -> 136.51242
A43: E. Otros | C43: 0.015051 | H43: =SUM(B43:G43) -> 0.015051
A44: 6. Otros | H44: =SUM(B44:G44) -> 0

Sheet Galicia 2014
A1: EMISIONES DE CO2 EQUIVALENTE | H1: Galicia
H2: Año 2014
A5: GASES DE EFECTO INVERNADERO | B5: CO2 | C5: CH4 | D5: N2O | E5: HFCs | F5: PFCs | G5: SF6 | H5: Total
A6: CATEGORÍAS DE ACTIVIDAD | B6: CO2 equivalente (Kilotoneladas)
A7: Total Emisiones | B7: =SUM(B8,B18,B27,B37,B38,B44) -> 22660.8 | C7: =SUM(C8,C18,C27,C37,C38,C44) -> 3307.0656 | D7: =SUM(D8,D18,D27,D37,D38,D44) -> 1344.352 | E7: =SUM(E8,E18,E27,E37,E38,E44) -> 931.74597 | F7: =SUM(F8,F18,F27,F37,F38,F44) -> 51.052833 | G7: =SUM(G8,G18,G27,G37,G38,G44) -> 15.635843 | H7: =SUM(B7:G7) -> 28310.652
A8: 1. Procesado de la energía | B8: =SUM(B9,B15) -> 21303.224 | C8: =SUM(C9,C15) -> 223.47661 | D8: =SUM(D9,D15) -> 167.04525 | H8: =SUM(B8:G8) -> 21693.746
A9: A. Actividades de combustión | B9: =SUM(B10:B14) -> 21010.351 | C9: =SUM(C10:C14) -> 214.53938 | D9: =SUM(D10:D14) -> 166.96667 | H9: =SUM(B9:G9) -> 21391.857
A10: 1. Industrias del Sector Energético | B10: 10351.891 | C10: 5.8478005 | D10: 51.427143 | H10: =SUM(B10:G10) -> 10409.166
A11: 2. Industrias manufactureras y de la construcción | B11: 2200.3045 | C11: 41.258578 | D11: 17.506626 | H11: =SUM(B11:G11) -> 2259.0697
A12: 3. Transporte | B12: 4932.9963 | C12: 4.9610865 | D12: 51.569976 | H12: =SUM(B12:G12) -> 4989.5274
A13: 4. Otros Sectores | B13: 3507.3965 | C13: 162.46659 | D13: 46.304644 | H13: =SUM(B13:G13) -> 3716.1677
A14: 5. Otros | B14: 17.762694 | C14: 0.005322875 | D14: 0.1582833 | H14: =SUM(B14:G14) -> 17.9263
A15: B. Emisiones fugitivas de los combustibles | B15: =SUM(B16:B17) -> 292.87361 | C15: =SUM(C16:C17) -> 8.9372321 | D15: =SUM(D16:D17) -> 0.078574256 | H15: =SUM(B15:G15) -> 301.88941
A16: 1. Combustibles sólidos | H16: =SUM(B16:G16) -> 0
A17: 2. Petróleo y gas natural | B17: 292.87361 | C17: 8.9372321 | D17: 0.078574256 | H17: =SUM(B17:G17) -> 301.88941
A18: 2.. Procesos Industriales | B18: =SUM(B19:B26) -> 1335.426 | C18: =SUM(C19:C26) -> 2.6420875 | D18: =SUM(D19:D26) -> 23.009035 | E18: =SUM(E19:E26) -> 931.74597 | F18: =SUM(F19:F26) -> 51.052833 | G18: =SUM(G19:G26) -> 15.635843 | H18: =SUM(B18:G18) -> 2359.5118
A19: A. Productos Minerales | B19: 84.852082 | H19: =SUM(B19:G19) -> 84.852082
A20: B. Industria química | B20: 191.15729 | H20: =SUM(B20:G20) -> 191.15729
A21: C. Producción metalúrgica | B21: 1012.4286 | C21: 2.6420875 | F21: 50.969889 | H21: =SUM(B21:G21) -> 1066.0406
A22: D. Productos no energéticos y uso de disolventes | B22: 46.988037 | H22: =SUM(B22:G22) -> 46.988037
A23: E. Industria electrónica | H23: =SUM(B23:G23) -> 0
A24: F. Uso de sustitutivos de los GEIs | E24: 931.74597 | F24: 0.082944015 | H24: =SUM(B24:G24) -> 931.82892
A25: G. producción y uso de otros productos | D25: 23.009035 | G25: 15.635843 | H25: =SUM(B25:G25) -> 38.644878
A26: H. Otros | H26: =SUM(B26:G26) -> 0
A27: 3. Agricultura | B27: =SUM(B28:B36) -> 22.149278 | C27: =SUM(C28:C36) -> 2647.9372 | D27: =SUM(D28:D36) -> 1093.7903 | H27: =SUM(B27:G27) -> 3763.8767
A28: A. Fermentación entérica | C28: 2059.3871 | H28: =SUM(B28:G28) -> 2059.3871
A29: B. Gestión del estiércol | C29: 588.31861 | D29: 207.94291 | H29: =SUM(B29:G29) -> 796.26152
A30: C. Cultivo de arroz | H30: =SUM(B30:G30) -> 0
A31: D. Suelos agrícolas | D31: 885.77581 | H31: =SUM(B31:G31) -> 885.77581
A32: E. Quemas planificadas de sabanas | H32: =SUM(B32:G32) -> 0
A33: F. Quema en el campo de residuos agrícolas | C33: 0.23147918 | D33: 0.071535794 | H33: =SUM(B33:G33) -> 0.30301497
A34: G. Enmiendas calizas | H34: =SUM(B34:G34) -> 0
A35: H. Fertilización con urea | B35: 19.52505
A36: I. Aplicación fertilizante con carbono | B36: 2.624228 | H36: =SUM(B36:G36) -> 2.624228
A37: 4. Cambios de uso del suelo y silvicultura | H37: =SUM(B37:G37) -> 0
A38: 5. Tratamiento y eliminación de residuos | B38: =SUM(B39:B43) -> 0 | C38: =SUM(C39:C43) -> 433.00972 | D38: =SUM(D39:D43) -> 60.507459 | H38: =SUM(B38:G38) -> 493.51717
A39: A. Depósito en vertederos | C39: 337.3866 | H39: =SUM(B39:G39) -> 337.3866
A40: B. Tratmiento biológico de residuos sólidos | C40: 10.145905 | D40: 6.4309354 | H40: =SUM(B40:G40) -> 16.57684
A41: C. Incineración de residuos | C41: 0.9069481 | D41: 2.8740291 | H41: =SUM(B41:G41) -> 3.7809772
A42: D. Tratmiento de aguas residuales | C42: 84.550833 | D42: 51.202494 | H42: =SUM(B42:G42) -> 135.75333
A43: E. Otros | C43: 0.01942535 | H43: =SUM(B43:G43) -> 0.01942535
A44: 6. Otros | H44: =SUM(B44:G44) -> 0

Sheet Galicia 2015
A1: EMISIONES DE CO2 EQUIVALENTE | H1: Galicia
H2: Año 2015
A5: GASES DE EFECTO INVERNADERO | B5: CO2 | C5: CH4 | D5: N2O | E5: HFCs | F5: PFCs | G5: SF6 | H5: Total
A6: CATEGORÍAS DE ACTIVIDAD | B6: CO2 equivalente (Kilotoneladas)
A7: Total Emisiones | B7: =SUM(B8,B18,B27,B37,B38,B44) -> 23995.64 | C7: =SUM(C8,C18,C27,C37,C38,C44) -> 3275.8077 | D7: =SUM(D8,D18,D27,D37,D38,D44) -> 1338.1203 | E7: =SUM(E8,E18,E27,E37,E38,E44) -> 535.84418 | F7: =SUM(F8,F18,F27,F37,F38,F44) -> 72.765425 | G7: =SUM(G8,G18,G27,G37,G38,G44) -> 16.481545 | H7: =SUM(B7:G7) -> 29234.66
A8: 1. Procesado de la energía | B8: =SUM(B9,B15) -> 22652.746 | C8: =SUM(C9,C15) -> 214.64996 | D8: =SUM(D9,D15) -> 173.46344 | H8: =SUM(B8:G8) -> 23040.859
A9: A. Actividades de combustión | B9: =SUM(B10:B14) -> 22335.451 | C9: =SUM(C10:C14) -> 208.48286 | D9: =SUM(D10:D14) -> 173.45273 | H9: =SUM(B9:G9) -> 22717.386
A10: 1. Industrias del Sector Energético | B10: 11834.425 | C10: 3.9182611 | D10: 56.449067 | H10: =SUM(B10:G10) -> 11894.792
A11: 2. Industrias manufactureras y de la construcción | B11: 2016.7078 | C11: 39.045562 | D11: 18.238512 | H11: =SUM(B11:G11) -> 2073.9918
A12: 3. Transporte | B12: 5070.8463 | C12: 4.9447506 | D12: 53.51169 | H12: =SUM(B12:G12) -> 5129.3027
A13: 4. Otros Sectores | B13: 3395.7597 | C13: 160.56752 | D13: 45.104748 | H13: =SUM(B13:G13) -> 3601.432
A14: 5. Otros | B14: 17.712222 | C14: 0.00677375 | D14: 0.14871571 | H14: =SUM(B14:G14) -> 17.867711
A15: B. Emisiones fugitivas de los combustibles | B15: =SUM(B16:B17) -> 317.29505 | C15: =SUM(C16:C17) -> 6.1670942 | D15: =SUM(D16:D17) -> 0.010711431 | H15: =SUM(B15:G15) -> 323.47286
A16: 1. Combustibles sólidos | H16: =SUM(B16:G16) -> 0
A17: 2. Petróleo y gas natural | B17: 317.29505 | C17: 6.1670942 | D17: 0.010711431 | H17: =SUM(B17:G17) -> 323.47286
A18: 2.. Procesos Industriales | B18: =SUM(B19:B26) -> 1322.9352 | C18: =SUM(C19:C26) -> 2.48755 | D18: =SUM(D19:D26) -> 18.196096 | E18: =SUM(E19:E26) -> 535.84418 | F18: =SUM(F19:F26) -> 72.765425 | G18: =SUM(G19:G26) -> 16.481545 | H18: =SUM(B18:G18) -> 1968.71
A19: A. Productos Minerales | B19: 97.474001 | H19: =SUM(B19:G19) -> 97.474001
A20: B. Industria química | B20: 193.11576 | H20: =SUM(B20:G20) -> 193.11576
A21: C. Producción metalúrgica | B21: 986.28304 | C21: 2.48755 | F21: 72.358043 | H21: =SUM(B21:G21) -> 1061.1286
A22: D. Productos no energéticos y uso de disolventes | B22: 46.062351 | H22: =SUM(B22:G22) -> 46.062351
A23: E. Industria electrónica | H23: =SUM(B23:G23) -> 0
A24: F. Uso de sustitutivos de los GEIs | E24: 535.84418 | F24: 0.40738258 | H24: =SUM(B24:G24) -> 536.25157
A25: G. producción y uso de otros productos | D25: 18.196096 | G25: 16.481545 | H25: =SUM(B25:G25) -> 34.677642
A26: H. Otros | H26: =SUM(B26:G26) -> 0
A27: 3. Agricultura | B27: =SUM(B28:B36) -> 19.959642 | C27: =SUM(C28:C36) -> 2648.982 | D27: =SUM(D28:D36) -> 1090.5781 | H27: =SUM(B27:G27) -> 3759.5197
A28: A. Fermentación entérica | C28: 2063.9205 | H28: =SUM(B28:G28) -> 2063.9205
A29: B. Gestión del estiércol | C29: 584.85089 | D29: 205.02069 | H29: =SUM(B29:G29) -> 789.87158
A30: C. Cultivo de arroz | H30: =SUM(B30:G30) -> 0
A31: D. Suelos agrícolas | D31: 885.49228 | H31: =SUM(B31:G31) -> 885.49228
A32: E. Quemas planificadas de sabanas | H32: =SUM(B32:G32) -> 0
A33: F. Quema en el campo de residuos agrícolas | C33: 0.21059897 | D33: 0.065082902 | H33: =SUM(B33:G33) -> 0.27568188
A34: G. Enmiendas calizas | H34: =SUM(B34:G34) -> 0
A35: H. Fertilización con urea | B35: 17.401273
A36: I. Aplicación fertilizante con carbono | B36: 2.558369 | H36: =SUM(B36:G36) -> 2.558369
A37: 4. Cambios de uso del suelo y silvicultura | H37: =SUM(B37:G37) -> 0
A38: 5. Tratamiento y eliminación de residuos | B38: =SUM(B39:B43) -> 0 | C38: =SUM(C39:C43) -> 409.68811 | D38: =SUM(D39:D43) -> 55.882744 | H38: =SUM(B38:G38) -> 465.57086
A39: A. Depósito en vertederos | C39: 317.37431 | H39: =SUM(B39:G39) -> 317.37431
A40: B. Tratmiento biológico de residuos sólidos | C40: 5.7783136 | D40: 3.2709672 | H40: =SUM(B40:G40) -> 9.0492808
A41: C. Incineración de residuos | C41: 0.83982796 | D41: 2.5460247 | H41: =SUM(B41:G41) -> 3.3858526
A42: D. Tratmiento de aguas residuales | C42: 85.673205 | D42: 50.065752 | H42: =SUM(B42:G42) -> 135.73896
A43: E. Otros | C43: 0.02245575 | H43: =SUM(B43:G43) -> 0.02245575
A44: 6. Otros | H44: =SUM(B44:G44) -> 0

Sheet Galicia 2016
A1: EMISIONES DE CO2 EQUIVALENTE | H1: Galicia
H2: Año 2016
A5: GASES DE EFECTO INVERNADERO | B5: CO2 | C5: CH4 | D5: N2O | E5: HFCs | F5: PFCs | G5: SF6 | H5: Total
A6: CATEGORÍAS DE ACTIVIDAD | B6: CO2 equivalente (Kilotoneladas)
A7: Total Emisiones | B7: =SUM(B8,B18,B27,B37,B38,B44) -> 22765.285 | C7: =SUM(C8,C18,C27,C37,C38,C44) -> 3143.9445 | D7: =SUM(D8,D18,D27,D37,D38,D44) -> 1333.3784 | E7: =SUM(E8,E18,E27,E37,E38,E44) -> 523.55404 | F7: =SUM(F8,F18,F27,F37,F38,F44) -> 68.642326 | G7: =SUM(G8,G18,G27,G37,G38,G44) -> 17.094383 | H7: =SUM(B7:G7) -> 27851.898
A8: 1. Procesado de la energía | B8: =SUM(B9,B15) -> 21443.395 | C8: =SUM(C9,C15) -> 170.2462 | D8: =SUM(D9,D15) -> 164.81326 | H8: =SUM(B8:G8) -> 21778.455
A9: A. Actividades de combustión | B9: =SUM(B10:B14) -> 21129.025 | C9: =SUM(C10:C14) -> 163.59748 | D9: =SUM(D10:D14) -> 164.8091 | H9: =SUM(B9:G9) -> 21457.432
A10: 1. Industrias del Sector Energético | B10: 10496.695 | C10: 3.7321662 | D10: 51.567499 | H10: =SUM(B10:G10) -> 10551.995
A11: 2. Industrias manufactureras y de la construcción | B11: 1988.696 | C11: 36.846574 | D11: 18.664655 | H11: =SUM(B11:G11) -> 2044.2072
A12: 3. Transporte | B12: 5163.8075 | C12: 4.785494 | D12: 55.577157 | H12: =SUM(B12:G12) -> 5224.1701
A13: 4. Otros Sectores | B13: 3458.94 | C13: 118.22742 | D13: 38.816076 | H13: =SUM(B13:G13) -> 3615.9834
A14: 5. Otros | B14: 20.886698 | C14: 0.00583065 | D14: 0.18370985 | H14: =SUM(B14:G14) -> 21.076238
A15: B. Emisiones fugitivas de los combustibles | B15: =SUM(B16:B17) -> 314.36984 | C15: =SUM(C16:C17) -> 6.6487134 | D15: =SUM(D16:D17) -> 0.004167232 | H15: =SUM(B15:G15) -> 321.02272
A16: 1. Combustibles sólidos | H16: =SUM(B16:G16) -> 0
A17: 2. Petróleo y gas natural | B17: 314.36984 | C17: 6.6487134 | D17: 0.004167232 | H17: =SUM(B17:G17) -> 321.02272
A18: 2.. Procesos Industriales | B18: =SUM(B19:B26) -> 1300.8612 | C18: =SUM(C19:C26) -> 2.33064 | D18: =SUM(D19:D26) -> 19.210332 | E18: =SUM(E19:E26) -> 523.55404 | F18: =SUM(F19:F26) -> 68.642326 | G18: =SUM(G19:G26) -> 17.094383 | H18: =SUM(B18:G18) -> 1931.6929
A19: A. Productos Minerales | B19: 87.702107 | H19: =SUM(B19:G19) -> 87.702107
A20: B. Industria química | B20: 191.41839 | H20: =SUM(B20:G20) -> 191.41839
A21: C. Producción metalúrgica | B21: 974.15125 | C21: 2.33064 | F21: 68.307906 | H21: =SUM(B21:G21) -> 1044.7898
A22: D. Productos no energéticos y uso de disolventes | B22: 47.589475 | H22: =SUM(B22:G22) -> 47.589475
A23: E. Industria electrónica | H23: =SUM(B23:G23) -> 0
A24: F. Uso de sustitutivos de los GEIs | E24: 523.55404 | F24: 0.33441969 | H24: =SUM(B24:G24) -> 523.88846
A25: G. producción y uso de otros productos | D25: 19.210332 | G25: 17.094383 | H25: =SUM(B25:G25) -> 36.304715
A26: H. Otros | H26: =SUM(B26:G26) -> 0
A27: 3. Agricultura | B27: =SUM(B28:B36) -> 21.02842 | C27: =SUM(C28:C36) -> 2579.1639 | D27: =SUM(D28:D36) -> 1095.8303 | H27: =SUM(B27:G27) -> 3696.0226
A28: A. Fermentación entérica | C28: 2043.1553 | H28: =SUM(B28:G28) -> 2043.1553
A29: B. Gestión del estiércol | C29: 535.79333 | D29: 203.86342 | H29: =SUM(B29:G29) -> 739.65675
A30: C. Cultivo de arroz | H30: =SUM(B30:G30) -> 0
A31: D. Suelos agrícolas | D31: 891.90032 | H31: =SUM(B31:G31) -> 891.90032
A32: E. Quemas planificadas de sabanas | H32: =SUM(B32:G32) -> 0
A33: F. Quema en el campo de residuos agrícolas | C33: 0.21524067 | D33: 0.066517772 | H33: =SUM(B33:G33) -> 0.28175845
A34: G. Enmiendas calizas | H34: =SUM(B34:G34) -> 0
A35: H. Fertilización con urea | B35: 18.79699
A36: I. Aplicación fertilizante con carbono | B36: 2.23143 | H36: =SUM(B36:G36) -> 2.23143
A37: 4. Cambios de uso del suelo y silvicultura | H37: =SUM(B37:G37) -> 0
A38: 5. Tratamiento y eliminación de residuos | B38: =SUM(B39:B43) -> 0 | C38: =SUM(C39:C43) -> 392.20372 | D38: =SUM(D39:D43) -> 53.524591 | H38: =SUM(B38:G38) -> 445.72831
A39: A. Depósito en vertederos | C39: 302.85311 | H39: =SUM(B39:G39) -> 302.85311
A40: B. Tratmiento biológico de residuos sólidos | C40: 1.9012052 | D40: 0.67965456 | H40: =SUM(B40:G40) -> 2.5808598
A41: C. Incineración de residuos | C41: 0.79657175 | D41: 2.9477418 | H41: =SUM(B41:G41) -> 3.7443136
A42: D. Tratmiento de aguas residuales | C42: 86.627986 | D42: 49.897194 | H42: =SUM(B42:G42) -> 136.52518
A43: E. Otros | C43: 0.024845025 | H43: =SUM(B43:G43) -> 0.024845025
A44: 6. Otros | H44: =SUM(B44:G44) -> 0

Sheet Galicia 2017
A1: EMISIONES DE CO2 EQUIVALENTE | H1: Galicia
H2: Año 2017
A5: GASES DE EFECTO INVERNADERO | B5: CO2 | C5: CH4 | D5: N2O | E5: HFCs | F5: PFCs | G5: SF6 | H5: Total
A6: CATEGORÍAS DE ACTIVIDAD | B6: CO2 equivalente (Kilotoneladas)
A7: Total Emisiones | B7: =SUM(B8,B18,B27,B37,B38,B44) -> 24607.309 | C7: =SUM(C8,C18,C27,C37,C38,C44) -> 3153.1054 | D7: =SUM(D8,D18,D27,D37,D38,D44) -> 1319.4382 | E7: =SUM(E8,E18,E27,E37,E38,E44) -> 427.14736 | F7: =SUM(F8,F18,F27,F37,F38,F44) -> 95.830223 | G7: =SUM(G8,G18,G27,G37,G38,G44) -> 17.074791 | H7: =SUM(B7:G7) -> 29619.905
A8: 1. Procesado de la energía | B8: =SUM(B9,B15) -> 23170.234 | C8: =SUM(C9,C15) -> 181.43604 | D8: =SUM(D9,D15) -> 174.9798 | H8: =SUM(B8:G8) -> 23526.65
A9: A. Actividades de combustión | B9: =SUM(B10:B14) -> 22888.541 | C9: =SUM(C10:C14) -> 175.00173 | D9: =SUM(D10:D14) -> 174.97562 | H9: =SUM(B9:G9) -> 23238.518
A10: 1. Industrias del Sector Energético | B10: 12269.453 | C10: 5.3435323 | D10: 64.064462 | H10: =SUM(B10:G10) -> 12338.861
A11: 2. Industrias manufactureras y de la construcción | B11: 2307.3982 | C11: 47.252352 | D11: 18.19457 | H11: =SUM(B11:G11) -> 2372.8451
A12: 3. Transporte | B12: 5033.522 | C12: 4.6166716 | D12: 54.601814 | H12: =SUM(B12:G12) -> 5092.7405
A13: 4. Otros Sectores | B13: 3258.366 | C13: 117.78366 | D13: 37.940737 | H13: =SUM(B13:G13) -> 3414.0904
A14: 5. Otros | B14: 19.801553 | C14: 0.005507875 | D14: 0.17403826 | H14: =SUM(B14:G14) -> 19.981099
A15: B. Emisiones fugitivas de los combustibles | B15: =SUM(B16:B17) -> 281.69363 | C15: =SUM(C16:C17) -> 6.4343132 | D15: =SUM(D16:D17) -> 0.0041770849 | H15: =SUM(B15:G15) -> 288.13212
A16: 1. Combustibles sólidos | H16: =SUM(B16:G16) -> 0
A17: 2. Petróleo y gas natural | B17: 281.69363 | C17: 6.4343132 | D17: 0.0041770849 | H17: =SUM(B17:G17) -> 288.13212
A18: 2.. Procesos Industriales | B18: =SUM(B19:B26) -> 1414.707 | C18: =SUM(C19:C26) -> 2.458755 | D18: =SUM(D19:D26) -> 19.758281 | E18: =SUM(E19:E26) -> 427.14736 | F18: =SUM(F19:F26) -> 95.830223 | G18: =SUM(G19:G26) -> 17.074791 | H18: =SUM(B18:G18) -> 1976.9764
A19: A. Productos Minerales | B19: 196.07208 | H19: =SUM(B19:G19) -> 196.07208
A20: B. Industria química | B20: 190.05928 | H20: =SUM(B20:G20) -> 190.05928
A21: C. Producción metalúrgica | B21: 979.80605 | C21: 2.458755 | F21: 95.349355 | H21: =SUM(B21:G21) -> 1077.6142
A22: D. Productos no energéticos y uso de disolventes | B22: 48.769548 | H22: =SUM(B22:G22) -> 48.769548
A23: E. Industria electrónica | H23: =SUM(B23:G23) -> 0
A24: F. Uso de sustitutivos de los GEIs | E24: 427.14736 | F24: 0.48086811 | H24: =SUM(B24:G24) -> 427.62823
A25: G. producción y uso de otros productos | D25: 19.758281 | G25: 17.074791 | H25: =SUM(B25:G25) -> 36.833072
A26: H. Otros | H26: =SUM(B26:G26) -> 0
A27: 3. Agricultura | B27: =SUM(B28:B36) -> 22.36803 | C27: =SUM(C28:C36) -> 2590.2649 | D27: =SUM(D28:D36) -> 1072.9147 | H27: =SUM(B27:G27) -> 3685.5476
A28: A. Fermentación entérica | C28: 2028.063 | H28: =SUM(B28:G28) -> 2028.063
A29: B. Gestión del estiércol | C29: 562.00175 | D29: 199.29948 | H29: =SUM(B29:G29) -> 761.30122
A30: C. Cultivo de arroz | H30: =SUM(B30:G30) -> 0
A31: D. Suelos agrícolas | D31: 873.55338 | H31: =SUM(B31:G31) -> 873.55338
A32: E. Quemas planificadas de sabanas | H32: =SUM(B32:G32) -> 0
A33: F. Quema en el campo de residuos agrícolas | C33: 0.20013758 | D33: 0.0618499 | H33: =SUM(B33:G33) -> 0.26198748
A34: G. Enmiendas calizas | H34: =SUM(B34:G34) -> 0
A35: H. Fertilización con urea | B35: 20.587129
A36: I. Aplicación fertilizante con carbono | B36: 1.780901 | H36: =SUM(B36:G36) -> 1.780901
A37: 4. Cambios de uso del suelo y silvicultura | H37: =SUM(B37:G37) -> 0
A38: 5. Tratamiento y eliminación de residuos | B38: =SUM(B39:B43) -> 0 | C38: =SUM(C39:C43) -> 378.94568 | D38: =SUM(D39:D43) -> 51.78546 | H38: =SUM(B38:G38) -> 430.73115
A39: A. Depósito en vertederos | C39: 294.00814 | H39: =SUM(B39:G39) -> 294.00814
A40: B. Tratmiento biológico de residuos sólidos | C40: 1.9681158 | D40: 0.66613728 | H40: =SUM(B40:G40) -> 2.6342531
A41: C. Incineración de residuos | C41: 0.94100524 | D41: 2.802974 | H41: =SUM(B41:G41) -> 3.7439792
A42: D. Tratmiento de aguas residuales | C42: 82.00857 | D42: 48.316349 | H42: =SUM(B42:G42) -> 130.32492
A43: E. Otros | C43: 0.019858475 | H43: =SUM(B43:G43) -> 0.019858475
A44: 6. Otros | H44: =SUM(B44:G44) -> 0

Sheet Galicia 2018
A1: EMISIONES DE CO2 EQUIVALENTE | H1: Galicia
H2: Año 2018
A5: GASES DE EFECTO INVERNADERO | B5: CO2 | C5: CH4 | D5: N2O | E5: HFCs | F5: PFCs | G5: SF6 | H5: Total
A6: CATEGORÍAS DE ACTIVIDAD | B6: CO2 equivalente (Kilotoneladas)
A7: Total Emisiones | B7: =SUM(B8,B18,B27,B37,B38,B44) -> 24197.609 | C7: =SUM(C8,C18,C27,C37,C38,C44) -> 3126.4153 | D7: =SUM(D8,D18,D27,D37,D38,D44) -> 1312.4689 | E7: =SUM(E8,E18,E27,E37,E38,E44) -> 365.29574 | F7: =SUM(F8,F18,F27,F37,F38,F44) -> 100.38366 | G7: =SUM(G8,G18,G27,G37,G38,G44) -> 17.183293 | H7: =SUM(B7:G7) -> 29119.356
A8: 1. Procesado de la energía | B8: =SUM(B9,B15) -> 22687.227 | C8: =SUM(C9,C15) -> 186.85986 | D8: =SUM(D9,D15) -> 168.17981 | H8: =SUM(B8:G8) -> 23042.267
A9: A. Actividades de combustión | B9: =SUM(B10:B14) -> 22358.298 | C9: =SUM(C10:C14) -> 178.26362 | D9: =SUM(D10:D14) -> 168.172 | H9: =SUM(B9:G9) -> 22704.734
A10: 1. Industrias del Sector Energético | B10: 11615.123 | C10: 3.9523651 | D10: 56.169084 | H10: =SUM(B10:G10) -> 11675.245
A11: 2. Industrias manufactureras y de la construcción | B11: 2434.5891 | C11: 52.055762 | D11: 17.55119 | H11: =SUM(B11:G11) -> 2504.196
A12: 3. Transporte | B12: 5097.8591 | C12: 4.6051861 | D12: 57.167536 | H12: =SUM(B12:G12) -> 5159.6318
A13: 4. Otros Sectores | B13: 3193.4849 | C13: 117.64512 | D13: 37.128358 | H13: =SUM(B13:G13) -> 3348.2584
A14: 5. Otros | B14: 17.241511 | C14: 0.005182425 | D14: 0.15583046 | H14: =SUM(B14:G14) -> 17.402524
A15: B. Emisiones fugitivas de los combustibles | B15: =SUM(B16:B17) -> 328.92889 | C15: =SUM(C16:C17) -> 8.5962407 | D15: =SUM(D16:D17) -> 0.0078147812 | H15: =SUM(B15:G15) -> 337.53294
A16: 1. Combustibles sólidos | H16: =SUM(B16:G16) -> 0
A17: 2. Petróleo y gas natural | B17: 328.92889 | C17: 8.5962407 | D17: 0.0078147812 | H17: =SUM(B17:G17) -> 337.53294
A18: 2.. Procesos Industriales | B18: =SUM(B19:B26) -> 1490.083 | C18: =SUM(C19:C26) -> 2.8714484 | D18: =SUM(D19:D26) -> 23.433325 | E18: =SUM(E19:E26) -> 365.29574 | F18: =SUM(F19:F26) -> 100.38366 | G18: =SUM(G19:G26) -> 17.183293 | H18: =SUM(B18:G18) -> 1999.2505
A19: A. Productos Minerales | B19: 205.73984 | H19: =SUM(B19:G19) -> 205.73984
A20: B. Industria química | B20: 197.26148 | H20: =SUM(B20:G20) -> 197.26148
A21: C. Producción metalúrgica | B21: 1037.6846 | C21: 2.8714484 | F21: 99.981494 | H21: =SUM(B21:G21) -> 1140.5376
A22: D. Productos no energéticos y uso de disolventes | B22: 49.39706 | H22: =SUM(B22:G22) -> 49.39706
A23: E. Industria electrónica | H23: =SUM(B23:G23) -> 0
A24: F. Uso de sustitutivos de los GEIs | E24: 365.29574 | F24: 0.40216935 | H24: =SUM(B24:G24) -> 365.69791
A25: G. producción y uso de otros productos | D25: 23.433325 | G25: 17.183293 | H25: =SUM(B25:G25) -> 40.616618
A26: H. Otros | H26: =SUM(B26:G26) -> 0
A27: 3. Agricultura | B27: =SUM(B28:B36) -> 20.298986 | C27: =SUM(C28:C36) -> 2559.026 | D27: =SUM(D28:D36) -> 1068.6028 | H27: =SUM(B27:G27) -> 3647.9277
A28: A. Fermentación entérica | C28: 2000.8046 | H28: =SUM(B28:G28) -> 2000.8046
A29: B. Gestión del estiércol | C29: 558.02214 | D29: 201.00801 | H29: =SUM(B29:G29) -> 759.03015
A30: C. Cultivo de arroz | H30: =SUM(B30:G30) -> 0
A31: D. Suelos agrícolas | D31: 867.53321 | H31: =SUM(B31:G31) -> 867.53321
A32: E. Quemas planificadas de sabanas | H32: =SUM(B32:G32) -> 0
A33: F. Quema en el campo de residuos agrícolas | C33: 0.19921997 | D33: 0.061566204 | H33: =SUM(B33:G33) -> 0.26078618
A34: G. Enmiendas calizas | H34: =SUM(B34:G34) -> 0
A35: H. Fertilización con urea | B35: 17.671983
A36: I. Aplicación fertilizante con carbono | B36: 2.627003 | H36: =SUM(B36:G36) -> 2.627003
A37: 4. Cambios de uso del suelo y silvicultura | H37: =SUM(B37:G37) -> 0
A38: 5. Tratamiento y eliminación de residuos | B38: =SUM(B39:B43) -> 0 | C38: =SUM(C39:C43) -> 377.65809 | D38: =SUM(D39:D43) -> 52.253017 | H38: =SUM(B38:G38) -> 429.9111
A39: A. Depósito en vertederos | C39: 293.67282 | H39: =SUM(B39:G39) -> 293.67282
A40: B. Tratmiento biológico de residuos sólidos | C40: 2.1367408 | D40: 0.67743744 | H40: =SUM(B40:G40) -> 2.8141782
A41: C. Incineración de residuos | C41: 0.89688563 | D41: 2.6684216 | H41: =SUM(B41:G41) -> 3.5653073
A42: D. Tratmiento de aguas residuales | C42: 80.938912 | D42: 48.907158 | H42: =SUM(B42:G42) -> 129.84607
A43: E. Otros | C43: 0.01272955 | H43: =SUM(B43:G43) -> 0.01272955
A44: 6. Otros | H44: =SUM(B44:G44) -> 0

Sheet Galicia 2019
A1: EMISIONES DE CO2 EQUIVALENTE | H1: Galicia
H2: Año 2019
A5: GASES DE EFECTO INVERNADERO | B5: CO2 | C5: CH4 | D5: N2O | E5: HFCs | F5: PFCs | G5: SF6 | H5: Total
A6: CATEGORÍAS DE ACTIVIDAD | B6: CO2 equivalente (Kilotoneladas)
A7: Total Emisiones | B7: =SUM(B8,B18,B27,B37,B38,B44) -> 16751.451 | C7: =SUM(C8,C18,C27,C37,C38,C44) -> 3118.9999 | D7: =SUM(D8,D18,D27,D37,D38,D44) -> 1310.8222 | E7: =SUM(E8,E18,E27,E37,E38,E44) -> 341.32158 | F7: =SUM(F8,F18,F27,F37,F38,F44) -> 37.407897 | G7: =SUM(G8,G18,G27,G37,G38,G44) -> 17.26262 | H7: =SUM(B7:G7) -> 21577.265
A8: 1. Procesado de la energía | B8: =SUM(B9,B15) -> 15545.648 | C8: =SUM(C9,C15) -> 182.48203 | D8: =SUM(D9,D15) -> 147.09709 | H8: =SUM(B8:G8) -> 15875.227
A9: A. Actividades de combustión | B9: =SUM(B10:B14) -> 15216.093 | C9: =SUM(C10:C14) -> 174.35805 | D9: =SUM(D10:D14) -> 147.09173 | H9: =SUM(B9:G9) -> 15537.543
A10: 1. Industrias del Sector Energético | B10: 4760.7878 | C10: 3.9401249 | D10: 37.336582 | H10: =SUM(B10:G10) -> 4802.0645
A11: 2. Industrias manufactureras y de la construcción | B11: 2398.1629 | C11: 49.419034 | D11: 16.874637 | H11: =SUM(B11:G11) -> 2464.4566
A12: 3. Transporte | B12: 5066.2362 | C12: 4.8113451 | D12: 56.327007 | H12: =SUM(B12:G12) -> 5127.3746
A13: 4. Otros Sectores | B13: 2974.1794 | C13: 116.18217 | D13: 36.402452 | H13: =SUM(B13:G13) -> 3126.764
A14: 5. Otros | B14: 16.72657 | C14: 0.005383 | D14: 0.15105382 | H14: =SUM(B14:G14) -> 16.883007
A15: B. Emisiones fugitivas de los combustibles | B15: =SUM(B16:B17) -> 329.5547 | C15: =SUM(C16:C17) -> 8.1239733 | D15: =SUM(D16:D17) -> 0.0053624744 | H15: =SUM(B15:G15) -> 337.68404
A16: 1. Combustibles sólidos | H16: =SUM(B16:G16) -> 0
A17: 2. Petróleo y gas natural | B17: 329.5547 | C17: 8.1239733 | D17: 0.0053624744 | H17: =SUM(B17:G17) -> 337.68404
A18: 2.. Procesos Industriales | B18: =SUM(B19:B26) -> 1187.1503 | C18: =SUM(C19:C26) -> 2.2001525 | D18: =SUM(D19:D26) -> 32.710109 | E18: =SUM(E19:E26) -> 341.32158 | F18: =SUM(F19:F26) -> 37.407897 | G18: =SUM(G19:G26) -> 17.26262 | H18: =SUM(B18:G18) -> 1618.0526
A19: A. Productos Minerales | B19: 205.41099 | H19: =SUM(B19:G19) -> 205.41099
A20: B. Industria química | B20: 190.61246 | H20: =SUM(B20:G20) -> 190.61246
A21: C. Producción metalúrgica | B21: 742.02044 | C21: 2.2001525 | F21: 36.717489 | H21: =SUM(B21:G21) -> 780.93808
A22: D. Productos no energéticos y uso de disolventes | B22: 49.106379 | H22: =SUM(B22:G22) -> 49.106379
A23: E. Industria electrónica | H23: =SUM(B23:G23) -> 0
A24: F. Uso de sustitutivos de los GEIs | E24: 341.32158 | F24: 0.69040829 | H24: =SUM(B24:G24) -> 342.01199
A25: G. producción y uso de otros productos | D25: 32.710109 | G25: 17.26262 | H25: =SUM(B25:G25) -> 49.972729
A26: H. Otros | H26: =SUM(B26:G26) -> 0
A27: 3. Agricultura | B27: =SUM(B28:B36) -> 18.653317 | C27: =SUM(C28:C36) -> 2571.9697 | D27: =SUM(D28:D36) -> 1079.431 | H27: =SUM(B27:G27) -> 3670.054
A28: A. Fermentación entérica | C28: 2000.6188 | H28: =SUM(B28:G28) -> 2000.6188
A29: B. Gestión del estiércol | C29: 571.16134 | D29: 204.26613 | H29: =SUM(B29:G29) -> 775.42747
A30: C. Cultivo de arroz | H30: =SUM(B30:G30) -> 0
A31: D. Suelos agrícolas | D31: 875.10632 | H31: =SUM(B31:G31) -> 875.10632
A32: E. Quemas planificadas de sabanas | H32: =SUM(B32:G32) -> 0
A33: F. Quema en el campo de residuos agrícolas | C33: 0.18956105 | D33: 0.058581436 | H33: =SUM(B33:G33) -> 0.24814249
A34: G. Enmiendas calizas | H34: =SUM(B34:G34) -> 0
A35: H. Fertilización con urea | B35: 16.102671
A36: I. Aplicación fertilizante con carbono | B36: 2.550646 | H36: =SUM(B36:G36) -> 2.550646
A37: 4. Cambios de uso del suelo y silvicultura | H37: =SUM(B37:G37) -> 0
A38: 5. Tratamiento y eliminación de residuos | B38: =SUM(B39:B43) -> 0 | C38: =SUM(C39:C43) -> 362.34809 | D38: =SUM(D39:D43) -> 51.583971 | H38: =SUM(B38:G38) -> 413.93206
A39: A. Depósito en vertederos | C39: 287.26179 | H39: =SUM(B39:G39) -> 287.26179
A40: B. Tratmiento biológico de residuos sólidos | C40: 2.1799518 | D40: 0.76826784 | H40: =SUM(B40:G40) -> 2.9482196
A41: C. Incineración de residuos | C41: 0.91396563 | D41: 2.5178333 | H41: =SUM(B41:G41) -> 3.4317989
A42: D. Tratmiento de aguas residuales | C42: 71.979655 | D42: 48.29787 | H42: =SUM(B42:G42) -> 120.27753
A43: E. Otros | C43: 0.012729525 | H43: =SUM(B43:G43) -> 0.012729525
A44: 6. Otros | H44: =SUM(B44:G44) -> 0

Sheet Galicia 2020
A1: EMISIONES DE CO2 EQUIVALENTE | H1: Galicia
H2: Año 2020
A5: GASES DE EFECTO INVERNADERO | B5: CO2 | C5: CH4 | D5: N2O | E5: HFCs | F5: PFCs | G5: SF6 | H5: Total
A6: CATEGORÍAS DE ACTIVIDAD | B6: CO2 equivalente (Kilotoneladas)
A7: Total Emisiones | B7: =SUM(B8,B18,B27,B37,B38,B44) -> 13818.036 | C7: =SUM(C8,C18,C27,C37,C38,C44) -> 3136.3371 | D7: =SUM(D8,D18,D27,D37,D38,D44) -> 1312.7103 | E7: =SUM(E8,E18,E27,E37,E38,E44) -> 293.53388 | F7: =SUM(F8,F18,F27,F37,F38,F44) -> 25.024664 | G7: =SUM(G8,G18,G27,G37,G38,G44) -> 17.462646 | H7: =SUM(B7:G7) -> 18603.104
A8: 1. Procesado de la energía | B8: =SUM(B9,B15) -> 12854.213 | C8: =SUM(C9,C15) -> 172.48169 | D8: =SUM(D9,D15) -> 123.92577 | H8: =SUM(B8:G8) -> 13150.621
A9: A. Actividades de combustión | B9: =SUM(B10:B14) -> 12563.5 | C9: =SUM(C10:C14) -> 166.51492 | D9: =SUM(D10:D14) -> 123.91987 | H9: =SUM(B9:G9) -> 12853.934
A10: 1. Industrias del Sector Energético | B10: 3266.8565 | C10: 1.9043898 | D10: 25.396949 | H10: =SUM(B10:G10) -> 3294.1578
A11: 2. Industrias manufactureras y de la construcción | B11: 2140.8647 | C11: 44.702269 | D11: 14.924276 | H11: =SUM(B11:G11) -> 2200.4913
A12: 3. Transporte | B12: 4136.4591 | C12: 3.6223617 | D12: 46.447885 | H12: =SUM(B12:G12) -> 4186.5294
A13: 4. Otros Sectores | B13: 3004.4104 | C13: 116.28094 | D13: 37.014095 | H13: =SUM(B13:G13) -> 3157.7055
A14: 5. Otros | B14: 14.908842 | C14: 0.004965175 | D14: 0.13666399 | H14: =SUM(B14:G14) -> 15.050471
A15: B. Emisiones fugitivas de los combustibles | B15: =SUM(B16:B17) -> 290.7138 | C15: =SUM(C16:C17) -> 5.9667636 | D15: =SUM(D16:D17) -> 0.0059052167 | H15: =SUM(B15:G15) -> 296.68647
A16: 1. Combustibles sólidos | H16: =SUM(B16:G16) -> 0
A17: 2. Petróleo y gas natural | B17: 290.7138 | C17: 5.9667636 | D17: 0.0059052167 | H17: =SUM(B17:G17) -> 296.68647
A18: 2.. Procesos Industriales | B18: =SUM(B19:B26) -> 942.33604 | C18: =SUM(C19:C26) -> 1.2038175 | D18: =SUM(D19:D26) -> 37.585408 | E18: =SUM(E19:E26) -> 293.53388 | F18: =SUM(F19:F26) -> 25.024664 | G18: =SUM(G19:G26) -> 17.462646 | H18: =SUM(B18:G18) -> 1317.1465
A19: A. Productos Minerales | B19: 108.44251 | H19: =SUM(B19:G19) -> 108.44251
A20: B. Industria química | B20: 193.55686 | H20: =SUM(B20:G20) -> 193.55686
A21: C. Producción metalúrgica | B21: 592.75783 | C21: 1.2038175 | F21: 24.60564 | H21: =SUM(B21:G21) -> 618.56728
A22: D. Productos no energéticos y uso de disolventes | B22: 47.578841 | H22: =SUM(B22:G22) -> 47.578841
A23: E. Industria electrónica | H23: =SUM(B23:G23) -> 0
A24: F. Uso de sustitutivos de los GEIs | E24: 293.53388 | F24: 0.41902386 | H24: =SUM(B24:G24) -> 293.9529
A25: G. producción y uso de otros productos | D25: 37.585408 | G25: 17.462646 | H25: =SUM(B25:G25) -> 55.048054
A26: H. Otros | H26: =SUM(B26:G26) -> 0
A27: 3. Agricultura | B27: =SUM(B28:B36) -> 21.486207 | C27: =SUM(C28:C36) -> 2609.2018 | D27: =SUM(D28:D36) -> 1093.6701 | H27: =SUM(B27:G27) -> 3724.3581
A28: A. Fermentación entérica | C28: 2013.5811 | H28: =SUM(B28:G28) -> 2013.5811
A29: B. Gestión del estiércol | C29: 595.43116 | D29: 204.09385 | H29: =SUM(B29:G29) -> 799.52501
A30: C. Cultivo de arroz | H30: =SUM(B30:G30) -> 0
A31: D. Suelos agrícolas | D31: 889.51763 | H31: =SUM(B31:G31) -> 889.51763
A32: E. Quemas planificadas de sabanas | H32: =SUM(B32:G32) -> 0
A33: F. Quema en el campo de residuos agrícolas | C33: 0.18956105 | D33: 0.058581436 | H33: =SUM(B33:G33) -> 0.24814249
A34: G. Enmiendas calizas | H34: =SUM(B34:G34) -> 0
A35: H. Fertilización con urea | B35: 19.275901
A36: I. Aplicación fertilizante con carbono | B36: 2.210306 | H36: =SUM(B36:G36) -> 2.210306
A37: 4. Cambios de uso del suelo y silvicultura | H37: =SUM(B37:G37) -> 0
A38: 5. Tratamiento y eliminación de residuos | B38: =SUM(B39:B43) -> 0 | C38: =SUM(C39:C43) -> 353.4498 | D38: =SUM(D39:D43) -> 57.52908 | H38: =SUM(B38:G38) -> 410.97888
A39: A. Depósito en vertederos | C39: 280.88713 | H39: =SUM(B39:G39) -> 280.88713
A40: B. Tratmiento biológico de residuos sólidos | C40: 2.2068058 | D40: 0.76826784 | H40: =SUM(B40:G40) -> 2.9750736
A41: C. Incineración de residuos | C41: 0.91404768 | D41: 2.6275807 | H41: =SUM(B41:G41) -> 3.5416284
A42: D. Tratmiento de aguas residuales | C42: 69.429094 | D42: 54.133232 | H42: =SUM(B42:G42) -> 123.56233
A43: E. Otros | C43: 0.01272955 | H43: =SUM(B43:G43) -> 0.01272955
A44: 6. Otros | H44: =SUM(B44:G44) -> 0

Sheet Gráficos evolución
A2: Galicia
A4: EVOLUCIÓN DE LA EMISIONES DE CO2 EQUIVALENTE POR SECTOR DE ACTIVIDAD
A6: SECTOR | B6: 1990 | C6: 1991 | D6: 1992 | E6: 1993 | F6: 1994 | G6: 1995 | H6: 1996 | I6: 1997 | J6: 1998 | K6: 1999 | L6: 2000 | M6: 2001 | N6: 2002 | O6: 2003 | P6: 2004 | Q6: 2005 | R6: 2006 | S6: 2007 | T6: 2008 | U6: 2009 | V6: 2010 | W6: 2011 | X6: 2012 | Y6: 2013 | Z6: 2014 | AA6: 2015 | AB6: 2016 | AC6: 2017 | AD6: 2018 | AE6: 2019 | AF6: 2020
A7: 1. Procesado de la energía | B7: ='Galicia 1990'!H8 -> 23148.966 | C7: ='Galicia 1991'!H8 -> 22740.947 | D7: ='Galicia 1992'!H8 -> 24741.745 | E7: ='Galicia 1993'!H8 -> 24680.697 | F7: ='Galicia 1994'!H8 -> 23985.342 | G7: ='Galicia 1995'!H8 -> 25943.564 | H7: ='Galicia 1996'!H8 -> 24321.708 | I7: ='Galicia 1997'!H8 -> 23221.455 | J7: ='Galicia 1998'!H8 -> 26112.61 | K7: ='Galicia 1999'!H8 -> 26458.157 | L7: ='Galicia 2000'!H8 -> 27675.927 | M7: ='Galicia 2001'!H8 -> 28337.032 | N7: ='Galicia 2002'!H8 -> 30241.277 | O7: ='Galicia 2003'!H8 -> 29226.694 | P7: ='Galicia 2004'!H8 -> 30357.498 | Q7: ='Galicia 2005'!H8 -> 29081.533 | R7: ='Galicia 2006'!H8 -> 28041.647 | S7: ='Galicia 2007'!H8 -> 29198.852 | T7: ='Galicia 2008'!H8 -> 23379.14 | U7: ='Galicia 2009'!H8 -> 21680.918 | V7: ='Galicia 2010'!H8 -> 19963.634 | W7: ='Galicia 2011'!H8 -> 21521.701 | X7: ='Galicia 2012'!H8 -> 24480.013 | Y7: ='Galicia 2013'!H8 -> 21508.213 | Z7: ='Galicia 2014'!H8 -> 21693.746 | AA7: ='Galicia 2015'!H8 -> 23040.859 | AB7: ='Galicia 2016'!H8 -> 21778.455 | AC7: ='Galicia 2017'!H8 -> 23526.65 | AD7: ='Galicia 2018'!H8 -> 23042.267 | AE7: ='Galicia 2019'!H8 -> 15875.227 | AF7: ='Galicia 2020'!H8 -> 13150.621
A8: 2. Procesos Industriales y uso de productos | B8: ='Galicia 1990'!H18 -> 2091.9517 | C8: ='Galicia 1991'!H18 -> 1986.358 | D8: ='Galicia 1992'!H18 -> 1858.5536 | E8: ='Galicia 1993'!H18 -> 1894.5661 | F8: ='Galicia 1994'!H18 -> 1997.9186 | G8: ='Galicia 1995'!H18 -> 2127.7874 | H8: ='Galicia 1996'!H18 -> 2087.1331 | I8: ='Galicia 1997'!H18 -> 2159.972 | J8: ='Galicia 1998'!H18 -> 2210.8789 | K8: ='Galicia 1999'!H18 -> 2257.9144 | L8: ='Galicia 2000'!H18 -> 2010.3154 | M8: ='Galicia 2001'!H18 -> 1914.5547 | N8: ='Galicia 2002'!H18 -> 2060.3073 | O8: ='Galicia 2003'!H18 -> 2185.8626 | P8: ='Galicia 2004'!H18 -> 2332.0848 | Q8: ='Galicia 2005'!H18 -> 2358.8263 | R8: ='Galicia 2006'!H18 -> 2621.6788 | S8: ='Galicia 2007'!H18 -> 2755.5663 | T8: ='Galicia 2008'!H18 -> 2815.4028 | U8: ='Galicia 2009'!H18 -> 2305.9432 | V8: ='Galicia 2010'!H18 -> 2615.6914 | W8: ='Galicia 2011'!H18 -> 2585.4533 | X8: ='Galicia 2012'!H18 -> 2465.7707 | Y8: ='Galicia 2013'!H18 -> 2337.726 | Z8: ='Galicia 2014'!H18 -> 2359.5118 | AA8: ='Galicia 2015'!H18 -> 1968.71 | AB8: ='Galicia 2016'!H18 -> 1931.6929 | AC8: ='Galicia 2017'!H18 -> 1976.9764 | AD8: ='Galicia 2018'!H18 -> 1999.2505 | AE8: ='Galicia 2019'!H18 -> 1618.0526 | AF8: ='Galicia 2020'!H18 -> 1317.1465
A9: 3. Agricultura | B9: ='Galicia 1990'!H27 -> 3095.9978 | C9: ='Galicia 1991'!H27 -> 3307.6148 | D9: ='Galicia 1992'!H27 -> 3322.5431 | E9: ='Galicia 1993'!H27 -> 3290.4078 | F9: ='Galicia 1994'!H27 -> 3305.7711 | G9: ='Galicia 1995'!H27 -> 3616.3785 | H9: ='Galicia 1996'!H27 -> 3770.4315 | I9: ='Galicia 1997'!H27 -> 3625.0911 | J9: ='Galicia 1998'!H27 -> 3680.9054 | K9: ='Galicia 1999'!H27 -> 3769.9817 | L9: ='Galicia 2000'!H27 -> 3804.9786 | M9: ='Galicia 2001'!H27 -> 3839.5577 | N9: ='Galicia 2002'!H27 -> 3995.1022 | O9: ='Galicia 2003'!H27 -> 3878.3007 | P9: ='Galicia 2004'!H27 -> 3761.8633 | Q9: ='Galicia 2005'!H27 -> 3791.8473 | R9: ='Galicia 2006'!H27 -> 3577.5739 | S9: ='Galicia 2007'!H27 -> 3618.8405 | T9: ='Galicia 2008'!H27 -> 3568.2621 | U9: ='Galicia 2009'!H27 -> 3567.9321 | V9: ='Galicia 2010'!H27 -> 3644.001 | W9: ='Galicia 2011'!H27 -> 3755.3888 | X9: ='Galicia 2012'!H27 -> 3693.2207 | Y9: ='Galicia 2013'!H27 -> 3730.6511 | Z9: ='Galicia 2014'!H27 -> 3763.8767 | AA9: ='Galicia 2015'!H27 -> 3759.5197 | AB9: ='Galicia 2016'!H27 -> 3696.0226 | AC9: ='Galicia 2017'!H27 -> 3685.5476 | AD9: ='Galicia 2018'!H27 -> 3647.9277 | AE9: ='Galicia 2019'!H27 -> 3670.054 | AF9: ='Galicia 2020'!H27 -> 3724.3581
A10: 5. Tratamiento y eliminación de residuos | B10: ='Galicia 1990'!H38 -> 676.56808 | C10: ='Galicia 1991'!H38 -> 683.7527 | D10: ='Galicia 1992'!H38 -> 700.63468 | E10: ='Galicia 1993'!H38 -> 698.50007 | F10: ='Galicia 1994'!H38 -> 708.14501 | G10: ='Galicia 1995'!H38 -> 697.93251 | H10: ='Galicia 1996'!H38 -> 705.48309 | I10: ='Galicia 1997'!H38 -> 725.55782 | J10: ='Galicia 1998'!H38 -> 726.43594 | K10: ='Galicia 1999'!H38 -> 726.13963 | L10: ='Galicia 2000'!H38 -> 733.64639 | M10: ='Galicia 2001'!H38 -> 728.88558 | N10: ='Galicia 2002'!H38 -> 665.83413 | O10: ='Galicia 2003'!H38 -> 620.76202 | P10: ='Galicia 2004'!H38 -> 565.95653 | Q10: ='Galicia 2005'!H38 -> 565.85244 | R10: ='Galicia 2006'!H38 -> 594.23942 | S10: ='Galicia 2007'!H38 -> 614.65495 | T10: ='Galicia 2008'!H38 -> 606.28757 | U10: ='Galicia 2009'!H38 -> 596.95149 | V10: ='Galicia 2010'!H38 -> 559.11385 | W10: ='Galicia 2011'!H38 -> 556.16883 | X10: ='Galicia 2012'!H38 -> 609.74005 | Y10: ='Galicia 2013'!H38 -> 504.41941 | Z10: ='Galicia 2014'!H38 -> 493.51717 | AA10: ='Galicia 2015'!H38 -> 465.57086 | AB10: ='Galicia 2016'!H38 -> 445.72831 | AC10: ='Galicia 2017'!H38 -> 430.73115 | AD10: ='Galicia 2018'!H38 -> 429.9111 | AE10: ='Galicia 2019'!H38 -> 413.93206 | AF10: ='Galicia 2020'!H38 -> 410.97888
A11: Total | B11: =SUM(B7:B10) -> 29013.483 | C11: =SUM(C7:C10) -> 28718.673 | D11: =SUM(D7:D10) -> 30623.477 | E11: =SUM(E7:E10) -> 30564.171 | F11: =SUM(F7:F10) -> 29997.177 | G11: =SUM(G7:G10) -> 32385.663 | H11: =SUM(H7:H10) -> 30884.756 | I11: =SUM(I7:I10) -> 29732.076 | ... AF11: =SUM(AF7:AF10) -> 18603.104
